BEGIN:VCALENDAR
VERSION:2.0
PRODID:-//Daily Deets - ECPv6.15.20//NONSGML v1.0//EN
CALSCALE:GREGORIAN
METHOD:PUBLISH
X-WR-CALNAME:Daily Deets
X-ORIGINAL-URL:https://deetslive.com
X-WR-CALDESC:Events for Daily Deets
REFRESH-INTERVAL;VALUE=DURATION:PT1H
X-Robots-Tag:noindex
X-PUBLISHED-TTL:PT1H
BEGIN:VTIMEZONE
TZID:America/New_York
BEGIN:DAYLIGHT
TZOFFSETFROM:-0500
TZOFFSETTO:-0400
TZNAME:EDT
DTSTART:20200308T070000
END:DAYLIGHT
BEGIN:STANDARD
TZOFFSETFROM:-0400
TZOFFSETTO:-0500
TZNAME:EST
DTSTART:20201101T060000
END:STANDARD
BEGIN:DAYLIGHT
TZOFFSETFROM:-0500
TZOFFSETTO:-0400
TZNAME:EDT
DTSTART:20210314T070000
END:DAYLIGHT
BEGIN:STANDARD
TZOFFSETFROM:-0400
TZOFFSETTO:-0500
TZNAME:EST
DTSTART:20211107T060000
END:STANDARD
BEGIN:DAYLIGHT
TZOFFSETFROM:-0500
TZOFFSETTO:-0400
TZNAME:EDT
DTSTART:20220313T070000
END:DAYLIGHT
BEGIN:STANDARD
TZOFFSETFROM:-0400
TZOFFSETTO:-0500
TZNAME:EST
DTSTART:20221106T060000
END:STANDARD
END:VTIMEZONE
BEGIN:VEVENT
DTSTART;TZID=America/New_York:20210712T180000
DTEND;TZID=America/New_York:20210712T190000
DTSTAMP:20260420T062205
CREATED:20210709T232435Z
LAST-MODIFIED:20210730T005007Z
UID:122782-1626112800-1626116400@deetslive.com
SUMMARY:Zumba with Dodge YMCA
DESCRIPTION:Dodge YMCA from Atlantic Ave in Brooklyn\, goes on the road a few miles every Monday to Pier 2 at Brooklyn Bridge Park. Classes are 6-7pm through October 25th.
URL:https://deetslive.com/event/zumba-with-dodge-ymca/
LOCATION:Brooklyn Bridge Park – Ping Pong Tables\, 334 Furman St.\, Brooklyn\, NY\, 11201
CATEGORIES:Fitness,Outdoor
ATTACH;FMTTYPE=image/jpeg:https://deetslive.com/wp-content/uploads/2021/06/Screen-Shot-2021-07-16-at-4.41.21-PM.jpg
END:VEVENT
BEGIN:VEVENT
DTSTART;TZID=America/New_York:20210712T180000
DTEND;TZID=America/New_York:20210712T190000
DTSTAMP:20260420T062205
CREATED:20210709T232435Z
LAST-MODIFIED:20210730T005007Z
UID:122782-1626112800-1626116400@deetslive.com
SUMMARY:Zumba with Dodge YMCA
DESCRIPTION:Dodge YMCA from Atlantic Ave in Brooklyn\, goes on the road a few miles every Monday to Pier 2 at Brooklyn Bridge Park. Classes are 6-7pm through October 25th.
URL:https://deetslive.com/event/zumba-with-dodge-ymca/
LOCATION:Brooklyn Bridge Park – Ping Pong Tables\, 334 Furman St.\, Brooklyn\, NY\, 11201
CATEGORIES:Fitness,Outdoor
ATTACH;FMTTYPE=image/jpeg:https://deetslive.com/wp-content/uploads/2021/06/Screen-Shot-2021-07-16-at-4.41.21-PM.jpg
END:VEVENT
BEGIN:VEVENT
DTSTART;TZID=America/New_York:20210712T180000
DTEND;TZID=America/New_York:20210712T190000
DTSTAMP:20260420T062205
CREATED:20210709T232435Z
LAST-MODIFIED:20210730T005007Z
UID:122782-1626112800-1626116400@deetslive.com
SUMMARY:Zumba with Dodge YMCA
DESCRIPTION:Dodge YMCA from Atlantic Ave in Brooklyn\, goes on the road a few miles every Monday to Pier 2 at Brooklyn Bridge Park. Classes are 6-7pm through October 25th.
URL:https://deetslive.com/event/zumba-with-dodge-ymca/
LOCATION:Brooklyn Bridge Park – Ping Pong Tables\, 334 Furman St.\, Brooklyn\, NY\, 11201
CATEGORIES:Fitness,Outdoor
ATTACH;FMTTYPE=image/jpeg:https://deetslive.com/wp-content/uploads/2021/06/Screen-Shot-2021-07-16-at-4.41.21-PM.jpg
END:VEVENT
BEGIN:VEVENT
DTSTART;TZID=America/New_York:20210712T180000
DTEND;TZID=America/New_York:20210712T190000
DTSTAMP:20260420T062205
CREATED:20210709T232435Z
LAST-MODIFIED:20210730T005007Z
UID:122782-1626112800-1626116400@deetslive.com
SUMMARY:Zumba with Dodge YMCA
DESCRIPTION:Dodge YMCA from Atlantic Ave in Brooklyn\, goes on the road a few miles every Monday to Pier 2 at Brooklyn Bridge Park. Classes are 6-7pm through October 25th.
URL:https://deetslive.com/event/zumba-with-dodge-ymca/
LOCATION:Brooklyn Bridge Park – Ping Pong Tables\, 334 Furman St.\, Brooklyn\, NY\, 11201
CATEGORIES:Fitness,Outdoor
ATTACH;FMTTYPE=image/jpeg:https://deetslive.com/wp-content/uploads/2021/06/Screen-Shot-2021-07-16-at-4.41.21-PM.jpg
END:VEVENT
BEGIN:VEVENT
DTSTART;TZID=America/New_York:20210712T180000
DTEND;TZID=America/New_York:20210712T190000
DTSTAMP:20260420T062205
CREATED:20210709T232435Z
LAST-MODIFIED:20210730T005007Z
UID:122782-1626112800-1626116400@deetslive.com
SUMMARY:Zumba with Dodge YMCA
DESCRIPTION:Dodge YMCA from Atlantic Ave in Brooklyn\, goes on the road a few miles every Monday to Pier 2 at Brooklyn Bridge Park. Classes are 6-7pm through October 25th.
URL:https://deetslive.com/event/zumba-with-dodge-ymca/
LOCATION:Brooklyn Bridge Park – Ping Pong Tables\, 334 Furman St.\, Brooklyn\, NY\, 11201
CATEGORIES:Fitness,Outdoor
ATTACH;FMTTYPE=image/jpeg:https://deetslive.com/wp-content/uploads/2021/06/Screen-Shot-2021-07-16-at-4.41.21-PM.jpg
END:VEVENT
BEGIN:VEVENT
DTSTART;TZID=America/New_York:20210712T180000
DTEND;TZID=America/New_York:20210712T190000
DTSTAMP:20260420T062205
CREATED:20210709T232435Z
LAST-MODIFIED:20210730T005007Z
UID:122782-1626112800-1626116400@deetslive.com
SUMMARY:Zumba with Dodge YMCA
DESCRIPTION:Dodge YMCA from Atlantic Ave in Brooklyn\, goes on the road a few miles every Monday to Pier 2 at Brooklyn Bridge Park. Classes are 6-7pm through October 25th.
URL:https://deetslive.com/event/zumba-with-dodge-ymca/
LOCATION:Brooklyn Bridge Park – Ping Pong Tables\, 334 Furman St.\, Brooklyn\, NY\, 11201
CATEGORIES:Fitness,Outdoor
ATTACH;FMTTYPE=image/jpeg:https://deetslive.com/wp-content/uploads/2021/06/Screen-Shot-2021-07-16-at-4.41.21-PM.jpg
END:VEVENT
BEGIN:VEVENT
DTSTART;TZID=America/New_York:20210525T183000
DTEND;TZID=America/New_York:20210525T193000
DTSTAMP:20260420T062205
CREATED:20210525T214446Z
LAST-MODIFIED:20210730T010151Z
UID:121927-1621967400-1621971000@deetslive.com
SUMMARY:Yoga in the Park at Randalls Island
DESCRIPTION:Stretch\, breathe and find your inner peace in Manhattan every Tuesday from 6:30-7:30pm at Icahn Stadium in Randall’s Island Park. Bring your own mat & water. Meet outside the Large Elm Tree on the south side of Icahn Stadium.
URL:https://deetslive.com/event/yoga-in-the-park-at-randalls-island/
LOCATION:Icahn Stadium\, Randalls Island\, 20 Randalls Island Park\, New York\, New York\, 10035
CATEGORIES:Fitness,Free,Outdoor
END:VEVENT
BEGIN:VEVENT
DTSTART;TZID=America/New_York:20210712T180000
DTEND;TZID=America/New_York:20210712T190000
DTSTAMP:20260420T062205
CREATED:20210709T232435Z
LAST-MODIFIED:20210730T005007Z
UID:122782-1626112800-1626116400@deetslive.com
SUMMARY:Zumba with Dodge YMCA
DESCRIPTION:Dodge YMCA from Atlantic Ave in Brooklyn\, goes on the road a few miles every Monday to Pier 2 at Brooklyn Bridge Park. Classes are 6-7pm through October 25th.
URL:https://deetslive.com/event/zumba-with-dodge-ymca/
LOCATION:Brooklyn Bridge Park – Ping Pong Tables\, 334 Furman St.\, Brooklyn\, NY\, 11201
CATEGORIES:Fitness,Outdoor
ATTACH;FMTTYPE=image/jpeg:https://deetslive.com/wp-content/uploads/2021/06/Screen-Shot-2021-07-16-at-4.41.21-PM.jpg
END:VEVENT
BEGIN:VEVENT
DTSTART;TZID=America/New_York:20210525T183000
DTEND;TZID=America/New_York:20210525T193000
DTSTAMP:20260420T062205
CREATED:20210525T214446Z
LAST-MODIFIED:20210730T010151Z
UID:121927-1621967400-1621971000@deetslive.com
SUMMARY:Yoga in the Park at Randalls Island
DESCRIPTION:Stretch\, breathe and find your inner peace in Manhattan every Tuesday from 6:30-7:30pm at Icahn Stadium in Randall’s Island Park. Bring your own mat & water. Meet outside the Large Elm Tree on the south side of Icahn Stadium.
URL:https://deetslive.com/event/yoga-in-the-park-at-randalls-island/
LOCATION:Icahn Stadium\, Randalls Island\, 20 Randalls Island Park\, New York\, New York\, 10035
CATEGORIES:Fitness,Free,Outdoor
END:VEVENT
BEGIN:VEVENT
DTSTART;TZID=America/New_York:20210712T180000
DTEND;TZID=America/New_York:20210712T190000
DTSTAMP:20260420T062205
CREATED:20210709T232435Z
LAST-MODIFIED:20210730T005007Z
UID:122782-1626112800-1626116400@deetslive.com
SUMMARY:Zumba with Dodge YMCA
DESCRIPTION:Dodge YMCA from Atlantic Ave in Brooklyn\, goes on the road a few miles every Monday to Pier 2 at Brooklyn Bridge Park. Classes are 6-7pm through October 25th.
URL:https://deetslive.com/event/zumba-with-dodge-ymca/
LOCATION:Brooklyn Bridge Park – Ping Pong Tables\, 334 Furman St.\, Brooklyn\, NY\, 11201
CATEGORIES:Fitness,Outdoor
ATTACH;FMTTYPE=image/jpeg:https://deetslive.com/wp-content/uploads/2021/06/Screen-Shot-2021-07-16-at-4.41.21-PM.jpg
END:VEVENT
BEGIN:VEVENT
DTSTART;TZID=America/New_York:20210525T183000
DTEND;TZID=America/New_York:20210525T193000
DTSTAMP:20260420T062205
CREATED:20210525T214446Z
LAST-MODIFIED:20210730T010151Z
UID:121927-1621967400-1621971000@deetslive.com
SUMMARY:Yoga in the Park at Randalls Island
DESCRIPTION:Stretch\, breathe and find your inner peace in Manhattan every Tuesday from 6:30-7:30pm at Icahn Stadium in Randall’s Island Park. Bring your own mat & water. Meet outside the Large Elm Tree on the south side of Icahn Stadium.
URL:https://deetslive.com/event/yoga-in-the-park-at-randalls-island/
LOCATION:Icahn Stadium\, Randalls Island\, 20 Randalls Island Park\, New York\, New York\, 10035
CATEGORIES:Fitness,Free,Outdoor
END:VEVENT
BEGIN:VEVENT
DTSTART;TZID=America/New_York:20210712T180000
DTEND;TZID=America/New_York:20210712T190000
DTSTAMP:20260420T062205
CREATED:20210709T232435Z
LAST-MODIFIED:20210730T005007Z
UID:122782-1626112800-1626116400@deetslive.com
SUMMARY:Zumba with Dodge YMCA
DESCRIPTION:Dodge YMCA from Atlantic Ave in Brooklyn\, goes on the road a few miles every Monday to Pier 2 at Brooklyn Bridge Park. Classes are 6-7pm through October 25th.
URL:https://deetslive.com/event/zumba-with-dodge-ymca/
LOCATION:Brooklyn Bridge Park – Ping Pong Tables\, 334 Furman St.\, Brooklyn\, NY\, 11201
CATEGORIES:Fitness,Outdoor
ATTACH;FMTTYPE=image/jpeg:https://deetslive.com/wp-content/uploads/2021/06/Screen-Shot-2021-07-16-at-4.41.21-PM.jpg
END:VEVENT
BEGIN:VEVENT
DTSTART;TZID=America/New_York:20210525T183000
DTEND;TZID=America/New_York:20210525T193000
DTSTAMP:20260420T062205
CREATED:20210525T214446Z
LAST-MODIFIED:20210730T010151Z
UID:121927-1621967400-1621971000@deetslive.com
SUMMARY:Yoga in the Park at Randalls Island
DESCRIPTION:Stretch\, breathe and find your inner peace in Manhattan every Tuesday from 6:30-7:30pm at Icahn Stadium in Randall’s Island Park. Bring your own mat & water. Meet outside the Large Elm Tree on the south side of Icahn Stadium.
URL:https://deetslive.com/event/yoga-in-the-park-at-randalls-island/
LOCATION:Icahn Stadium\, Randalls Island\, 20 Randalls Island Park\, New York\, New York\, 10035
CATEGORIES:Fitness,Free,Outdoor
END:VEVENT
BEGIN:VEVENT
DTSTART;TZID=America/New_York:20210712T180000
DTEND;TZID=America/New_York:20210712T190000
DTSTAMP:20260420T062205
CREATED:20210709T232435Z
LAST-MODIFIED:20210730T005007Z
UID:122782-1626112800-1626116400@deetslive.com
SUMMARY:Zumba with Dodge YMCA
DESCRIPTION:Dodge YMCA from Atlantic Ave in Brooklyn\, goes on the road a few miles every Monday to Pier 2 at Brooklyn Bridge Park. Classes are 6-7pm through October 25th.
URL:https://deetslive.com/event/zumba-with-dodge-ymca/
LOCATION:Brooklyn Bridge Park – Ping Pong Tables\, 334 Furman St.\, Brooklyn\, NY\, 11201
CATEGORIES:Fitness,Outdoor
ATTACH;FMTTYPE=image/jpeg:https://deetslive.com/wp-content/uploads/2021/06/Screen-Shot-2021-07-16-at-4.41.21-PM.jpg
END:VEVENT
BEGIN:VEVENT
DTSTART;TZID=America/New_York:20210601T183000
DTEND;TZID=America/New_York:20210601T193000
DTSTAMP:20260420T062205
CREATED:20210601T020617Z
LAST-MODIFIED:20210730T011210Z
UID:122178-1622572200-1622575800@deetslive.com
SUMMARY:Pilates in The Park - Summer on the Hudson Series
DESCRIPTION:Join instructor Melissa Ricci\, CPT\, PMA from Base Fitness® for a flowing\, multi-level Pilates Mat class that will tone and balance your muscles\, align your body\, strengthen your core\, and give you renewed energy! Bring your own mat. \nPre-registration for the event is required. Register Here \n\nCan you believe it? We are BACK IN THE PARK with #pilates and #yoga this week for the first time in over a year! Make sure you're registered for all our June events. Schedule and instructions here: https://t.co/KZiaY8xxuI \n— Summer on the Hudson (@SummerOnHudson) May 31\, 2021
URL:https://deetslive.com/event/pilates-in-the-park-summer-on-the-hudson-series/
LOCATION:South Children’s Lawn in Riverside Park South\, Riverside Blvd. & 68th Street\, New York\, NY\, 10069
CATEGORIES:Fitness,Free
END:VEVENT
BEGIN:VEVENT
DTSTART;TZID=America/New_York:20210525T183000
DTEND;TZID=America/New_York:20210525T193000
DTSTAMP:20260420T062205
CREATED:20210525T214446Z
LAST-MODIFIED:20210730T010151Z
UID:121927-1621967400-1621971000@deetslive.com
SUMMARY:Yoga in the Park at Randalls Island
DESCRIPTION:Stretch\, breathe and find your inner peace in Manhattan every Tuesday from 6:30-7:30pm at Icahn Stadium in Randall’s Island Park. Bring your own mat & water. Meet outside the Large Elm Tree on the south side of Icahn Stadium.
URL:https://deetslive.com/event/yoga-in-the-park-at-randalls-island/
LOCATION:Icahn Stadium\, Randalls Island\, 20 Randalls Island Park\, New York\, New York\, 10035
CATEGORIES:Fitness,Free,Outdoor
END:VEVENT
BEGIN:VEVENT
DTSTART;TZID=America/New_York:20210712T180000
DTEND;TZID=America/New_York:20210712T190000
DTSTAMP:20260420T062206
CREATED:20210709T232435Z
LAST-MODIFIED:20210730T005007Z
UID:122782-1626112800-1626116400@deetslive.com
SUMMARY:Zumba with Dodge YMCA
DESCRIPTION:Dodge YMCA from Atlantic Ave in Brooklyn\, goes on the road a few miles every Monday to Pier 2 at Brooklyn Bridge Park. Classes are 6-7pm through October 25th.
URL:https://deetslive.com/event/zumba-with-dodge-ymca/
LOCATION:Brooklyn Bridge Park – Ping Pong Tables\, 334 Furman St.\, Brooklyn\, NY\, 11201
CATEGORIES:Fitness,Outdoor
ATTACH;FMTTYPE=image/jpeg:https://deetslive.com/wp-content/uploads/2021/06/Screen-Shot-2021-07-16-at-4.41.21-PM.jpg
END:VEVENT
BEGIN:VEVENT
DTSTART;TZID=America/New_York:20210601T183000
DTEND;TZID=America/New_York:20210601T193000
DTSTAMP:20260420T062206
CREATED:20210601T020617Z
LAST-MODIFIED:20210730T011210Z
UID:122178-1622572200-1622575800@deetslive.com
SUMMARY:Pilates in The Park - Summer on the Hudson Series
DESCRIPTION:Join instructor Melissa Ricci\, CPT\, PMA from Base Fitness® for a flowing\, multi-level Pilates Mat class that will tone and balance your muscles\, align your body\, strengthen your core\, and give you renewed energy! Bring your own mat. \nPre-registration for the event is required. Register Here \n\nCan you believe it? We are BACK IN THE PARK with #pilates and #yoga this week for the first time in over a year! Make sure you're registered for all our June events. Schedule and instructions here: https://t.co/KZiaY8xxuI \n— Summer on the Hudson (@SummerOnHudson) May 31\, 2021
URL:https://deetslive.com/event/pilates-in-the-park-summer-on-the-hudson-series/
LOCATION:South Children’s Lawn in Riverside Park South\, Riverside Blvd. & 68th Street\, New York\, NY\, 10069
CATEGORIES:Fitness,Free
END:VEVENT
BEGIN:VEVENT
DTSTART;TZID=America/New_York:20210525T183000
DTEND;TZID=America/New_York:20210525T193000
DTSTAMP:20260420T062206
CREATED:20210525T214446Z
LAST-MODIFIED:20210730T010151Z
UID:121927-1621967400-1621971000@deetslive.com
SUMMARY:Yoga in the Park at Randalls Island
DESCRIPTION:Stretch\, breathe and find your inner peace in Manhattan every Tuesday from 6:30-7:30pm at Icahn Stadium in Randall’s Island Park. Bring your own mat & water. Meet outside the Large Elm Tree on the south side of Icahn Stadium.
URL:https://deetslive.com/event/yoga-in-the-park-at-randalls-island/
LOCATION:Icahn Stadium\, Randalls Island\, 20 Randalls Island Park\, New York\, New York\, 10035
CATEGORIES:Fitness,Free,Outdoor
END:VEVENT
BEGIN:VEVENT
DTSTART;TZID=America/New_York:20210712T180000
DTEND;TZID=America/New_York:20210712T190000
DTSTAMP:20260420T062206
CREATED:20210709T232435Z
LAST-MODIFIED:20210730T005007Z
UID:122782-1626112800-1626116400@deetslive.com
SUMMARY:Zumba with Dodge YMCA
DESCRIPTION:Dodge YMCA from Atlantic Ave in Brooklyn\, goes on the road a few miles every Monday to Pier 2 at Brooklyn Bridge Park. Classes are 6-7pm through October 25th.
URL:https://deetslive.com/event/zumba-with-dodge-ymca/
LOCATION:Brooklyn Bridge Park – Ping Pong Tables\, 334 Furman St.\, Brooklyn\, NY\, 11201
CATEGORIES:Fitness,Outdoor
ATTACH;FMTTYPE=image/jpeg:https://deetslive.com/wp-content/uploads/2021/06/Screen-Shot-2021-07-16-at-4.41.21-PM.jpg
END:VEVENT
BEGIN:VEVENT
DTSTART;TZID=America/New_York:20210601T183000
DTEND;TZID=America/New_York:20210601T193000
DTSTAMP:20260420T062206
CREATED:20210601T020617Z
LAST-MODIFIED:20210730T011210Z
UID:122178-1622572200-1622575800@deetslive.com
SUMMARY:Pilates in The Park - Summer on the Hudson Series
DESCRIPTION:Join instructor Melissa Ricci\, CPT\, PMA from Base Fitness® for a flowing\, multi-level Pilates Mat class that will tone and balance your muscles\, align your body\, strengthen your core\, and give you renewed energy! Bring your own mat. \nPre-registration for the event is required. Register Here \n\nCan you believe it? We are BACK IN THE PARK with #pilates and #yoga this week for the first time in over a year! Make sure you're registered for all our June events. Schedule and instructions here: https://t.co/KZiaY8xxuI \n— Summer on the Hudson (@SummerOnHudson) May 31\, 2021
URL:https://deetslive.com/event/pilates-in-the-park-summer-on-the-hudson-series/
LOCATION:South Children’s Lawn in Riverside Park South\, Riverside Blvd. & 68th Street\, New York\, NY\, 10069
CATEGORIES:Fitness,Free
END:VEVENT
BEGIN:VEVENT
DTSTART;TZID=America/New_York:20210525T183000
DTEND;TZID=America/New_York:20210525T193000
DTSTAMP:20260420T062206
CREATED:20210525T214446Z
LAST-MODIFIED:20210730T010151Z
UID:121927-1621967400-1621971000@deetslive.com
SUMMARY:Yoga in the Park at Randalls Island
DESCRIPTION:Stretch\, breathe and find your inner peace in Manhattan every Tuesday from 6:30-7:30pm at Icahn Stadium in Randall’s Island Park. Bring your own mat & water. Meet outside the Large Elm Tree on the south side of Icahn Stadium.
URL:https://deetslive.com/event/yoga-in-the-park-at-randalls-island/
LOCATION:Icahn Stadium\, Randalls Island\, 20 Randalls Island Park\, New York\, New York\, 10035
CATEGORIES:Fitness,Free,Outdoor
END:VEVENT
BEGIN:VEVENT
DTSTART;TZID=America/New_York:20210712T180000
DTEND;TZID=America/New_York:20210712T190000
DTSTAMP:20260420T062206
CREATED:20210709T232435Z
LAST-MODIFIED:20210730T005007Z
UID:122782-1626112800-1626116400@deetslive.com
SUMMARY:Zumba with Dodge YMCA
DESCRIPTION:Dodge YMCA from Atlantic Ave in Brooklyn\, goes on the road a few miles every Monday to Pier 2 at Brooklyn Bridge Park. Classes are 6-7pm through October 25th.
URL:https://deetslive.com/event/zumba-with-dodge-ymca/
LOCATION:Brooklyn Bridge Park – Ping Pong Tables\, 334 Furman St.\, Brooklyn\, NY\, 11201
CATEGORIES:Fitness,Outdoor
ATTACH;FMTTYPE=image/jpeg:https://deetslive.com/wp-content/uploads/2021/06/Screen-Shot-2021-07-16-at-4.41.21-PM.jpg
END:VEVENT
BEGIN:VEVENT
DTSTART;TZID=America/New_York:20210601T183000
DTEND;TZID=America/New_York:20210601T193000
DTSTAMP:20260420T062206
CREATED:20210601T020617Z
LAST-MODIFIED:20210730T011210Z
UID:122178-1622572200-1622575800@deetslive.com
SUMMARY:Pilates in The Park - Summer on the Hudson Series
DESCRIPTION:Join instructor Melissa Ricci\, CPT\, PMA from Base Fitness® for a flowing\, multi-level Pilates Mat class that will tone and balance your muscles\, align your body\, strengthen your core\, and give you renewed energy! Bring your own mat. \nPre-registration for the event is required. Register Here \n\nCan you believe it? We are BACK IN THE PARK with #pilates and #yoga this week for the first time in over a year! Make sure you're registered for all our June events. Schedule and instructions here: https://t.co/KZiaY8xxuI \n— Summer on the Hudson (@SummerOnHudson) May 31\, 2021
URL:https://deetslive.com/event/pilates-in-the-park-summer-on-the-hudson-series/
LOCATION:South Children’s Lawn in Riverside Park South\, Riverside Blvd. & 68th Street\, New York\, NY\, 10069
CATEGORIES:Fitness,Free
END:VEVENT
BEGIN:VEVENT
DTSTART;TZID=America/New_York:20210525T183000
DTEND;TZID=America/New_York:20210525T193000
DTSTAMP:20260420T062206
CREATED:20210525T214446Z
LAST-MODIFIED:20210730T010151Z
UID:121927-1621967400-1621971000@deetslive.com
SUMMARY:Yoga in the Park at Randalls Island
DESCRIPTION:Stretch\, breathe and find your inner peace in Manhattan every Tuesday from 6:30-7:30pm at Icahn Stadium in Randall’s Island Park. Bring your own mat & water. Meet outside the Large Elm Tree on the south side of Icahn Stadium.
URL:https://deetslive.com/event/yoga-in-the-park-at-randalls-island/
LOCATION:Icahn Stadium\, Randalls Island\, 20 Randalls Island Park\, New York\, New York\, 10035
CATEGORIES:Fitness,Free,Outdoor
END:VEVENT
BEGIN:VEVENT
DTSTART;TZID=America/New_York:20210712T180000
DTEND;TZID=America/New_York:20210712T190000
DTSTAMP:20260420T062206
CREATED:20210709T232435Z
LAST-MODIFIED:20210730T005007Z
UID:122782-1626112800-1626116400@deetslive.com
SUMMARY:Zumba with Dodge YMCA
DESCRIPTION:Dodge YMCA from Atlantic Ave in Brooklyn\, goes on the road a few miles every Monday to Pier 2 at Brooklyn Bridge Park. Classes are 6-7pm through October 25th.
URL:https://deetslive.com/event/zumba-with-dodge-ymca/
LOCATION:Brooklyn Bridge Park – Ping Pong Tables\, 334 Furman St.\, Brooklyn\, NY\, 11201
CATEGORIES:Fitness,Outdoor
ATTACH;FMTTYPE=image/jpeg:https://deetslive.com/wp-content/uploads/2021/06/Screen-Shot-2021-07-16-at-4.41.21-PM.jpg
END:VEVENT
BEGIN:VEVENT
DTSTART;TZID=America/New_York:20210601T183000
DTEND;TZID=America/New_York:20210601T193000
DTSTAMP:20260420T062206
CREATED:20210601T020617Z
LAST-MODIFIED:20210730T011210Z
UID:122178-1622572200-1622575800@deetslive.com
SUMMARY:Pilates in The Park - Summer on the Hudson Series
DESCRIPTION:Join instructor Melissa Ricci\, CPT\, PMA from Base Fitness® for a flowing\, multi-level Pilates Mat class that will tone and balance your muscles\, align your body\, strengthen your core\, and give you renewed energy! Bring your own mat. \nPre-registration for the event is required. Register Here \n\nCan you believe it? We are BACK IN THE PARK with #pilates and #yoga this week for the first time in over a year! Make sure you're registered for all our June events. Schedule and instructions here: https://t.co/KZiaY8xxuI \n— Summer on the Hudson (@SummerOnHudson) May 31\, 2021
URL:https://deetslive.com/event/pilates-in-the-park-summer-on-the-hudson-series/
LOCATION:South Children’s Lawn in Riverside Park South\, Riverside Blvd. & 68th Street\, New York\, NY\, 10069
CATEGORIES:Fitness,Free
END:VEVENT
BEGIN:VEVENT
DTSTART;TZID=America/New_York:20210525T183000
DTEND;TZID=America/New_York:20210525T193000
DTSTAMP:20260420T062206
CREATED:20210525T214446Z
LAST-MODIFIED:20210730T010151Z
UID:121927-1621967400-1621971000@deetslive.com
SUMMARY:Yoga in the Park at Randalls Island
DESCRIPTION:Stretch\, breathe and find your inner peace in Manhattan every Tuesday from 6:30-7:30pm at Icahn Stadium in Randall’s Island Park. Bring your own mat & water. Meet outside the Large Elm Tree on the south side of Icahn Stadium.
URL:https://deetslive.com/event/yoga-in-the-park-at-randalls-island/
LOCATION:Icahn Stadium\, Randalls Island\, 20 Randalls Island Park\, New York\, New York\, 10035
CATEGORIES:Fitness,Free,Outdoor
END:VEVENT
BEGIN:VEVENT
DTSTART;TZID=America/New_York:20210712T180000
DTEND;TZID=America/New_York:20210712T190000
DTSTAMP:20260420T062206
CREATED:20210709T232435Z
LAST-MODIFIED:20210730T005007Z
UID:122782-1626112800-1626116400@deetslive.com
SUMMARY:Zumba with Dodge YMCA
DESCRIPTION:Dodge YMCA from Atlantic Ave in Brooklyn\, goes on the road a few miles every Monday to Pier 2 at Brooklyn Bridge Park. Classes are 6-7pm through October 25th.
URL:https://deetslive.com/event/zumba-with-dodge-ymca/
LOCATION:Brooklyn Bridge Park – Ping Pong Tables\, 334 Furman St.\, Brooklyn\, NY\, 11201
CATEGORIES:Fitness,Outdoor
ATTACH;FMTTYPE=image/jpeg:https://deetslive.com/wp-content/uploads/2021/06/Screen-Shot-2021-07-16-at-4.41.21-PM.jpg
END:VEVENT
BEGIN:VEVENT
DTSTART;TZID=America/New_York:20210601T183000
DTEND;TZID=America/New_York:20210601T193000
DTSTAMP:20260420T062206
CREATED:20210601T020617Z
LAST-MODIFIED:20210730T011210Z
UID:122178-1622572200-1622575800@deetslive.com
SUMMARY:Pilates in The Park - Summer on the Hudson Series
DESCRIPTION:Join instructor Melissa Ricci\, CPT\, PMA from Base Fitness® for a flowing\, multi-level Pilates Mat class that will tone and balance your muscles\, align your body\, strengthen your core\, and give you renewed energy! Bring your own mat. \nPre-registration for the event is required. Register Here \n\nCan you believe it? We are BACK IN THE PARK with #pilates and #yoga this week for the first time in over a year! Make sure you're registered for all our June events. Schedule and instructions here: https://t.co/KZiaY8xxuI \n— Summer on the Hudson (@SummerOnHudson) May 31\, 2021
URL:https://deetslive.com/event/pilates-in-the-park-summer-on-the-hudson-series/
LOCATION:South Children’s Lawn in Riverside Park South\, Riverside Blvd. & 68th Street\, New York\, NY\, 10069
CATEGORIES:Fitness,Free
END:VEVENT
END:VCALENDAR