BEGIN:VCALENDAR
VERSION:2.0
PRODID:-//Daily Deets - ECPv6.15.20//NONSGML v1.0//EN
CALSCALE:GREGORIAN
METHOD:PUBLISH
X-WR-CALNAME:Daily Deets
X-ORIGINAL-URL:https://deetslive.com
X-WR-CALDESC:Events for Daily Deets
REFRESH-INTERVAL;VALUE=DURATION:PT1H
X-Robots-Tag:noindex
X-PUBLISHED-TTL:PT1H
BEGIN:VTIMEZONE
TZID:UTC
BEGIN:STANDARD
TZOFFSETFROM:+0000
TZOFFSETTO:+0000
TZNAME:UTC
DTSTART:20210101T000000
END:STANDARD
END:VTIMEZONE
BEGIN:VTIMEZONE
TZID:America/New_York
BEGIN:DAYLIGHT
TZOFFSETFROM:-0500
TZOFFSETTO:-0400
TZNAME:EDT
DTSTART:20210314T070000
END:DAYLIGHT
BEGIN:STANDARD
TZOFFSETFROM:-0400
TZOFFSETTO:-0500
TZNAME:EST
DTSTART:20211107T060000
END:STANDARD
BEGIN:DAYLIGHT
TZOFFSETFROM:-0500
TZOFFSETTO:-0400
TZNAME:EDT
DTSTART:20220313T070000
END:DAYLIGHT
BEGIN:STANDARD
TZOFFSETFROM:-0400
TZOFFSETTO:-0500
TZNAME:EST
DTSTART:20221106T060000
END:STANDARD
BEGIN:DAYLIGHT
TZOFFSETFROM:-0500
TZOFFSETTO:-0400
TZNAME:EDT
DTSTART:20230312T070000
END:DAYLIGHT
BEGIN:STANDARD
TZOFFSETFROM:-0400
TZOFFSETTO:-0500
TZNAME:EST
DTSTART:20231105T060000
END:STANDARD
END:VTIMEZONE
BEGIN:VEVENT
DTSTART;TZID=UTC:20220808T200000
DTEND;TZID=UTC:20220808T200000
DTSTAMP:20260420T162026
CREATED:20220723T230144Z
LAST-MODIFIED:20220723T230208Z
UID:126252-1659988800-1659988800@deetslive.com
SUMMARY:Rage Against The Machine\, Madison Square Garden\, New York City
DESCRIPTION:Rage Against The Machine \nMadison Square Garden\, New York City \nAugust 8\, 9\, 11\, 12 & 14 at 8pm. \nTicketmaster \nStubHub
URL:https://deetslive.com/event/rage-against-the-machine-madison-square-garden-new-york-city/
LOCATION:Madison Square Garden\, 4 Pennsylvania Plaza\, New York City\, New York\, 10001\, United States
CATEGORIES:Music,New York/New Jersey
END:VEVENT
BEGIN:VEVENT
DTSTART;TZID=UTC:20220808T200000
DTEND;TZID=UTC:20220808T200000
DTSTAMP:20260420T162026
CREATED:20220723T230144Z
LAST-MODIFIED:20220723T230208Z
UID:126252-1659988800-1659988800@deetslive.com
SUMMARY:Rage Against The Machine\, Madison Square Garden\, New York City
DESCRIPTION:Rage Against The Machine \nMadison Square Garden\, New York City \nAugust 8\, 9\, 11\, 12 & 14 at 8pm. \nTicketmaster \nStubHub
URL:https://deetslive.com/event/rage-against-the-machine-madison-square-garden-new-york-city/
LOCATION:Madison Square Garden\, 4 Pennsylvania Plaza\, New York City\, New York\, 10001\, United States
CATEGORIES:Music,New York/New Jersey
END:VEVENT
BEGIN:VEVENT
DTSTART;TZID=UTC:20220803T200000
DTEND;TZID=UTC:20220803T200000
DTSTAMP:20260420T162026
CREATED:20220804T030000Z
LAST-MODIFIED:20220801T232218Z
UID:126436-1659556800-1659556800@deetslive.com
SUMMARY:Katy Perry at The Theatre at Resorts World\, Las Vegas
DESCRIPTION:Katy Perry \nThe Theatre at Resorts World\, Las Vegas\, Nevada \nWednesday\, August 3rd\, 8pm\nFriday\, August 5th\, 8pm\nSaturday\, August 6th\, 8pm\nWednesday\, August 10th\, 8pm\nFriday\, August 12th\, 8pm\nSaturday\, August 14th\, 8pm \nTicketmaster \nStubHub \n(Katy will be back at Resorts in October\, 2022. 10/5\, 7\, 8\, 14\, 15\, 19\, 21 & 22)
URL:https://deetslive.com/event/katy-perry-at-the-theatre-at-resorts-world-las-vegas/
LOCATION:The Theatre at Resorts World\, 3000 S Las Vegas Blvd\, Las Vegas\, NV\, 89109\, United States
CATEGORIES:Las Vegas,Music
ATTACH;FMTTYPE=image/webp:https://deetslive.com/wp-content/uploads/2022/08/katy-perry.webp
END:VEVENT
BEGIN:VEVENT
DTSTART;TZID=UTC:20220805T193000
DTEND;TZID=UTC:20220805T193000
DTSTAMP:20260420T162026
CREATED:20220728T015704Z
LAST-MODIFIED:20220728T015704Z
UID:126302-1659727800-1659727800@deetslive.com
SUMMARY:Kendrick Lamar with Baby Keem at Barclays Center\, Brooklyn\, NY
DESCRIPTION:Kendrick Lamar with Baby Keem \nBarclays Center\, Brooklyn\, NY \nFriday August\, 5th\, 7:30pm\nSaturday\, August\, 6th\, 7:30pm \nTicketmaster \nStubHub
URL:https://deetslive.com/event/kendrick-lamar-with-baby-keem-at-barclays-center-brooklyn-ny/
LOCATION:Barclays Center\, 620 Atlantic Avenue\, Brooklyn\, NY\, 11217\, United States
CATEGORIES:Music,New York/New Jersey
END:VEVENT
BEGIN:VEVENT
DTSTART;TZID=UTC:20220803T200000
DTEND;TZID=UTC:20220803T200000
DTSTAMP:20260420T162026
CREATED:20220804T030000Z
LAST-MODIFIED:20220801T232218Z
UID:126436-1659556800-1659556800@deetslive.com
SUMMARY:Katy Perry at The Theatre at Resorts World\, Las Vegas
DESCRIPTION:Katy Perry \nThe Theatre at Resorts World\, Las Vegas\, Nevada \nWednesday\, August 3rd\, 8pm\nFriday\, August 5th\, 8pm\nSaturday\, August 6th\, 8pm\nWednesday\, August 10th\, 8pm\nFriday\, August 12th\, 8pm\nSaturday\, August 14th\, 8pm \nTicketmaster \nStubHub \n(Katy will be back at Resorts in October\, 2022. 10/5\, 7\, 8\, 14\, 15\, 19\, 21 & 22)
URL:https://deetslive.com/event/katy-perry-at-the-theatre-at-resorts-world-las-vegas/
LOCATION:The Theatre at Resorts World\, 3000 S Las Vegas Blvd\, Las Vegas\, NV\, 89109\, United States
CATEGORIES:Las Vegas,Music
ATTACH;FMTTYPE=image/webp:https://deetslive.com/wp-content/uploads/2022/08/katy-perry.webp
END:VEVENT
BEGIN:VEVENT
DTSTART;TZID=UTC:20220805T193000
DTEND;TZID=UTC:20220805T193000
DTSTAMP:20260420T162026
CREATED:20220728T015704Z
LAST-MODIFIED:20220728T015704Z
UID:126302-1659727800-1659727800@deetslive.com
SUMMARY:Kendrick Lamar with Baby Keem at Barclays Center\, Brooklyn\, NY
DESCRIPTION:Kendrick Lamar with Baby Keem \nBarclays Center\, Brooklyn\, NY \nFriday August\, 5th\, 7:30pm\nSaturday\, August\, 6th\, 7:30pm \nTicketmaster \nStubHub
URL:https://deetslive.com/event/kendrick-lamar-with-baby-keem-at-barclays-center-brooklyn-ny/
LOCATION:Barclays Center\, 620 Atlantic Avenue\, Brooklyn\, NY\, 11217\, United States
CATEGORIES:Music,New York/New Jersey
END:VEVENT
BEGIN:VEVENT
DTSTART;TZID=UTC:20220803T200000
DTEND;TZID=UTC:20220803T200000
DTSTAMP:20260420T162026
CREATED:20220804T030000Z
LAST-MODIFIED:20220801T045920Z
UID:126406-1659556800-1659556800@deetslive.com
SUMMARY:Sheryl Crow & Keb Mo at Hollywood Bowl\, Los Angeles
DESCRIPTION:Sheryl Crow with Keb Mo \nHollywood Bowl\, Los Angeles \nWednesday\, August\, 3rd\, 8p \nStubHub
URL:https://deetslive.com/event/sheryl-crow-keb-mo-at-hollywood-bowl-los-angeles/
LOCATION:Hollywood Bowl\, 2301 N Highland Ave\, Los Angeles\, CA\, 90068
CATEGORIES:Los Angeles,Music
END:VEVENT
BEGIN:VEVENT
DTSTART;TZID=UTC:20220803T200000
DTEND;TZID=UTC:20220803T200000
DTSTAMP:20260420T162026
CREATED:20220804T030000Z
LAST-MODIFIED:20220801T232218Z
UID:126436-1659556800-1659556800@deetslive.com
SUMMARY:Katy Perry at The Theatre at Resorts World\, Las Vegas
DESCRIPTION:Katy Perry \nThe Theatre at Resorts World\, Las Vegas\, Nevada \nWednesday\, August 3rd\, 8pm\nFriday\, August 5th\, 8pm\nSaturday\, August 6th\, 8pm\nWednesday\, August 10th\, 8pm\nFriday\, August 12th\, 8pm\nSaturday\, August 14th\, 8pm \nTicketmaster \nStubHub \n(Katy will be back at Resorts in October\, 2022. 10/5\, 7\, 8\, 14\, 15\, 19\, 21 & 22)
URL:https://deetslive.com/event/katy-perry-at-the-theatre-at-resorts-world-las-vegas/
LOCATION:The Theatre at Resorts World\, 3000 S Las Vegas Blvd\, Las Vegas\, NV\, 89109\, United States
CATEGORIES:Las Vegas,Music
ATTACH;FMTTYPE=image/webp:https://deetslive.com/wp-content/uploads/2022/08/katy-perry.webp
END:VEVENT
BEGIN:VEVENT
DTSTART;TZID=UTC:20220715T200000
DTEND;TZID=UTC:20220715T200000
DTSTAMP:20260420T162026
CREATED:20220713T204418Z
LAST-MODIFIED:20220713T204444Z
UID:126204-1657915200-1657915200@deetslive.com
SUMMARY:Kenny Loggins with Jim Messina\, Sittin' In at The Hollywood Bowl\, Los Angeles
DESCRIPTION:It was 50 years ago when Loggins & Messina played the Hollywood Bowl supporting their debut album Sittin’ In. Now\, the duo reunites for a special weekend celebrating the golden sound of the ‘70s with songs like “Danny’s Song” and “House at Pooh Corner.” Kenny Loggins closes the show with his greatest hits\, such as “Footloose” and “Danger Zone.” A historic night under the stars! \nFriday\, July 15th\, Hollywood Bowl\, 8p \nStubHub
URL:https://deetslive.com/event/kenny-loggins-with-jim-messina-sittin-in-at-the-hollywood-bowl-los-angeles/
LOCATION:Hollywood Bowl\, 2301 N Highland Ave\, Los Angeles\, CA\, 90068
CATEGORIES:Los Angeles,Music
END:VEVENT
BEGIN:VEVENT
DTSTART;TZID=UTC:20220715T200000
DTEND;TZID=UTC:20220715T200000
DTSTAMP:20260420T162026
CREATED:20220713T204418Z
LAST-MODIFIED:20220713T204444Z
UID:126204-1657915200-1657915200@deetslive.com
SUMMARY:Kenny Loggins with Jim Messina\, Sittin' In at The Hollywood Bowl\, Los Angeles
DESCRIPTION:It was 50 years ago when Loggins & Messina played the Hollywood Bowl supporting their debut album Sittin’ In. Now\, the duo reunites for a special weekend celebrating the golden sound of the ‘70s with songs like “Danny’s Song” and “House at Pooh Corner.” Kenny Loggins closes the show with his greatest hits\, such as “Footloose” and “Danger Zone.” A historic night under the stars! \nFriday\, July 15th\, Hollywood Bowl\, 8p \nStubHub
URL:https://deetslive.com/event/kenny-loggins-with-jim-messina-sittin-in-at-the-hollywood-bowl-los-angeles/
LOCATION:Hollywood Bowl\, 2301 N Highland Ave\, Los Angeles\, CA\, 90068
CATEGORIES:Los Angeles,Music
END:VEVENT
BEGIN:VEVENT
DTSTART;TZID=UTC:20220703T193000
DTEND;TZID=UTC:20220703T193000
DTSTAMP:20260420T162026
CREATED:20220703T211644Z
LAST-MODIFIED:20220703T211644Z
UID:126106-1656876600-1656876600@deetslive.com
SUMMARY:Steve Martin & Martin Short with LA Philharmonic Fireworks Spectacular
DESCRIPTION:LA Philharmonic Fireworks Spectacular with Steve Martin & Martin Short \nHollywood Bowl\, Los Angeles \nSunday\, July 3rd\, 2022\, 7:30pm\nMonday\, July 4th\, 7:30pm \nStubHub
URL:https://deetslive.com/event/steve-martin-martin-short-with-la-philharmonic-fireworks-spectacular/
LOCATION:Hollywood Bowl\, 2301 N Highland Ave\, Los Angeles\, CA\, 90068
CATEGORIES:Los Angeles,Music
END:VEVENT
BEGIN:VEVENT
DTSTART;TZID=UTC:20220703T193000
DTEND;TZID=UTC:20220703T193000
DTSTAMP:20260420T162026
CREATED:20220703T211644Z
LAST-MODIFIED:20220703T211644Z
UID:126106-1656876600-1656876600@deetslive.com
SUMMARY:Steve Martin & Martin Short with LA Philharmonic Fireworks Spectacular
DESCRIPTION:LA Philharmonic Fireworks Spectacular with Steve Martin & Martin Short \nHollywood Bowl\, Los Angeles \nSunday\, July 3rd\, 2022\, 7:30pm\nMonday\, July 4th\, 7:30pm \nStubHub
URL:https://deetslive.com/event/steve-martin-martin-short-with-la-philharmonic-fireworks-spectacular/
LOCATION:Hollywood Bowl\, 2301 N Highland Ave\, Los Angeles\, CA\, 90068
CATEGORIES:Los Angeles,Music
END:VEVENT
BEGIN:VEVENT
DTSTART;TZID=UTC:20220616T193000
DTEND;TZID=UTC:20220616T193000
DTSTAMP:20260420T162026
CREATED:20220606T233506Z
LAST-MODIFIED:20220606T233506Z
UID:125971-1655407800-1655407800@deetslive.com
SUMMARY:Cirque du Soleil: Crystal at Prudential Center\, NJ
DESCRIPTION:Crystal is not just an ice show\, it’s the very first experience on ice from Cirque du Soleil. Watch world-class ice skaters and acrobats claim their new frozen playground with speed and fluidity as they challenge the laws of gravity with never-before-seen acrobatics. Discover a new kind of performance as Cirque du Soleil meets the ice to defy all expectations. \nCirque du Soleil: Crystal\nPrudential Center\, Newark\, NJ \nThursday\, June 16th\, 7:30pm\nFriday\, June 17th\, 7:30pm\nSaturday\, June 18th\, 2 shows: 3:30pm & 7:30pm\nSunday\, June 19th\, 1pm \nTicketmaster \nStubHub
URL:https://deetslive.com/event/cirque-du-soleil-crystal-at-prudential-center-nj/
LOCATION:Prudential Center\, 165 Mulberry St.\, Newark\, New Jersey\, 07102
CATEGORIES:Event,Music,New York/New Jersey,Theater
ATTACH;FMTTYPE=image/jpeg:https://deetslive.com/wp-content/uploads/2022/06/Screen-Shot-2022-06-06-at-4.19.36-PM.jpg
END:VEVENT
BEGIN:VEVENT
DTSTART;TZID=UTC:20220616T193000
DTEND;TZID=UTC:20220616T193000
DTSTAMP:20260420T162026
CREATED:20220606T233506Z
LAST-MODIFIED:20220606T233506Z
UID:125971-1655407800-1655407800@deetslive.com
SUMMARY:Cirque du Soleil: Crystal at Prudential Center\, NJ
DESCRIPTION:Crystal is not just an ice show\, it’s the very first experience on ice from Cirque du Soleil. Watch world-class ice skaters and acrobats claim their new frozen playground with speed and fluidity as they challenge the laws of gravity with never-before-seen acrobatics. Discover a new kind of performance as Cirque du Soleil meets the ice to defy all expectations. \nCirque du Soleil: Crystal\nPrudential Center\, Newark\, NJ \nThursday\, June 16th\, 7:30pm\nFriday\, June 17th\, 7:30pm\nSaturday\, June 18th\, 2 shows: 3:30pm & 7:30pm\nSunday\, June 19th\, 1pm \nTicketmaster \nStubHub
URL:https://deetslive.com/event/cirque-du-soleil-crystal-at-prudential-center-nj/
LOCATION:Prudential Center\, 165 Mulberry St.\, Newark\, New Jersey\, 07102
CATEGORIES:Event,Music,New York/New Jersey,Theater
ATTACH;FMTTYPE=image/jpeg:https://deetslive.com/wp-content/uploads/2022/06/Screen-Shot-2022-06-06-at-4.19.36-PM.jpg
END:VEVENT
BEGIN:VEVENT
DTSTART;TZID=UTC:20220616T193000
DTEND;TZID=UTC:20220616T193000
DTSTAMP:20260420T162026
CREATED:20220606T233506Z
LAST-MODIFIED:20220606T233506Z
UID:125971-1655407800-1655407800@deetslive.com
SUMMARY:Cirque du Soleil: Crystal at Prudential Center\, NJ
DESCRIPTION:Crystal is not just an ice show\, it’s the very first experience on ice from Cirque du Soleil. Watch world-class ice skaters and acrobats claim their new frozen playground with speed and fluidity as they challenge the laws of gravity with never-before-seen acrobatics. Discover a new kind of performance as Cirque du Soleil meets the ice to defy all expectations. \nCirque du Soleil: Crystal\nPrudential Center\, Newark\, NJ \nThursday\, June 16th\, 7:30pm\nFriday\, June 17th\, 7:30pm\nSaturday\, June 18th\, 2 shows: 3:30pm & 7:30pm\nSunday\, June 19th\, 1pm \nTicketmaster \nStubHub
URL:https://deetslive.com/event/cirque-du-soleil-crystal-at-prudential-center-nj/
LOCATION:Prudential Center\, 165 Mulberry St.\, Newark\, New Jersey\, 07102
CATEGORIES:Event,Music,New York/New Jersey,Theater
ATTACH;FMTTYPE=image/jpeg:https://deetslive.com/wp-content/uploads/2022/06/Screen-Shot-2022-06-06-at-4.19.36-PM.jpg
END:VEVENT
BEGIN:VEVENT
DTSTART;TZID=UTC:20220616T193000
DTEND;TZID=UTC:20220616T193000
DTSTAMP:20260420T162026
CREATED:20220606T233506Z
LAST-MODIFIED:20220606T233506Z
UID:125971-1655407800-1655407800@deetslive.com
SUMMARY:Cirque du Soleil: Crystal at Prudential Center\, NJ
DESCRIPTION:Crystal is not just an ice show\, it’s the very first experience on ice from Cirque du Soleil. Watch world-class ice skaters and acrobats claim their new frozen playground with speed and fluidity as they challenge the laws of gravity with never-before-seen acrobatics. Discover a new kind of performance as Cirque du Soleil meets the ice to defy all expectations. \nCirque du Soleil: Crystal\nPrudential Center\, Newark\, NJ \nThursday\, June 16th\, 7:30pm\nFriday\, June 17th\, 7:30pm\nSaturday\, June 18th\, 2 shows: 3:30pm & 7:30pm\nSunday\, June 19th\, 1pm \nTicketmaster \nStubHub
URL:https://deetslive.com/event/cirque-du-soleil-crystal-at-prudential-center-nj/
LOCATION:Prudential Center\, 165 Mulberry St.\, Newark\, New Jersey\, 07102
CATEGORIES:Event,Music,New York/New Jersey,Theater
ATTACH;FMTTYPE=image/jpeg:https://deetslive.com/wp-content/uploads/2022/06/Screen-Shot-2022-06-06-at-4.19.36-PM.jpg
END:VEVENT
BEGIN:VEVENT
DTSTART;TZID=UTC:20220616T193000
DTEND;TZID=UTC:20220616T193000
DTSTAMP:20260420T162026
CREATED:20220606T233506Z
LAST-MODIFIED:20220606T233506Z
UID:125971-1655407800-1655407800@deetslive.com
SUMMARY:Cirque du Soleil: Crystal at Prudential Center\, NJ
DESCRIPTION:Crystal is not just an ice show\, it’s the very first experience on ice from Cirque du Soleil. Watch world-class ice skaters and acrobats claim their new frozen playground with speed and fluidity as they challenge the laws of gravity with never-before-seen acrobatics. Discover a new kind of performance as Cirque du Soleil meets the ice to defy all expectations. \nCirque du Soleil: Crystal\nPrudential Center\, Newark\, NJ \nThursday\, June 16th\, 7:30pm\nFriday\, June 17th\, 7:30pm\nSaturday\, June 18th\, 2 shows: 3:30pm & 7:30pm\nSunday\, June 19th\, 1pm \nTicketmaster \nStubHub
URL:https://deetslive.com/event/cirque-du-soleil-crystal-at-prudential-center-nj/
LOCATION:Prudential Center\, 165 Mulberry St.\, Newark\, New Jersey\, 07102
CATEGORIES:Event,Music,New York/New Jersey,Theater
ATTACH;FMTTYPE=image/jpeg:https://deetslive.com/wp-content/uploads/2022/06/Screen-Shot-2022-06-06-at-4.19.36-PM.jpg
END:VEVENT
BEGIN:VEVENT
DTSTART;TZID=UTC:20220613T193000
DTEND;TZID=UTC:20220613T193000
DTSTAMP:20260420T162026
CREATED:20220523T230158Z
LAST-MODIFIED:20220607T000212Z
UID:125864-1655148600-1655148600@deetslive.com
SUMMARY:Justin Bieber at Madison Square Garden\, New York City
DESCRIPTION:Justin Bieber \nMadison Square Garden\, New York City \nMonday\, June 13th\, 7:30pm\nTuesday\, June 14th\, 7:30pm \nTicketmaster \nStubHub
URL:https://deetslive.com/event/justin-bieber-at-madison-square-garden-new-york/
LOCATION:Madison Square Garden\, 4 Pennsylvania Plaza\, New York City\, New York\, 10001\, United States
CATEGORIES:Music,New York/New Jersey
ATTACH;FMTTYPE=image/jpeg:https://deetslive.com/wp-content/uploads/2022/05/Screen-Shot-2022-05-23-at-3.59.33-PM.jpg
END:VEVENT
BEGIN:VEVENT
DTSTART;TZID=UTC:20220613T193000
DTEND;TZID=UTC:20220613T193000
DTSTAMP:20260420T162026
CREATED:20220523T230158Z
LAST-MODIFIED:20220607T000212Z
UID:125864-1655148600-1655148600@deetslive.com
SUMMARY:Justin Bieber at Madison Square Garden\, New York City
DESCRIPTION:Justin Bieber \nMadison Square Garden\, New York City \nMonday\, June 13th\, 7:30pm\nTuesday\, June 14th\, 7:30pm \nTicketmaster \nStubHub
URL:https://deetslive.com/event/justin-bieber-at-madison-square-garden-new-york/
LOCATION:Madison Square Garden\, 4 Pennsylvania Plaza\, New York City\, New York\, 10001\, United States
CATEGORIES:Music,New York/New Jersey
ATTACH;FMTTYPE=image/jpeg:https://deetslive.com/wp-content/uploads/2022/05/Screen-Shot-2022-05-23-at-3.59.33-PM.jpg
END:VEVENT
BEGIN:VEVENT
DTSTART;TZID=UTC:20220606T200000
DTEND;TZID=UTC:20220606T200000
DTSTAMP:20260420T162026
CREATED:20220606T224759Z
LAST-MODIFIED:20220606T224759Z
UID:125965-1654545600-1654545600@deetslive.com
SUMMARY:Ringo Starr and His All Starr Band\, Beacon Theatre\, NYC
DESCRIPTION:Ringo Starr And His All Starr Band – which is a who’s who of Rock Star musicians: Steve Lukather\, Colin Hay\, Warren Ham\, Gregg Bissonette\, Hamish Stuart and Edgar Winter will be at the Beacon Theatre in NYC for 3 nights. \nBeacon Theatre\, NYC\nMonday\, June 6th\, 8pm\nTuesday\, June 7th\, 8pm\nWednesday\, June 8th\, 8pm \nTicketmaster \nStubHub \n 
URL:https://deetslive.com/event/ringo-starr-and-his-all-starr-band-beacon-theatre-nyc/
LOCATION:Beacon Theatre\, 2124 Broadway\, New York City\, NY\, 10023
CATEGORIES:Music,New York/New Jersey
ATTACH;FMTTYPE=image/jpeg:https://deetslive.com/wp-content/uploads/2022/06/Screen-Shot-2022-06-06-at-3.38.32-PM.jpg
END:VEVENT
BEGIN:VEVENT
DTSTART;TZID=UTC:20220606T200000
DTEND;TZID=UTC:20220606T200000
DTSTAMP:20260420T162026
CREATED:20220606T224759Z
LAST-MODIFIED:20220606T224759Z
UID:125965-1654545600-1654545600@deetslive.com
SUMMARY:Ringo Starr and His All Starr Band\, Beacon Theatre\, NYC
DESCRIPTION:Ringo Starr And His All Starr Band – which is a who’s who of Rock Star musicians: Steve Lukather\, Colin Hay\, Warren Ham\, Gregg Bissonette\, Hamish Stuart and Edgar Winter will be at the Beacon Theatre in NYC for 3 nights. \nBeacon Theatre\, NYC\nMonday\, June 6th\, 8pm\nTuesday\, June 7th\, 8pm\nWednesday\, June 8th\, 8pm \nTicketmaster \nStubHub \n 
URL:https://deetslive.com/event/ringo-starr-and-his-all-starr-band-beacon-theatre-nyc/
LOCATION:Beacon Theatre\, 2124 Broadway\, New York City\, NY\, 10023
CATEGORIES:Music,New York/New Jersey
ATTACH;FMTTYPE=image/jpeg:https://deetslive.com/wp-content/uploads/2022/06/Screen-Shot-2022-06-06-at-3.38.32-PM.jpg
END:VEVENT
BEGIN:VEVENT
DTSTART;TZID=UTC:20220606T200000
DTEND;TZID=UTC:20220606T200000
DTSTAMP:20260420T162026
CREATED:20220606T224759Z
LAST-MODIFIED:20220606T224759Z
UID:125965-1654545600-1654545600@deetslive.com
SUMMARY:Ringo Starr and His All Starr Band\, Beacon Theatre\, NYC
DESCRIPTION:Ringo Starr And His All Starr Band – which is a who’s who of Rock Star musicians: Steve Lukather\, Colin Hay\, Warren Ham\, Gregg Bissonette\, Hamish Stuart and Edgar Winter will be at the Beacon Theatre in NYC for 3 nights. \nBeacon Theatre\, NYC\nMonday\, June 6th\, 8pm\nTuesday\, June 7th\, 8pm\nWednesday\, June 8th\, 8pm \nTicketmaster \nStubHub \n 
URL:https://deetslive.com/event/ringo-starr-and-his-all-starr-band-beacon-theatre-nyc/
LOCATION:Beacon Theatre\, 2124 Broadway\, New York City\, NY\, 10023
CATEGORIES:Music,New York/New Jersey
ATTACH;FMTTYPE=image/jpeg:https://deetslive.com/wp-content/uploads/2022/06/Screen-Shot-2022-06-06-at-3.38.32-PM.jpg
END:VEVENT
BEGIN:VEVENT
DTSTART;TZID=America/New_York:20220128T190000
DTEND;TZID=America/New_York:20220128T190000
DTSTAMP:20260420T162026
CREATED:20220129T030000Z
LAST-MODIFIED:20220508T020024Z
UID:124638-1643396400-1643396400@deetslive.com
SUMMARY:Santana: An Evening Of Greatest Hits\, House of Blues - Las Vegas
DESCRIPTION:Carlos Santana returns to Mandalay Bay’s House of Blues for one of best shows Las Vegas has to offer. Santana performs a set of his Greatest Hits & the vibe is as electric as the light on the famed Las Vegas Strip. \nBuy Tickets: Ticketmaster   ⇔   StubHub \n\n 
URL:https://deetslive.com/event/santana-an-intimate-evening-of-greatest-hits-house-of-blues-las-vegas/
LOCATION:House of Blues\, Mandalay Bay\, 3950 S Las Vegas Blvd.\, Las Vegas\, NV\, 89119
CATEGORIES:Las Vegas,Music
ATTACH;FMTTYPE=image/jpeg:https://deetslive.com/wp-content/uploads/2022/01/Screen-Shot-2022-05-07-at-6.58.16-PM.jpg
END:VEVENT
BEGIN:VEVENT
DTSTART;TZID=UTC:20220506T193000
DTEND;TZID=UTC:20220506T193000
DTSTAMP:20260420T162027
CREATED:20220507T023000Z
LAST-MODIFIED:20220506T233639Z
UID:125373-1651865400-1651865400@deetslive.com
SUMMARY:Pearl Jam at the Forum\, Los Angeles
DESCRIPTION:Pearl Jam \nThe Forum \nFriday & Saturday\, May 6th & 7th \nTicketmaster \n 
URL:https://deetslive.com/event/pearl-jam-at-the-forum-los-angeles/
LOCATION:The Forum\, 3900 W Manchester Blvd.\, Los Angeles\, CA\, 90305
CATEGORIES:Los Angeles,Music
ATTACH;FMTTYPE=image/jpeg:https://deetslive.com/wp-content/uploads/2022/05/Screen-Shot-2022-05-06-at-4.33.45-PM.jpg
END:VEVENT
BEGIN:VEVENT
DTSTART;TZID=UTC:20220506T080000
DTEND;TZID=UTC:20220506T170000
DTSTAMP:20260420T162027
CREATED:20220506T150000Z
LAST-MODIFIED:20220507T010645Z
UID:125381-1651824000-1651856400@deetslive.com
SUMMARY:The English Beat at The Canyon\, Agoura Hills
DESCRIPTION:The English Beat \nThe Canyon\, Agoura \nFriday\, May 6th\, 8p \nTicketmaster
URL:https://deetslive.com/event/the-english-beat-at-the-canyon-agoura-hills/
CATEGORIES:Los Angeles,Music
ATTACH;FMTTYPE=image/jpeg:https://deetslive.com/wp-content/uploads/2022/05/Screen-Shot-2022-05-06-at-6.05.44-PM.jpg
END:VEVENT
BEGIN:VEVENT
DTSTART;TZID=UTC:20220506T193000
DTEND;TZID=UTC:20220506T193000
DTSTAMP:20260420T162027
CREATED:20220507T023000Z
LAST-MODIFIED:20220506T233639Z
UID:125373-1651865400-1651865400@deetslive.com
SUMMARY:Pearl Jam at the Forum\, Los Angeles
DESCRIPTION:Pearl Jam \nThe Forum \nFriday & Saturday\, May 6th & 7th \nTicketmaster \n 
URL:https://deetslive.com/event/pearl-jam-at-the-forum-los-angeles/
LOCATION:The Forum\, 3900 W Manchester Blvd.\, Los Angeles\, CA\, 90305
CATEGORIES:Los Angeles,Music
ATTACH;FMTTYPE=image/jpeg:https://deetslive.com/wp-content/uploads/2022/05/Screen-Shot-2022-05-06-at-4.33.45-PM.jpg
END:VEVENT
BEGIN:VEVENT
DTSTART;TZID=UTC:20220506T080000
DTEND;TZID=UTC:20220506T170000
DTSTAMP:20260420T162027
CREATED:20220506T150000Z
LAST-MODIFIED:20220507T010645Z
UID:125381-1651824000-1651856400@deetslive.com
SUMMARY:The English Beat at The Canyon\, Agoura Hills
DESCRIPTION:The English Beat \nThe Canyon\, Agoura \nFriday\, May 6th\, 8p \nTicketmaster
URL:https://deetslive.com/event/the-english-beat-at-the-canyon-agoura-hills/
CATEGORIES:Los Angeles,Music
ATTACH;FMTTYPE=image/jpeg:https://deetslive.com/wp-content/uploads/2022/05/Screen-Shot-2022-05-06-at-6.05.44-PM.jpg
END:VEVENT
BEGIN:VEVENT
DTSTART;TZID=UTC:20220406T193000
DTEND;TZID=UTC:20220406T193000
DTSTAMP:20260420T162027
CREATED:20220404T082218Z
LAST-MODIFIED:20220527T054509Z
UID:125093-1649273400-1649273400@deetslive.com
SUMMARY:Billie Eilish at The Forum\, Los Angeles
DESCRIPTION:Billie Eilish will be at The Forum in her hometown of Los Angeles for 3 nights\, April 6\, 8 & 9th with all showtimes at 7:30p. Billie’s Happier Than Ever Tour is wrapping up in America and headed overseas. \nGet Tickets: Ticketmaster (Parking Passes Available)           StubHub (VIP Packages Available) \nhttps://www.youtube.com/watch?v=ZutXPV-RiWQ
URL:https://deetslive.com/event/billie-eilish-at-the-forum-los-angeles/
LOCATION:The Forum\, 3900 W Manchester Blvd.\, Los Angeles\, CA\, 90305
CATEGORIES:Los Angeles,Music
ATTACH;FMTTYPE=image/jpeg:https://deetslive.com/wp-content/uploads/2022/04/Screen-Shot-2022-05-26-at-10.43.34-PM.jpg
END:VEVENT
BEGIN:VEVENT
DTSTART;TZID=UTC:20220406T193000
DTEND;TZID=UTC:20220406T193000
DTSTAMP:20260420T162027
CREATED:20220404T082218Z
LAST-MODIFIED:20220527T054509Z
UID:125093-1649273400-1649273400@deetslive.com
SUMMARY:Billie Eilish at The Forum\, Los Angeles
DESCRIPTION:Billie Eilish will be at The Forum in her hometown of Los Angeles for 3 nights\, April 6\, 8 & 9th with all showtimes at 7:30p. Billie’s Happier Than Ever Tour is wrapping up in America and headed overseas. \nGet Tickets: Ticketmaster (Parking Passes Available)           StubHub (VIP Packages Available) \nhttps://www.youtube.com/watch?v=ZutXPV-RiWQ
URL:https://deetslive.com/event/billie-eilish-at-the-forum-los-angeles/
LOCATION:The Forum\, 3900 W Manchester Blvd.\, Los Angeles\, CA\, 90305
CATEGORIES:Los Angeles,Music
ATTACH;FMTTYPE=image/jpeg:https://deetslive.com/wp-content/uploads/2022/04/Screen-Shot-2022-05-26-at-10.43.34-PM.jpg
END:VEVENT
BEGIN:VEVENT
DTSTART;TZID=UTC:20220406T193000
DTEND;TZID=UTC:20220406T193000
DTSTAMP:20260420T162027
CREATED:20220404T082218Z
LAST-MODIFIED:20220527T054509Z
UID:125093-1649273400-1649273400@deetslive.com
SUMMARY:Billie Eilish at The Forum\, Los Angeles
DESCRIPTION:Billie Eilish will be at The Forum in her hometown of Los Angeles for 3 nights\, April 6\, 8 & 9th with all showtimes at 7:30p. Billie’s Happier Than Ever Tour is wrapping up in America and headed overseas. \nGet Tickets: Ticketmaster (Parking Passes Available)           StubHub (VIP Packages Available) \nhttps://www.youtube.com/watch?v=ZutXPV-RiWQ
URL:https://deetslive.com/event/billie-eilish-at-the-forum-los-angeles/
LOCATION:The Forum\, 3900 W Manchester Blvd.\, Los Angeles\, CA\, 90305
CATEGORIES:Los Angeles,Music
ATTACH;FMTTYPE=image/jpeg:https://deetslive.com/wp-content/uploads/2022/04/Screen-Shot-2022-05-26-at-10.43.34-PM.jpg
END:VEVENT
END:VCALENDAR