BEGIN:VCALENDAR
VERSION:2.0
PRODID:-//Daily Deets - ECPv6.15.20//NONSGML v1.0//EN
CALSCALE:GREGORIAN
METHOD:PUBLISH
X-WR-CALNAME:Daily Deets
X-ORIGINAL-URL:https://deetslive.com
X-WR-CALDESC:Events for Daily Deets
REFRESH-INTERVAL;VALUE=DURATION:PT1H
X-Robots-Tag:noindex
X-PUBLISHED-TTL:PT1H
BEGIN:VTIMEZONE
TZID:America/New_York
BEGIN:DAYLIGHT
TZOFFSETFROM:-0500
TZOFFSETTO:-0400
TZNAME:EDT
DTSTART:20200308T070000
END:DAYLIGHT
BEGIN:STANDARD
TZOFFSETFROM:-0400
TZOFFSETTO:-0500
TZNAME:EST
DTSTART:20201101T060000
END:STANDARD
BEGIN:DAYLIGHT
TZOFFSETFROM:-0500
TZOFFSETTO:-0400
TZNAME:EDT
DTSTART:20210314T070000
END:DAYLIGHT
BEGIN:STANDARD
TZOFFSETFROM:-0400
TZOFFSETTO:-0500
TZNAME:EST
DTSTART:20211107T060000
END:STANDARD
BEGIN:DAYLIGHT
TZOFFSETFROM:-0500
TZOFFSETTO:-0400
TZNAME:EDT
DTSTART:20220313T070000
END:DAYLIGHT
BEGIN:STANDARD
TZOFFSETFROM:-0400
TZOFFSETTO:-0500
TZNAME:EST
DTSTART:20221106T060000
END:STANDARD
BEGIN:DAYLIGHT
TZOFFSETFROM:-0500
TZOFFSETTO:-0400
TZNAME:EDT
DTSTART:20230312T070000
END:DAYLIGHT
BEGIN:STANDARD
TZOFFSETFROM:-0400
TZOFFSETTO:-0500
TZNAME:EST
DTSTART:20231105T060000
END:STANDARD
END:VTIMEZONE
BEGIN:VEVENT
DTSTART;TZID=America/New_York:20220128T190000
DTEND;TZID=America/New_York:20220128T190000
DTSTAMP:20260420T213732
CREATED:20220129T030000Z
LAST-MODIFIED:20220508T020024Z
UID:124638-1643396400-1643396400@deetslive.com
SUMMARY:Santana: An Evening Of Greatest Hits\, House of Blues - Las Vegas
DESCRIPTION:Carlos Santana returns to Mandalay Bay’s House of Blues for one of best shows Las Vegas has to offer. Santana performs a set of his Greatest Hits & the vibe is as electric as the light on the famed Las Vegas Strip. \nBuy Tickets: Ticketmaster   ⇔   StubHub \n\n 
URL:https://deetslive.com/event/santana-an-intimate-evening-of-greatest-hits-house-of-blues-las-vegas/
LOCATION:House of Blues\, Mandalay Bay\, 3950 S Las Vegas Blvd.\, Las Vegas\, NV\, 89119
CATEGORIES:Las Vegas,Music
ATTACH;FMTTYPE=image/jpeg:https://deetslive.com/wp-content/uploads/2022/01/Screen-Shot-2022-05-07-at-6.58.16-PM.jpg
END:VEVENT
BEGIN:VEVENT
DTSTART;TZID=America/New_York:20220203T193000
DTEND;TZID=America/New_York:20220203T200000
DTSTAMP:20260420T213732
CREATED:20220204T033000Z
LAST-MODIFIED:20220130T233746Z
UID:124618-1643916600-1643918400@deetslive.com
SUMMARY:Eddie Vedder and The Earthlings at Beacon Theatre\, New York City
DESCRIPTION:Eddie Vedder\, lead singer of Pearl Jam\, comes to New York City for two shows at the legendary Beacon Theatre on Thursday Feb. 3rd & Friday Feb. 4th\, showtime 7:30. \nBuy Tickets: Ticketmaster     StubHub \n\n 
URL:https://deetslive.com/event/eddie-vedder-and-the-earthlings-at-beacon-theatre-new-york-city/
LOCATION:Beacon Theatre\, 2124 Broadway\, New York City\, NY\, 10023
CATEGORIES:Music,New York/New Jersey
ATTACH;FMTTYPE=image/jpeg:https://deetslive.com/wp-content/uploads/2022/02/Screen-Shot-2022-01-30-at-3.37.16-PM.jpg
END:VEVENT
BEGIN:VEVENT
DTSTART;TZID=America/New_York:20220128T190000
DTEND;TZID=America/New_York:20220128T190000
DTSTAMP:20260420T213732
CREATED:20220129T030000Z
LAST-MODIFIED:20220508T020024Z
UID:124638-1643396400-1643396400@deetslive.com
SUMMARY:Santana: An Evening Of Greatest Hits\, House of Blues - Las Vegas
DESCRIPTION:Carlos Santana returns to Mandalay Bay’s House of Blues for one of best shows Las Vegas has to offer. Santana performs a set of his Greatest Hits & the vibe is as electric as the light on the famed Las Vegas Strip. \nBuy Tickets: Ticketmaster   ⇔   StubHub \n\n 
URL:https://deetslive.com/event/santana-an-intimate-evening-of-greatest-hits-house-of-blues-las-vegas/
LOCATION:House of Blues\, Mandalay Bay\, 3950 S Las Vegas Blvd.\, Las Vegas\, NV\, 89119
CATEGORIES:Las Vegas,Music
ATTACH;FMTTYPE=image/jpeg:https://deetslive.com/wp-content/uploads/2022/01/Screen-Shot-2022-05-07-at-6.58.16-PM.jpg
END:VEVENT
BEGIN:VEVENT
DTSTART;TZID=America/New_York:20220128T190000
DTEND;TZID=America/New_York:20220128T190000
DTSTAMP:20260420T213732
CREATED:20220129T030000Z
LAST-MODIFIED:20220508T020024Z
UID:124638-1643396400-1643396400@deetslive.com
SUMMARY:Santana: An Evening Of Greatest Hits\, House of Blues - Las Vegas
DESCRIPTION:Carlos Santana returns to Mandalay Bay’s House of Blues for one of best shows Las Vegas has to offer. Santana performs a set of his Greatest Hits & the vibe is as electric as the light on the famed Las Vegas Strip. \nBuy Tickets: Ticketmaster   ⇔   StubHub \n\n 
URL:https://deetslive.com/event/santana-an-intimate-evening-of-greatest-hits-house-of-blues-las-vegas/
LOCATION:House of Blues\, Mandalay Bay\, 3950 S Las Vegas Blvd.\, Las Vegas\, NV\, 89119
CATEGORIES:Las Vegas,Music
ATTACH;FMTTYPE=image/jpeg:https://deetslive.com/wp-content/uploads/2022/01/Screen-Shot-2022-05-07-at-6.58.16-PM.jpg
END:VEVENT
BEGIN:VEVENT
DTSTART;TZID=America/New_York:20220128T190000
DTEND;TZID=America/New_York:20220128T190000
DTSTAMP:20260420T213732
CREATED:20220129T030000Z
LAST-MODIFIED:20220508T020024Z
UID:124638-1643396400-1643396400@deetslive.com
SUMMARY:Santana: An Evening Of Greatest Hits\, House of Blues - Las Vegas
DESCRIPTION:Carlos Santana returns to Mandalay Bay’s House of Blues for one of best shows Las Vegas has to offer. Santana performs a set of his Greatest Hits & the vibe is as electric as the light on the famed Las Vegas Strip. \nBuy Tickets: Ticketmaster   ⇔   StubHub \n\n 
URL:https://deetslive.com/event/santana-an-intimate-evening-of-greatest-hits-house-of-blues-las-vegas/
LOCATION:House of Blues\, Mandalay Bay\, 3950 S Las Vegas Blvd.\, Las Vegas\, NV\, 89119
CATEGORIES:Las Vegas,Music
ATTACH;FMTTYPE=image/jpeg:https://deetslive.com/wp-content/uploads/2022/01/Screen-Shot-2022-05-07-at-6.58.16-PM.jpg
END:VEVENT
BEGIN:VEVENT
DTSTART;TZID=America/New_York:20211105T200000
DTEND;TZID=America/New_York:20211105T200000
DTSTAMP:20260420T213732
CREATED:20211101T020554Z
LAST-MODIFIED:20211101T021037Z
UID:123872-1636142400-1636142400@deetslive.com
SUMMARY:Billy Joel at Madison Square Garden
DESCRIPTION:Billy Joel returns to Madison Square Garden to pick up his monthly residency at the world’s most famous arena\, Madison Square Garden! Get Tickets Here
URL:https://deetslive.com/event/billy-joel-at-madison-square-garden/
LOCATION:Madison Square Garden\, 4 Pennsylvania Plaza\, New York City\, New York\, 10001\, United States
CATEGORIES:Music
ATTACH;FMTTYPE=image/jpeg:https://deetslive.com/wp-content/uploads/2021/10/Screen-Shot-2021-10-31-at-3.51.31-PM.jpg
END:VEVENT
BEGIN:VEVENT
DTSTART;TZID=America/New_York:20211215T193000
DTEND;TZID=America/New_York:20211215T193000
DTSTAMP:20260420T213733
CREATED:20211207T084548Z
LAST-MODIFIED:20211207T084548Z
UID:124222-1639596600-1639596600@deetslive.com
SUMMARY:Andrea Bocelli at Madison Square Garden\, NYC
DESCRIPTION:Andrea Bocelli returns for his annual Holiday shows at Madison Square Garden. Featuring performances from Bocelli’s new album Believe\, as well as a selection of arias\, his beloved crossover hits and famed love songs. After a year of Bocelli’s record-breaking live-streamed performances that brought comfort to viewers around the globe\, Bocelli is bringing his blockbuster live show to US audiences. Get Tickets Here
URL:https://deetslive.com/event/andrea-bocelli-at-madison-square-garden-nyc/
LOCATION:Madison Square Garden\, 4 Pennsylvania Plaza\, New York City\, New York\, 10001\, United States
CATEGORIES:Music
ATTACH;FMTTYPE=image/jpeg:https://deetslive.com/wp-content/uploads/2021/12/Screen-Shot-2021-12-06-at-7.28.51-PM.jpg
END:VEVENT
BEGIN:VEVENT
DTSTART;TZID=America/New_York:20211215T193000
DTEND;TZID=America/New_York:20211215T193000
DTSTAMP:20260420T213733
CREATED:20211207T084548Z
LAST-MODIFIED:20211207T084548Z
UID:124222-1639596600-1639596600@deetslive.com
SUMMARY:Andrea Bocelli at Madison Square Garden\, NYC
DESCRIPTION:Andrea Bocelli returns for his annual Holiday shows at Madison Square Garden. Featuring performances from Bocelli’s new album Believe\, as well as a selection of arias\, his beloved crossover hits and famed love songs. After a year of Bocelli’s record-breaking live-streamed performances that brought comfort to viewers around the globe\, Bocelli is bringing his blockbuster live show to US audiences. Get Tickets Here
URL:https://deetslive.com/event/andrea-bocelli-at-madison-square-garden-nyc/
LOCATION:Madison Square Garden\, 4 Pennsylvania Plaza\, New York City\, New York\, 10001\, United States
CATEGORIES:Music
ATTACH;FMTTYPE=image/jpeg:https://deetslive.com/wp-content/uploads/2021/12/Screen-Shot-2021-12-06-at-7.28.51-PM.jpg
END:VEVENT
BEGIN:VEVENT
DTSTART;TZID=America/New_York:20211205T200000
DTEND;TZID=America/New_York:20211205T200000
DTSTAMP:20260420T213733
CREATED:20211201T233147Z
LAST-MODIFIED:20211201T233147Z
UID:124144-1638734400-1638734400@deetslive.com
SUMMARY:Genesis at Madison Square Garden\, NYC "The Last Domino?"
DESCRIPTION:Genesis has reached the finish line. “The Last Domino?” is the last time Genesis will be touring. Phil Collins has battled degenerative nerve damage for years\, but is still performing at an incredible level for the 2 1/2 hour show. While he’s not behind the drums\, Phil’s son is now handling that while his dad sings every classic hit that will strike familiar chords of your life. Do not miss your last chance to see Genesis! Get Tickets Here
URL:https://deetslive.com/event/genesis-at-madison-square-garden-nyc-the-last-domino/
LOCATION:Madison Square Garden\, 4 Pennsylvania Plaza\, New York City\, New York\, 10001\, United States
CATEGORIES:Music
ATTACH;FMTTYPE=image/png:https://deetslive.com/wp-content/uploads/2021/12/Screen-Shot-2021-12-01-at-12.31.15-PM.png
END:VEVENT
BEGIN:VEVENT
DTSTART;TZID=America/New_York:20211205T200000
DTEND;TZID=America/New_York:20211205T200000
DTSTAMP:20260420T213733
CREATED:20211201T233147Z
LAST-MODIFIED:20211201T233147Z
UID:124144-1638734400-1638734400@deetslive.com
SUMMARY:Genesis at Madison Square Garden\, NYC "The Last Domino?"
DESCRIPTION:Genesis has reached the finish line. “The Last Domino?” is the last time Genesis will be touring. Phil Collins has battled degenerative nerve damage for years\, but is still performing at an incredible level for the 2 1/2 hour show. While he’s not behind the drums\, Phil’s son is now handling that while his dad sings every classic hit that will strike familiar chords of your life. Do not miss your last chance to see Genesis! Get Tickets Here
URL:https://deetslive.com/event/genesis-at-madison-square-garden-nyc-the-last-domino/
LOCATION:Madison Square Garden\, 4 Pennsylvania Plaza\, New York City\, New York\, 10001\, United States
CATEGORIES:Music
ATTACH;FMTTYPE=image/png:https://deetslive.com/wp-content/uploads/2021/12/Screen-Shot-2021-12-01-at-12.31.15-PM.png
END:VEVENT
BEGIN:VEVENT
DTSTART;TZID=America/New_York:20211112T193000
DTEND;TZID=America/New_York:20211112T193000
DTSTAMP:20260420T213733
CREATED:20211110T221333Z
LAST-MODIFIED:20211111T011414Z
UID:124090-1636745400-1636745400@deetslive.com
SUMMARY:Dave Matthews Band at Madison Square Garden\, New York
DESCRIPTION:Dave Matthews Band will make their highly anticipated return to The Garden with very special guest Dumpstaphunk on November 12 & 13. Get Tickets Here \nhttps://www.youtube.com/watch?v=Eei2lTAiP6Q
URL:https://deetslive.com/event/dave-matthews-band-at-madison-square-garden-new-york/
LOCATION:Madison Square Garden\, 4 Pennsylvania Plaza\, New York City\, New York\, 10001\, United States
CATEGORIES:Music
ATTACH;FMTTYPE=image/jpeg:https://deetslive.com/wp-content/uploads/2021/11/Screen-Shot-2021-11-10-at-5.12.47-PM.jpg
END:VEVENT
BEGIN:VEVENT
DTSTART;TZID=America/New_York:20211112T193000
DTEND;TZID=America/New_York:20211112T193000
DTSTAMP:20260420T213733
CREATED:20211110T221333Z
LAST-MODIFIED:20211111T011414Z
UID:124090-1636745400-1636745400@deetslive.com
SUMMARY:Dave Matthews Band at Madison Square Garden\, New York
DESCRIPTION:Dave Matthews Band will make their highly anticipated return to The Garden with very special guest Dumpstaphunk on November 12 & 13. Get Tickets Here \nhttps://www.youtube.com/watch?v=Eei2lTAiP6Q
URL:https://deetslive.com/event/dave-matthews-band-at-madison-square-garden-new-york/
LOCATION:Madison Square Garden\, 4 Pennsylvania Plaza\, New York City\, New York\, 10001\, United States
CATEGORIES:Music
ATTACH;FMTTYPE=image/jpeg:https://deetslive.com/wp-content/uploads/2021/11/Screen-Shot-2021-11-10-at-5.12.47-PM.jpg
END:VEVENT
BEGIN:VEVENT
DTSTART;TZID=America/New_York:20211105T200000
DTEND;TZID=America/New_York:20211105T200000
DTSTAMP:20260420T213733
CREATED:20211101T020554Z
LAST-MODIFIED:20211101T021037Z
UID:123872-1636142400-1636142400@deetslive.com
SUMMARY:Billy Joel at Madison Square Garden
DESCRIPTION:Billy Joel returns to Madison Square Garden to pick up his monthly residency at the world’s most famous arena\, Madison Square Garden! Get Tickets Here
URL:https://deetslive.com/event/billy-joel-at-madison-square-garden/
LOCATION:Madison Square Garden\, 4 Pennsylvania Plaza\, New York City\, New York\, 10001\, United States
CATEGORIES:Music
ATTACH;FMTTYPE=image/jpeg:https://deetslive.com/wp-content/uploads/2021/10/Screen-Shot-2021-10-31-at-3.51.31-PM.jpg
END:VEVENT
BEGIN:VEVENT
DTSTART;TZID=America/New_York:20211003T200000
DTEND;TZID=America/New_York:20211003T200000
DTSTAMP:20260420T213733
CREATED:20211001T183733Z
LAST-MODIFIED:20211001T191255Z
UID:123813-1633291200-1633291200@deetslive.com
SUMMARY:Harry Styles at Madison Square Garden\, NYC
DESCRIPTION:Harry Styles’ long awaited ‘Love on Tour’ arrives in NYC for 5 shows\, 10/3\, 4\, 16\, and on the 30th & 31st\, the Harryween Fancy Dress Party! Styles postponed his 2020 Tour & is back playing to sold out arenas getting killer reviews as the “Feel good show” people have been waiting for. Get Tickets Here
URL:https://deetslive.com/event/harry-styles-at-madison-square-garden-nyc/
LOCATION:Madison Square Garden\, 4 Pennsylvania Plaza\, New York City\, New York\, 10001\, United States
CATEGORIES:Music
ATTACH;FMTTYPE=image/jpeg:https://deetslive.com/wp-content/uploads/2021/10/Screen-Shot-2021-10-01-at-11.29.29-AM.jpg
END:VEVENT
BEGIN:VEVENT
DTSTART;TZID=America/New_York:20211003T200000
DTEND;TZID=America/New_York:20211003T200000
DTSTAMP:20260420T213733
CREATED:20211001T183733Z
LAST-MODIFIED:20211001T191255Z
UID:123813-1633291200-1633291200@deetslive.com
SUMMARY:Harry Styles at Madison Square Garden\, NYC
DESCRIPTION:Harry Styles’ long awaited ‘Love on Tour’ arrives in NYC for 5 shows\, 10/3\, 4\, 16\, and on the 30th & 31st\, the Harryween Fancy Dress Party! Styles postponed his 2020 Tour & is back playing to sold out arenas getting killer reviews as the “Feel good show” people have been waiting for. Get Tickets Here
URL:https://deetslive.com/event/harry-styles-at-madison-square-garden-nyc/
LOCATION:Madison Square Garden\, 4 Pennsylvania Plaza\, New York City\, New York\, 10001\, United States
CATEGORIES:Music
ATTACH;FMTTYPE=image/jpeg:https://deetslive.com/wp-content/uploads/2021/10/Screen-Shot-2021-10-01-at-11.29.29-AM.jpg
END:VEVENT
BEGIN:VEVENT
DTSTART;TZID=America/New_York:20211003T200000
DTEND;TZID=America/New_York:20211003T200000
DTSTAMP:20260420T213734
CREATED:20211001T183733Z
LAST-MODIFIED:20211001T191255Z
UID:123813-1633291200-1633291200@deetslive.com
SUMMARY:Harry Styles at Madison Square Garden\, NYC
DESCRIPTION:Harry Styles’ long awaited ‘Love on Tour’ arrives in NYC for 5 shows\, 10/3\, 4\, 16\, and on the 30th & 31st\, the Harryween Fancy Dress Party! Styles postponed his 2020 Tour & is back playing to sold out arenas getting killer reviews as the “Feel good show” people have been waiting for. Get Tickets Here
URL:https://deetslive.com/event/harry-styles-at-madison-square-garden-nyc/
LOCATION:Madison Square Garden\, 4 Pennsylvania Plaza\, New York City\, New York\, 10001\, United States
CATEGORIES:Music
ATTACH;FMTTYPE=image/jpeg:https://deetslive.com/wp-content/uploads/2021/10/Screen-Shot-2021-10-01-at-11.29.29-AM.jpg
END:VEVENT
BEGIN:VEVENT
DTSTART;TZID=America/New_York:20210930T193000
DTEND;TZID=America/New_York:20210930T193000
DTSTAMP:20260420T213734
CREATED:20210929T154937Z
LAST-MODIFIED:20210929T154937Z
UID:123791-1633030200-1633030200@deetslive.com
SUMMARY:Tedeschi Trucks
DESCRIPTION:Tedeschi Trucks return to the Beacon Theatre for 7 shows! Get Tickets Here
URL:https://deetslive.com/event/tedeschi-trucks/
LOCATION:Beacon Theatre\, 2124 Broadway\, New York City\, NY\, 10023
CATEGORIES:Music
ATTACH;FMTTYPE=image/jpeg:https://deetslive.com/wp-content/uploads/2021/09/Screen-Shot-2021-09-29-at-8.38.25-AM.jpg
END:VEVENT
BEGIN:VEVENT
DTSTART;TZID=America/New_York:20210930T193000
DTEND;TZID=America/New_York:20210930T193000
DTSTAMP:20260420T213734
CREATED:20210929T154937Z
LAST-MODIFIED:20210929T154937Z
UID:123791-1633030200-1633030200@deetslive.com
SUMMARY:Tedeschi Trucks
DESCRIPTION:Tedeschi Trucks return to the Beacon Theatre for 7 shows! Get Tickets Here
URL:https://deetslive.com/event/tedeschi-trucks/
LOCATION:Beacon Theatre\, 2124 Broadway\, New York City\, NY\, 10023
CATEGORIES:Music
ATTACH;FMTTYPE=image/jpeg:https://deetslive.com/wp-content/uploads/2021/09/Screen-Shot-2021-09-29-at-8.38.25-AM.jpg
END:VEVENT
BEGIN:VEVENT
DTSTART;TZID=America/New_York:20210930T193000
DTEND;TZID=America/New_York:20210930T193000
DTSTAMP:20260420T213734
CREATED:20210929T154937Z
LAST-MODIFIED:20210929T154937Z
UID:123791-1633030200-1633030200@deetslive.com
SUMMARY:Tedeschi Trucks
DESCRIPTION:Tedeschi Trucks return to the Beacon Theatre for 7 shows! Get Tickets Here
URL:https://deetslive.com/event/tedeschi-trucks/
LOCATION:Beacon Theatre\, 2124 Broadway\, New York City\, NY\, 10023
CATEGORIES:Music
ATTACH;FMTTYPE=image/jpeg:https://deetslive.com/wp-content/uploads/2021/09/Screen-Shot-2021-09-29-at-8.38.25-AM.jpg
END:VEVENT
BEGIN:VEVENT
DTSTART;TZID=America/New_York:20210930T193000
DTEND;TZID=America/New_York:20210930T193000
DTSTAMP:20260420T213734
CREATED:20210929T154937Z
LAST-MODIFIED:20210929T154937Z
UID:123791-1633030200-1633030200@deetslive.com
SUMMARY:Tedeschi Trucks
DESCRIPTION:Tedeschi Trucks return to the Beacon Theatre for 7 shows! Get Tickets Here
URL:https://deetslive.com/event/tedeschi-trucks/
LOCATION:Beacon Theatre\, 2124 Broadway\, New York City\, NY\, 10023
CATEGORIES:Music
ATTACH;FMTTYPE=image/jpeg:https://deetslive.com/wp-content/uploads/2021/09/Screen-Shot-2021-09-29-at-8.38.25-AM.jpg
END:VEVENT
BEGIN:VEVENT
DTSTART;TZID=America/New_York:20211003T200000
DTEND;TZID=America/New_York:20211003T200000
DTSTAMP:20260420T213734
CREATED:20211001T183733Z
LAST-MODIFIED:20211001T191255Z
UID:123813-1633291200-1633291200@deetslive.com
SUMMARY:Harry Styles at Madison Square Garden\, NYC
DESCRIPTION:Harry Styles’ long awaited ‘Love on Tour’ arrives in NYC for 5 shows\, 10/3\, 4\, 16\, and on the 30th & 31st\, the Harryween Fancy Dress Party! Styles postponed his 2020 Tour & is back playing to sold out arenas getting killer reviews as the “Feel good show” people have been waiting for. Get Tickets Here
URL:https://deetslive.com/event/harry-styles-at-madison-square-garden-nyc/
LOCATION:Madison Square Garden\, 4 Pennsylvania Plaza\, New York City\, New York\, 10001\, United States
CATEGORIES:Music
ATTACH;FMTTYPE=image/jpeg:https://deetslive.com/wp-content/uploads/2021/10/Screen-Shot-2021-10-01-at-11.29.29-AM.jpg
END:VEVENT
BEGIN:VEVENT
DTSTART;TZID=America/New_York:20211003T200000
DTEND;TZID=America/New_York:20211003T200000
DTSTAMP:20260420T213735
CREATED:20211001T183733Z
LAST-MODIFIED:20211001T191255Z
UID:123813-1633291200-1633291200@deetslive.com
SUMMARY:Harry Styles at Madison Square Garden\, NYC
DESCRIPTION:Harry Styles’ long awaited ‘Love on Tour’ arrives in NYC for 5 shows\, 10/3\, 4\, 16\, and on the 30th & 31st\, the Harryween Fancy Dress Party! Styles postponed his 2020 Tour & is back playing to sold out arenas getting killer reviews as the “Feel good show” people have been waiting for. Get Tickets Here
URL:https://deetslive.com/event/harry-styles-at-madison-square-garden-nyc/
LOCATION:Madison Square Garden\, 4 Pennsylvania Plaza\, New York City\, New York\, 10001\, United States
CATEGORIES:Music
ATTACH;FMTTYPE=image/jpeg:https://deetslive.com/wp-content/uploads/2021/10/Screen-Shot-2021-10-01-at-11.29.29-AM.jpg
END:VEVENT
BEGIN:VEVENT
DTSTART;TZID=America/New_York:20210930T193000
DTEND;TZID=America/New_York:20210930T193000
DTSTAMP:20260420T213735
CREATED:20210929T154937Z
LAST-MODIFIED:20210929T154937Z
UID:123791-1633030200-1633030200@deetslive.com
SUMMARY:Tedeschi Trucks
DESCRIPTION:Tedeschi Trucks return to the Beacon Theatre for 7 shows! Get Tickets Here
URL:https://deetslive.com/event/tedeschi-trucks/
LOCATION:Beacon Theatre\, 2124 Broadway\, New York City\, NY\, 10023
CATEGORIES:Music
ATTACH;FMTTYPE=image/jpeg:https://deetslive.com/wp-content/uploads/2021/09/Screen-Shot-2021-09-29-at-8.38.25-AM.jpg
END:VEVENT
BEGIN:VEVENT
DTSTART;TZID=America/New_York:20210930T193000
DTEND;TZID=America/New_York:20210930T193000
DTSTAMP:20260420T213735
CREATED:20210929T154937Z
LAST-MODIFIED:20210929T154937Z
UID:123791-1633030200-1633030200@deetslive.com
SUMMARY:Tedeschi Trucks
DESCRIPTION:Tedeschi Trucks return to the Beacon Theatre for 7 shows! Get Tickets Here
URL:https://deetslive.com/event/tedeschi-trucks/
LOCATION:Beacon Theatre\, 2124 Broadway\, New York City\, NY\, 10023
CATEGORIES:Music
ATTACH;FMTTYPE=image/jpeg:https://deetslive.com/wp-content/uploads/2021/09/Screen-Shot-2021-09-29-at-8.38.25-AM.jpg
END:VEVENT
BEGIN:VEVENT
DTSTART;TZID=America/New_York:20210930T193000
DTEND;TZID=America/New_York:20210930T193000
DTSTAMP:20260420T213735
CREATED:20210929T154937Z
LAST-MODIFIED:20210929T154937Z
UID:123791-1633030200-1633030200@deetslive.com
SUMMARY:Tedeschi Trucks
DESCRIPTION:Tedeschi Trucks return to the Beacon Theatre for 7 shows! Get Tickets Here
URL:https://deetslive.com/event/tedeschi-trucks/
LOCATION:Beacon Theatre\, 2124 Broadway\, New York City\, NY\, 10023
CATEGORIES:Music
ATTACH;FMTTYPE=image/jpeg:https://deetslive.com/wp-content/uploads/2021/09/Screen-Shot-2021-09-29-at-8.38.25-AM.jpg
END:VEVENT
BEGIN:VEVENT
DTSTART;TZID=America/New_York:20210626T200000
DTEND;TZID=America/New_York:20210626T200000
DTSTAMP:20260420T213735
CREATED:20210611T212109Z
LAST-MODIFIED:20210716T180456Z
UID:122487-1624737600-1624737600@deetslive.com
SUMMARY:Bruce Springsteen on Broadway
DESCRIPTION:Bruce Springsteen returns to Broadway & will be the first full attendance show in New York City. Springsteen’s show at the St. James Theatre runs June 26th through September 4th. GET TICKETS HERE
URL:https://deetslive.com/event/bruce-springsteen-on-broadway/
LOCATION:St. James Theatre\, 246 W. 44th St.\, New York\, New York\, 10036
CATEGORIES:Music
ATTACH;FMTTYPE=image/jpeg:https://deetslive.com/wp-content/uploads/2021/06/Screen-Shot-2021-07-16-at-10.53.17-AM.jpg
END:VEVENT
BEGIN:VEVENT
DTSTART;TZID=America/New_York:20210626T200000
DTEND;TZID=America/New_York:20210626T200000
DTSTAMP:20260420T213735
CREATED:20210611T212109Z
LAST-MODIFIED:20210716T180456Z
UID:122487-1624737600-1624737600@deetslive.com
SUMMARY:Bruce Springsteen on Broadway
DESCRIPTION:Bruce Springsteen returns to Broadway & will be the first full attendance show in New York City. Springsteen’s show at the St. James Theatre runs June 26th through September 4th. GET TICKETS HERE
URL:https://deetslive.com/event/bruce-springsteen-on-broadway/
LOCATION:St. James Theatre\, 246 W. 44th St.\, New York\, New York\, 10036
CATEGORIES:Music
ATTACH;FMTTYPE=image/jpeg:https://deetslive.com/wp-content/uploads/2021/06/Screen-Shot-2021-07-16-at-10.53.17-AM.jpg
END:VEVENT
BEGIN:VEVENT
DTSTART;TZID=America/New_York:20210902T190000
DTEND;TZID=America/New_York:20210902T190000
DTSTAMP:20260420T213736
CREATED:20210901T215023Z
LAST-MODIFIED:20210901T215023Z
UID:123611-1630609200-1630609200@deetslive.com
SUMMARY:Zac Brown at Northwell Health Jones Beach Theater
DESCRIPTION:Zac Brown is thrilled to be back on the road after an 18 month Covid hiatus with The Comeback Tour. Get Tickets Here \n  \n\n“Slow Burn” is on the set list starting this weekend! Indiana\, thanks for rockin with us… a memory like that is a slow burn⚡️ #TheComebackTour \n▶️ https://t.co/4URe5t2sld pic.twitter.com/DD1GxSyRAc \n— Zac Brown Band (@zacbrownband) August 28\, 2021
URL:https://deetslive.com/event/zac-brown-at-northwell-health-jones-beach-theater/
LOCATION:Northwell Health Jones Beach Theater\, 895 Bay Parkway\, Wantagh\, New York\, 11793
CATEGORIES:Music
ATTACH;FMTTYPE=image/jpeg:https://deetslive.com/wp-content/uploads/2021/09/Screen-Shot-2021-09-01-at-11.40.48-AM.jpg
END:VEVENT
BEGIN:VEVENT
DTSTART;TZID=America/New_York:20210626T200000
DTEND;TZID=America/New_York:20210626T200000
DTSTAMP:20260420T213736
CREATED:20210611T212109Z
LAST-MODIFIED:20210716T180456Z
UID:122487-1624737600-1624737600@deetslive.com
SUMMARY:Bruce Springsteen on Broadway
DESCRIPTION:Bruce Springsteen returns to Broadway & will be the first full attendance show in New York City. Springsteen’s show at the St. James Theatre runs June 26th through September 4th. GET TICKETS HERE
URL:https://deetslive.com/event/bruce-springsteen-on-broadway/
LOCATION:St. James Theatre\, 246 W. 44th St.\, New York\, New York\, 10036
CATEGORIES:Music
ATTACH;FMTTYPE=image/jpeg:https://deetslive.com/wp-content/uploads/2021/06/Screen-Shot-2021-07-16-at-10.53.17-AM.jpg
END:VEVENT
BEGIN:VEVENT
DTSTART;TZID=America/New_York:20210902T190000
DTEND;TZID=America/New_York:20210902T190000
DTSTAMP:20260420T213736
CREATED:20210901T215023Z
LAST-MODIFIED:20210901T215023Z
UID:123611-1630609200-1630609200@deetslive.com
SUMMARY:Zac Brown at Northwell Health Jones Beach Theater
DESCRIPTION:Zac Brown is thrilled to be back on the road after an 18 month Covid hiatus with The Comeback Tour. Get Tickets Here \n  \n\n“Slow Burn” is on the set list starting this weekend! Indiana\, thanks for rockin with us… a memory like that is a slow burn⚡️ #TheComebackTour \n▶️ https://t.co/4URe5t2sld pic.twitter.com/DD1GxSyRAc \n— Zac Brown Band (@zacbrownband) August 28\, 2021
URL:https://deetslive.com/event/zac-brown-at-northwell-health-jones-beach-theater/
LOCATION:Northwell Health Jones Beach Theater\, 895 Bay Parkway\, Wantagh\, New York\, 11793
CATEGORIES:Music
ATTACH;FMTTYPE=image/jpeg:https://deetslive.com/wp-content/uploads/2021/09/Screen-Shot-2021-09-01-at-11.40.48-AM.jpg
END:VEVENT
END:VCALENDAR