BEGIN:VCALENDAR
VERSION:2.0
PRODID:-//Daily Deets - ECPv6.15.20//NONSGML v1.0//EN
CALSCALE:GREGORIAN
METHOD:PUBLISH
X-ORIGINAL-URL:https://deetslive.com
X-WR-CALDESC:Events for Daily Deets
REFRESH-INTERVAL;VALUE=DURATION:PT1H
X-Robots-Tag:noindex
X-PUBLISHED-TTL:PT1H
BEGIN:VTIMEZONE
TZID:America/New_York
BEGIN:DAYLIGHT
TZOFFSETFROM:-0500
TZOFFSETTO:-0400
TZNAME:EDT
DTSTART:20200308T070000
END:DAYLIGHT
BEGIN:STANDARD
TZOFFSETFROM:-0400
TZOFFSETTO:-0500
TZNAME:EST
DTSTART:20201101T060000
END:STANDARD
BEGIN:DAYLIGHT
TZOFFSETFROM:-0500
TZOFFSETTO:-0400
TZNAME:EDT
DTSTART:20210314T070000
END:DAYLIGHT
BEGIN:STANDARD
TZOFFSETFROM:-0400
TZOFFSETTO:-0500
TZNAME:EST
DTSTART:20211107T060000
END:STANDARD
BEGIN:DAYLIGHT
TZOFFSETFROM:-0500
TZOFFSETTO:-0400
TZNAME:EDT
DTSTART:20220313T070000
END:DAYLIGHT
BEGIN:STANDARD
TZOFFSETFROM:-0400
TZOFFSETTO:-0500
TZNAME:EST
DTSTART:20221106T060000
END:STANDARD
END:VTIMEZONE
BEGIN:VEVENT
DTSTART;TZID=America/New_York:20210626T200000
DTEND;TZID=America/New_York:20210626T200000
DTSTAMP:20260421T015731
CREATED:20210611T212109Z
LAST-MODIFIED:20210716T180456Z
UID:122487-1624737600-1624737600@deetslive.com
SUMMARY:Bruce Springsteen on Broadway
DESCRIPTION:Bruce Springsteen returns to Broadway & will be the first full attendance show in New York City. Springsteen’s show at the St. James Theatre runs June 26th through September 4th. GET TICKETS HERE
URL:https://deetslive.com/event/bruce-springsteen-on-broadway/
LOCATION:St. James Theatre\, 246 W. 44th St.\, New York\, New York\, 10036
CATEGORIES:Music
ATTACH;FMTTYPE=image/jpeg:https://deetslive.com/wp-content/uploads/2021/06/Screen-Shot-2021-07-16-at-10.53.17-AM.jpg
END:VEVENT
BEGIN:VEVENT
DTSTART;TZID=America/New_York:20210626T200000
DTEND;TZID=America/New_York:20210626T200000
DTSTAMP:20260421T015731
CREATED:20210611T212109Z
LAST-MODIFIED:20210716T180456Z
UID:122487-1624737600-1624737600@deetslive.com
SUMMARY:Bruce Springsteen on Broadway
DESCRIPTION:Bruce Springsteen returns to Broadway & will be the first full attendance show in New York City. Springsteen’s show at the St. James Theatre runs June 26th through September 4th. GET TICKETS HERE
URL:https://deetslive.com/event/bruce-springsteen-on-broadway/
LOCATION:St. James Theatre\, 246 W. 44th St.\, New York\, New York\, 10036
CATEGORIES:Music
ATTACH;FMTTYPE=image/jpeg:https://deetslive.com/wp-content/uploads/2021/06/Screen-Shot-2021-07-16-at-10.53.17-AM.jpg
END:VEVENT
BEGIN:VEVENT
DTSTART;TZID=America/New_York:20210626T200000
DTEND;TZID=America/New_York:20210626T200000
DTSTAMP:20260421T015732
CREATED:20210611T212109Z
LAST-MODIFIED:20210716T180456Z
UID:122487-1624737600-1624737600@deetslive.com
SUMMARY:Bruce Springsteen on Broadway
DESCRIPTION:Bruce Springsteen returns to Broadway & will be the first full attendance show in New York City. Springsteen’s show at the St. James Theatre runs June 26th through September 4th. GET TICKETS HERE
URL:https://deetslive.com/event/bruce-springsteen-on-broadway/
LOCATION:St. James Theatre\, 246 W. 44th St.\, New York\, New York\, 10036
CATEGORIES:Music
ATTACH;FMTTYPE=image/jpeg:https://deetslive.com/wp-content/uploads/2021/06/Screen-Shot-2021-07-16-at-10.53.17-AM.jpg
END:VEVENT
BEGIN:VEVENT
DTSTART;TZID=America/New_York:20210626T200000
DTEND;TZID=America/New_York:20210626T200000
DTSTAMP:20260421T015732
CREATED:20210611T212109Z
LAST-MODIFIED:20210716T180456Z
UID:122487-1624737600-1624737600@deetslive.com
SUMMARY:Bruce Springsteen on Broadway
DESCRIPTION:Bruce Springsteen returns to Broadway & will be the first full attendance show in New York City. Springsteen’s show at the St. James Theatre runs June 26th through September 4th. GET TICKETS HERE
URL:https://deetslive.com/event/bruce-springsteen-on-broadway/
LOCATION:St. James Theatre\, 246 W. 44th St.\, New York\, New York\, 10036
CATEGORIES:Music
ATTACH;FMTTYPE=image/jpeg:https://deetslive.com/wp-content/uploads/2021/06/Screen-Shot-2021-07-16-at-10.53.17-AM.jpg
END:VEVENT
BEGIN:VEVENT
DTSTART;TZID=America/New_York:20210626T200000
DTEND;TZID=America/New_York:20210626T200000
DTSTAMP:20260421T015732
CREATED:20210611T212109Z
LAST-MODIFIED:20210716T180456Z
UID:122487-1624737600-1624737600@deetslive.com
SUMMARY:Bruce Springsteen on Broadway
DESCRIPTION:Bruce Springsteen returns to Broadway & will be the first full attendance show in New York City. Springsteen’s show at the St. James Theatre runs June 26th through September 4th. GET TICKETS HERE
URL:https://deetslive.com/event/bruce-springsteen-on-broadway/
LOCATION:St. James Theatre\, 246 W. 44th St.\, New York\, New York\, 10036
CATEGORIES:Music
ATTACH;FMTTYPE=image/jpeg:https://deetslive.com/wp-content/uploads/2021/06/Screen-Shot-2021-07-16-at-10.53.17-AM.jpg
END:VEVENT
BEGIN:VEVENT
DTSTART;TZID=America/New_York:20210626T200000
DTEND;TZID=America/New_York:20210626T200000
DTSTAMP:20260421T015732
CREATED:20210611T212109Z
LAST-MODIFIED:20210716T180456Z
UID:122487-1624737600-1624737600@deetslive.com
SUMMARY:Bruce Springsteen on Broadway
DESCRIPTION:Bruce Springsteen returns to Broadway & will be the first full attendance show in New York City. Springsteen’s show at the St. James Theatre runs June 26th through September 4th. GET TICKETS HERE
URL:https://deetslive.com/event/bruce-springsteen-on-broadway/
LOCATION:St. James Theatre\, 246 W. 44th St.\, New York\, New York\, 10036
CATEGORIES:Music
ATTACH;FMTTYPE=image/jpeg:https://deetslive.com/wp-content/uploads/2021/06/Screen-Shot-2021-07-16-at-10.53.17-AM.jpg
END:VEVENT
BEGIN:VEVENT
DTSTART;TZID=America/New_York:20210626T200000
DTEND;TZID=America/New_York:20210626T200000
DTSTAMP:20260421T015732
CREATED:20210611T212109Z
LAST-MODIFIED:20210716T180456Z
UID:122487-1624737600-1624737600@deetslive.com
SUMMARY:Bruce Springsteen on Broadway
DESCRIPTION:Bruce Springsteen returns to Broadway & will be the first full attendance show in New York City. Springsteen’s show at the St. James Theatre runs June 26th through September 4th. GET TICKETS HERE
URL:https://deetslive.com/event/bruce-springsteen-on-broadway/
LOCATION:St. James Theatre\, 246 W. 44th St.\, New York\, New York\, 10036
CATEGORIES:Music
ATTACH;FMTTYPE=image/jpeg:https://deetslive.com/wp-content/uploads/2021/06/Screen-Shot-2021-07-16-at-10.53.17-AM.jpg
END:VEVENT
BEGIN:VEVENT
DTSTART;TZID=America/New_York:20210822T193000
DTEND;TZID=America/New_York:20210822T193000
DTSTAMP:20260421T015732
CREATED:20210811T184905Z
LAST-MODIFIED:20210811T184905Z
UID:123547-1629660600-1629660600@deetslive.com
SUMMARY:Eagles at Madison Square Garden\, NYC
DESCRIPTION:The Eagles will kick off their 2021 Tour featuring a full orchestra playing Hotel California from beginning to end\, PLUS\, a Greatest Hits set is the tour of the year! And – it all starts in New York City at the legendary\, Madison Square Garden! The world’s most famous arena. Get Tickets Here \nhttps://www.youtube.com/watch?v=YcrOcFV0MBo
URL:https://deetslive.com/event/eagles-at-madison-square-garden-nyc/
LOCATION:New York
CATEGORIES:Music
ATTACH;FMTTYPE=image/jpeg:https://deetslive.com/wp-content/uploads/2021/08/Screen-Shot-2021-08-11-at-11.42.37-AM.jpg
END:VEVENT
BEGIN:VEVENT
DTSTART;TZID=America/New_York:20210822T193000
DTEND;TZID=America/New_York:20210822T193000
DTSTAMP:20260421T015732
CREATED:20210811T184905Z
LAST-MODIFIED:20210811T184905Z
UID:123547-1629660600-1629660600@deetslive.com
SUMMARY:Eagles at Madison Square Garden\, NYC
DESCRIPTION:The Eagles will kick off their 2021 Tour featuring a full orchestra playing Hotel California from beginning to end\, PLUS\, a Greatest Hits set is the tour of the year! And – it all starts in New York City at the legendary\, Madison Square Garden! The world’s most famous arena. Get Tickets Here \nhttps://www.youtube.com/watch?v=YcrOcFV0MBo
URL:https://deetslive.com/event/eagles-at-madison-square-garden-nyc/
LOCATION:New York
CATEGORIES:Music
ATTACH;FMTTYPE=image/jpeg:https://deetslive.com/wp-content/uploads/2021/08/Screen-Shot-2021-08-11-at-11.42.37-AM.jpg
END:VEVENT
BEGIN:VEVENT
DTSTART;TZID=America/New_York:20210626T200000
DTEND;TZID=America/New_York:20210626T200000
DTSTAMP:20260421T015732
CREATED:20210611T212109Z
LAST-MODIFIED:20210716T180456Z
UID:122487-1624737600-1624737600@deetslive.com
SUMMARY:Bruce Springsteen on Broadway
DESCRIPTION:Bruce Springsteen returns to Broadway & will be the first full attendance show in New York City. Springsteen’s show at the St. James Theatre runs June 26th through September 4th. GET TICKETS HERE
URL:https://deetslive.com/event/bruce-springsteen-on-broadway/
LOCATION:St. James Theatre\, 246 W. 44th St.\, New York\, New York\, 10036
CATEGORIES:Music
ATTACH;FMTTYPE=image/jpeg:https://deetslive.com/wp-content/uploads/2021/06/Screen-Shot-2021-07-16-at-10.53.17-AM.jpg
END:VEVENT
BEGIN:VEVENT
DTSTART;TZID=America/New_York:20210626T200000
DTEND;TZID=America/New_York:20210626T200000
DTSTAMP:20260421T015732
CREATED:20210611T212109Z
LAST-MODIFIED:20210716T180456Z
UID:122487-1624737600-1624737600@deetslive.com
SUMMARY:Bruce Springsteen on Broadway
DESCRIPTION:Bruce Springsteen returns to Broadway & will be the first full attendance show in New York City. Springsteen’s show at the St. James Theatre runs June 26th through September 4th. GET TICKETS HERE
URL:https://deetslive.com/event/bruce-springsteen-on-broadway/
LOCATION:St. James Theatre\, 246 W. 44th St.\, New York\, New York\, 10036
CATEGORIES:Music
ATTACH;FMTTYPE=image/jpeg:https://deetslive.com/wp-content/uploads/2021/06/Screen-Shot-2021-07-16-at-10.53.17-AM.jpg
END:VEVENT
BEGIN:VEVENT
DTSTART;TZID=America/New_York:20210626T200000
DTEND;TZID=America/New_York:20210626T200000
DTSTAMP:20260421T015733
CREATED:20210611T212109Z
LAST-MODIFIED:20210716T180456Z
UID:122487-1624737600-1624737600@deetslive.com
SUMMARY:Bruce Springsteen on Broadway
DESCRIPTION:Bruce Springsteen returns to Broadway & will be the first full attendance show in New York City. Springsteen’s show at the St. James Theatre runs June 26th through September 4th. GET TICKETS HERE
URL:https://deetslive.com/event/bruce-springsteen-on-broadway/
LOCATION:St. James Theatre\, 246 W. 44th St.\, New York\, New York\, 10036
CATEGORIES:Music
ATTACH;FMTTYPE=image/jpeg:https://deetslive.com/wp-content/uploads/2021/06/Screen-Shot-2021-07-16-at-10.53.17-AM.jpg
END:VEVENT
BEGIN:VEVENT
DTSTART;TZID=America/New_York:20210626T200000
DTEND;TZID=America/New_York:20210626T200000
DTSTAMP:20260421T015733
CREATED:20210611T212109Z
LAST-MODIFIED:20210716T180456Z
UID:122487-1624737600-1624737600@deetslive.com
SUMMARY:Bruce Springsteen on Broadway
DESCRIPTION:Bruce Springsteen returns to Broadway & will be the first full attendance show in New York City. Springsteen’s show at the St. James Theatre runs June 26th through September 4th. GET TICKETS HERE
URL:https://deetslive.com/event/bruce-springsteen-on-broadway/
LOCATION:St. James Theatre\, 246 W. 44th St.\, New York\, New York\, 10036
CATEGORIES:Music
ATTACH;FMTTYPE=image/jpeg:https://deetslive.com/wp-content/uploads/2021/06/Screen-Shot-2021-07-16-at-10.53.17-AM.jpg
END:VEVENT
BEGIN:VEVENT
DTSTART;TZID=America/New_York:20210808T193000
DTEND;TZID=America/New_York:20210808T193000
DTSTAMP:20260421T015733
CREATED:20210806T222303Z
LAST-MODIFIED:20210806T222303Z
UID:123473-1628451000-1628451000@deetslive.com
SUMMARY:Between the Buried and Me at Gramercy Theatre\, NYC
DESCRIPTION:The lords of progressive metal\, Between the Buried and Me are at Gramercy Theatre in New York City for 2 shows that are sure to sell out. Having postponed their 20th Anniversary Tour in 2020\, the band is getting killer reviews at their sold-opening shows. BTBAM will release their new album\, Colors II\, on August 23rd. Get Tickets Here 
URL:https://deetslive.com/event/between-the-buried-and-me-at-gramercy-theatre-nyc/
LOCATION:Gramercy Theatre\, 127 E. 23rd. St.\, New York City\, New York\, 10010
CATEGORIES:Music
ATTACH;FMTTYPE=image/jpeg:https://deetslive.com/wp-content/uploads/2021/08/Screen-Shot-2021-08-06-at-3.21.13-PM.jpg
END:VEVENT
BEGIN:VEVENT
DTSTART;TZID=America/New_York:20210808T193000
DTEND;TZID=America/New_York:20210808T193000
DTSTAMP:20260421T015733
CREATED:20210806T222303Z
LAST-MODIFIED:20210806T222303Z
UID:123473-1628451000-1628451000@deetslive.com
SUMMARY:Between the Buried and Me at Gramercy Theatre\, NYC
DESCRIPTION:The lords of progressive metal\, Between the Buried and Me are at Gramercy Theatre in New York City for 2 shows that are sure to sell out. Having postponed their 20th Anniversary Tour in 2020\, the band is getting killer reviews at their sold-opening shows. BTBAM will release their new album\, Colors II\, on August 23rd. Get Tickets Here 
URL:https://deetslive.com/event/between-the-buried-and-me-at-gramercy-theatre-nyc/
LOCATION:Gramercy Theatre\, 127 E. 23rd. St.\, New York City\, New York\, 10010
CATEGORIES:Music
ATTACH;FMTTYPE=image/jpeg:https://deetslive.com/wp-content/uploads/2021/08/Screen-Shot-2021-08-06-at-3.21.13-PM.jpg
END:VEVENT
BEGIN:VEVENT
DTSTART;TZID=America/New_York:20210803T200000
DTEND;TZID=America/New_York:20210803T200000
DTSTAMP:20260421T015733
CREATED:20210729T185334Z
LAST-MODIFIED:20210729T185553Z
UID:123125-1628020800-1628020800@deetslive.com
SUMMARY:One Last Time: An Evening with Tony Bennett & Lady Gaga
DESCRIPTION:This is a once in lifetime chance to see Lady Gaga perform with Tony Bennet\, for the farewell live performances form Tony Bennet. Recently revealing his battle with Alzheimer’s in 2016\, Tony has continued to perform and is releasing a new album this yea. The first of Tony & Gaga’s final shows together will be his 95th birthday & the 2nd\, will be their farewell\, last performance. Don’t miss Stefani Joanne Angelina Germanotta\, the girl from NYC & Anthony Dominick Benedetto\, the kid from Queens\, take a bow for the last time together in grand fashion at New York’s iconic Radio City Music Hall.  Get Tickets Here \n\n 
URL:https://deetslive.com/event/one-last-time-an-evening-with-tony-bennett-lady-gaga/
LOCATION:Radio City Music Hall\, 1260 6th Ave.\, New York\, New York\, 10020
CATEGORIES:Music
ATTACH;FMTTYPE=image/jpeg:https://deetslive.com/wp-content/uploads/2021/07/Screen-Shot-2021-07-29-at-11.51.06-AM.jpg
END:VEVENT
BEGIN:VEVENT
DTSTART;TZID=America/New_York:20210803T200000
DTEND;TZID=America/New_York:20210803T200000
DTSTAMP:20260421T015733
CREATED:20210729T185334Z
LAST-MODIFIED:20210729T185553Z
UID:123125-1628020800-1628020800@deetslive.com
SUMMARY:One Last Time: An Evening with Tony Bennett & Lady Gaga
DESCRIPTION:This is a once in lifetime chance to see Lady Gaga perform with Tony Bennet\, for the farewell live performances form Tony Bennet. Recently revealing his battle with Alzheimer’s in 2016\, Tony has continued to perform and is releasing a new album this yea. The first of Tony & Gaga’s final shows together will be his 95th birthday & the 2nd\, will be their farewell\, last performance. Don’t miss Stefani Joanne Angelina Germanotta\, the girl from NYC & Anthony Dominick Benedetto\, the kid from Queens\, take a bow for the last time together in grand fashion at New York’s iconic Radio City Music Hall.  Get Tickets Here \n\n 
URL:https://deetslive.com/event/one-last-time-an-evening-with-tony-bennett-lady-gaga/
LOCATION:Radio City Music Hall\, 1260 6th Ave.\, New York\, New York\, 10020
CATEGORIES:Music
ATTACH;FMTTYPE=image/jpeg:https://deetslive.com/wp-content/uploads/2021/07/Screen-Shot-2021-07-29-at-11.51.06-AM.jpg
END:VEVENT
BEGIN:VEVENT
DTSTART;TZID=America/New_York:20210720T193000
DTEND;TZID=America/New_York:20210720T193000
DTSTAMP:20260421T015734
CREATED:20210717T001451Z
LAST-MODIFIED:20210717T001451Z
UID:123097-1626809400-1626809400@deetslive.com
SUMMARY:Tedeschi Trucks at Suneagles Golf Club\, NJ
DESCRIPTION:The Grammy award winning husband/wife duo\, Susan Tedeschi & Derek Trucks are back on the road after a 15 month layoff. Getting rave reviews from the tour’s opening shows\, Tedeschi Trucks are in top form having spent the entire pandemic working in their home studio. Don’t miss the King & Queen of Blues! Get Tickets Here
URL:https://deetslive.com/event/tedeschi-trucks-at-suneagles-golf-club-nj/
LOCATION:Suneagles Golf Club\, 2000 Lowther Dr.\, Eatontown\, New Jersey\, 07724
CATEGORIES:Music
ATTACH;FMTTYPE=image/jpeg:https://deetslive.com/wp-content/uploads/2021/07/Screen-Shot-2021-07-16-at-5.00.39-PM.jpg
END:VEVENT
BEGIN:VEVENT
DTSTART;TZID=America/New_York:20210720T193000
DTEND;TZID=America/New_York:20210720T193000
DTSTAMP:20260421T015734
CREATED:20210717T001451Z
LAST-MODIFIED:20210717T001451Z
UID:123097-1626809400-1626809400@deetslive.com
SUMMARY:Tedeschi Trucks at Suneagles Golf Club\, NJ
DESCRIPTION:The Grammy award winning husband/wife duo\, Susan Tedeschi & Derek Trucks are back on the road after a 15 month layoff. Getting rave reviews from the tour’s opening shows\, Tedeschi Trucks are in top form having spent the entire pandemic working in their home studio. Don’t miss the King & Queen of Blues! Get Tickets Here
URL:https://deetslive.com/event/tedeschi-trucks-at-suneagles-golf-club-nj/
LOCATION:Suneagles Golf Club\, 2000 Lowther Dr.\, Eatontown\, New Jersey\, 07724
CATEGORIES:Music
ATTACH;FMTTYPE=image/jpeg:https://deetslive.com/wp-content/uploads/2021/07/Screen-Shot-2021-07-16-at-5.00.39-PM.jpg
END:VEVENT
BEGIN:VEVENT
DTSTART;TZID=America/New_York:20210626T200000
DTEND;TZID=America/New_York:20210626T200000
DTSTAMP:20260421T015734
CREATED:20210611T212109Z
LAST-MODIFIED:20210716T180456Z
UID:122487-1624737600-1624737600@deetslive.com
SUMMARY:Bruce Springsteen on Broadway
DESCRIPTION:Bruce Springsteen returns to Broadway & will be the first full attendance show in New York City. Springsteen’s show at the St. James Theatre runs June 26th through September 4th. GET TICKETS HERE
URL:https://deetslive.com/event/bruce-springsteen-on-broadway/
LOCATION:St. James Theatre\, 246 W. 44th St.\, New York\, New York\, 10036
CATEGORIES:Music
ATTACH;FMTTYPE=image/jpeg:https://deetslive.com/wp-content/uploads/2021/06/Screen-Shot-2021-07-16-at-10.53.17-AM.jpg
END:VEVENT
BEGIN:VEVENT
DTSTART;TZID=America/New_York:20210626T200000
DTEND;TZID=America/New_York:20210626T200000
DTSTAMP:20260421T015734
CREATED:20210611T212109Z
LAST-MODIFIED:20210716T180456Z
UID:122487-1624737600-1624737600@deetslive.com
SUMMARY:Bruce Springsteen on Broadway
DESCRIPTION:Bruce Springsteen returns to Broadway & will be the first full attendance show in New York City. Springsteen’s show at the St. James Theatre runs June 26th through September 4th. GET TICKETS HERE
URL:https://deetslive.com/event/bruce-springsteen-on-broadway/
LOCATION:St. James Theatre\, 246 W. 44th St.\, New York\, New York\, 10036
CATEGORIES:Music
ATTACH;FMTTYPE=image/jpeg:https://deetslive.com/wp-content/uploads/2021/06/Screen-Shot-2021-07-16-at-10.53.17-AM.jpg
END:VEVENT
BEGIN:VEVENT
DTSTART;TZID=America/New_York:20210626T200000
DTEND;TZID=America/New_York:20210626T200000
DTSTAMP:20260421T015734
CREATED:20210611T212109Z
LAST-MODIFIED:20210716T180456Z
UID:122487-1624737600-1624737600@deetslive.com
SUMMARY:Bruce Springsteen on Broadway
DESCRIPTION:Bruce Springsteen returns to Broadway & will be the first full attendance show in New York City. Springsteen’s show at the St. James Theatre runs June 26th through September 4th. GET TICKETS HERE
URL:https://deetslive.com/event/bruce-springsteen-on-broadway/
LOCATION:St. James Theatre\, 246 W. 44th St.\, New York\, New York\, 10036
CATEGORIES:Music
ATTACH;FMTTYPE=image/jpeg:https://deetslive.com/wp-content/uploads/2021/06/Screen-Shot-2021-07-16-at-10.53.17-AM.jpg
END:VEVENT
BEGIN:VEVENT
DTSTART;TZID=America/New_York:20210626T200000
DTEND;TZID=America/New_York:20210626T200000
DTSTAMP:20260421T015734
CREATED:20210611T212109Z
LAST-MODIFIED:20210716T180456Z
UID:122487-1624737600-1624737600@deetslive.com
SUMMARY:Bruce Springsteen on Broadway
DESCRIPTION:Bruce Springsteen returns to Broadway & will be the first full attendance show in New York City. Springsteen’s show at the St. James Theatre runs June 26th through September 4th. GET TICKETS HERE
URL:https://deetslive.com/event/bruce-springsteen-on-broadway/
LOCATION:St. James Theatre\, 246 W. 44th St.\, New York\, New York\, 10036
CATEGORIES:Music
ATTACH;FMTTYPE=image/jpeg:https://deetslive.com/wp-content/uploads/2021/06/Screen-Shot-2021-07-16-at-10.53.17-AM.jpg
END:VEVENT
BEGIN:VEVENT
DTSTART;TZID=America/New_York:20210626T200000
DTEND;TZID=America/New_York:20210626T200000
DTSTAMP:20260421T015734
CREATED:20210611T212109Z
LAST-MODIFIED:20210716T180456Z
UID:122487-1624737600-1624737600@deetslive.com
SUMMARY:Bruce Springsteen on Broadway
DESCRIPTION:Bruce Springsteen returns to Broadway & will be the first full attendance show in New York City. Springsteen’s show at the St. James Theatre runs June 26th through September 4th. GET TICKETS HERE
URL:https://deetslive.com/event/bruce-springsteen-on-broadway/
LOCATION:St. James Theatre\, 246 W. 44th St.\, New York\, New York\, 10036
CATEGORIES:Music
ATTACH;FMTTYPE=image/jpeg:https://deetslive.com/wp-content/uploads/2021/06/Screen-Shot-2021-07-16-at-10.53.17-AM.jpg
END:VEVENT
BEGIN:VEVENT
DTSTART;TZID=America/New_York:20210626T200000
DTEND;TZID=America/New_York:20210626T200000
DTSTAMP:20260421T015735
CREATED:20210611T212109Z
LAST-MODIFIED:20210716T180456Z
UID:122487-1624737600-1624737600@deetslive.com
SUMMARY:Bruce Springsteen on Broadway
DESCRIPTION:Bruce Springsteen returns to Broadway & will be the first full attendance show in New York City. Springsteen’s show at the St. James Theatre runs June 26th through September 4th. GET TICKETS HERE
URL:https://deetslive.com/event/bruce-springsteen-on-broadway/
LOCATION:St. James Theatre\, 246 W. 44th St.\, New York\, New York\, 10036
CATEGORIES:Music
ATTACH;FMTTYPE=image/jpeg:https://deetslive.com/wp-content/uploads/2021/06/Screen-Shot-2021-07-16-at-10.53.17-AM.jpg
END:VEVENT
BEGIN:VEVENT
DTSTART;TZID=America/New_York:20210626T200000
DTEND;TZID=America/New_York:20210626T200000
DTSTAMP:20260421T015735
CREATED:20210611T212109Z
LAST-MODIFIED:20210716T180456Z
UID:122487-1624737600-1624737600@deetslive.com
SUMMARY:Bruce Springsteen on Broadway
DESCRIPTION:Bruce Springsteen returns to Broadway & will be the first full attendance show in New York City. Springsteen’s show at the St. James Theatre runs June 26th through September 4th. GET TICKETS HERE
URL:https://deetslive.com/event/bruce-springsteen-on-broadway/
LOCATION:St. James Theatre\, 246 W. 44th St.\, New York\, New York\, 10036
CATEGORIES:Music
ATTACH;FMTTYPE=image/jpeg:https://deetslive.com/wp-content/uploads/2021/06/Screen-Shot-2021-07-16-at-10.53.17-AM.jpg
END:VEVENT
BEGIN:VEVENT
DTSTART;TZID=America/New_York:20210626T200000
DTEND;TZID=America/New_York:20210626T200000
DTSTAMP:20260421T015735
CREATED:20210611T212109Z
LAST-MODIFIED:20210716T180456Z
UID:122487-1624737600-1624737600@deetslive.com
SUMMARY:Bruce Springsteen on Broadway
DESCRIPTION:Bruce Springsteen returns to Broadway & will be the first full attendance show in New York City. Springsteen’s show at the St. James Theatre runs June 26th through September 4th. GET TICKETS HERE
URL:https://deetslive.com/event/bruce-springsteen-on-broadway/
LOCATION:St. James Theatre\, 246 W. 44th St.\, New York\, New York\, 10036
CATEGORIES:Music
ATTACH;FMTTYPE=image/jpeg:https://deetslive.com/wp-content/uploads/2021/06/Screen-Shot-2021-07-16-at-10.53.17-AM.jpg
END:VEVENT
BEGIN:VEVENT
DTSTART;TZID=America/New_York:20210626T200000
DTEND;TZID=America/New_York:20210626T200000
DTSTAMP:20260421T015735
CREATED:20210611T212109Z
LAST-MODIFIED:20210716T180456Z
UID:122487-1624737600-1624737600@deetslive.com
SUMMARY:Bruce Springsteen on Broadway
DESCRIPTION:Bruce Springsteen returns to Broadway & will be the first full attendance show in New York City. Springsteen’s show at the St. James Theatre runs June 26th through September 4th. GET TICKETS HERE
URL:https://deetslive.com/event/bruce-springsteen-on-broadway/
LOCATION:St. James Theatre\, 246 W. 44th St.\, New York\, New York\, 10036
CATEGORIES:Music
ATTACH;FMTTYPE=image/jpeg:https://deetslive.com/wp-content/uploads/2021/06/Screen-Shot-2021-07-16-at-10.53.17-AM.jpg
END:VEVENT
BEGIN:VEVENT
DTSTART;TZID=America/New_York:20210626T200000
DTEND;TZID=America/New_York:20210626T200000
DTSTAMP:20260421T015735
CREATED:20210611T212109Z
LAST-MODIFIED:20210716T180456Z
UID:122487-1624737600-1624737600@deetslive.com
SUMMARY:Bruce Springsteen on Broadway
DESCRIPTION:Bruce Springsteen returns to Broadway & will be the first full attendance show in New York City. Springsteen’s show at the St. James Theatre runs June 26th through September 4th. GET TICKETS HERE
URL:https://deetslive.com/event/bruce-springsteen-on-broadway/
LOCATION:St. James Theatre\, 246 W. 44th St.\, New York\, New York\, 10036
CATEGORIES:Music
ATTACH;FMTTYPE=image/jpeg:https://deetslive.com/wp-content/uploads/2021/06/Screen-Shot-2021-07-16-at-10.53.17-AM.jpg
END:VEVENT
BEGIN:VEVENT
DTSTART;TZID=America/New_York:20210626T200000
DTEND;TZID=America/New_York:20210626T200000
DTSTAMP:20260421T015735
CREATED:20210611T212109Z
LAST-MODIFIED:20210716T180456Z
UID:122487-1624737600-1624737600@deetslive.com
SUMMARY:Bruce Springsteen on Broadway
DESCRIPTION:Bruce Springsteen returns to Broadway & will be the first full attendance show in New York City. Springsteen’s show at the St. James Theatre runs June 26th through September 4th. GET TICKETS HERE
URL:https://deetslive.com/event/bruce-springsteen-on-broadway/
LOCATION:St. James Theatre\, 246 W. 44th St.\, New York\, New York\, 10036
CATEGORIES:Music
ATTACH;FMTTYPE=image/jpeg:https://deetslive.com/wp-content/uploads/2021/06/Screen-Shot-2021-07-16-at-10.53.17-AM.jpg
END:VEVENT
END:VCALENDAR