BEGIN:VCALENDAR
VERSION:2.0
PRODID:-//Daily Deets - ECPv6.15.20//NONSGML v1.0//EN
CALSCALE:GREGORIAN
METHOD:PUBLISH
X-ORIGINAL-URL:https://deetslive.com
X-WR-CALDESC:Events for Daily Deets
REFRESH-INTERVAL;VALUE=DURATION:PT1H
X-Robots-Tag:noindex
X-PUBLISHED-TTL:PT1H
BEGIN:VTIMEZONE
TZID:UTC
BEGIN:STANDARD
TZOFFSETFROM:+0000
TZOFFSETTO:+0000
TZNAME:UTC
DTSTART:20210101T000000
END:STANDARD
END:VTIMEZONE
BEGIN:VTIMEZONE
TZID:America/Los_Angeles
BEGIN:DAYLIGHT
TZOFFSETFROM:-0800
TZOFFSETTO:-0700
TZNAME:PDT
DTSTART:20210314T100000
END:DAYLIGHT
BEGIN:STANDARD
TZOFFSETFROM:-0700
TZOFFSETTO:-0800
TZNAME:PST
DTSTART:20211107T090000
END:STANDARD
BEGIN:DAYLIGHT
TZOFFSETFROM:-0800
TZOFFSETTO:-0700
TZNAME:PDT
DTSTART:20220313T100000
END:DAYLIGHT
BEGIN:STANDARD
TZOFFSETFROM:-0700
TZOFFSETTO:-0800
TZNAME:PST
DTSTART:20221106T090000
END:STANDARD
BEGIN:DAYLIGHT
TZOFFSETFROM:-0800
TZOFFSETTO:-0700
TZNAME:PDT
DTSTART:20230312T100000
END:DAYLIGHT
BEGIN:STANDARD
TZOFFSETFROM:-0700
TZOFFSETTO:-0800
TZNAME:PST
DTSTART:20231105T090000
END:STANDARD
END:VTIMEZONE
BEGIN:VEVENT
DTSTART;TZID=UTC:20221005T200000
DTEND;TZID=UTC:20221005T200000
DTSTAMP:20260420T061649
CREATED:20220928T213918Z
LAST-MODIFIED:20220928T213918Z
UID:128776-1665000000-1665000000@deetslive.com
SUMMARY:Tom Jones at YouTube Theater\, Los Angeles
DESCRIPTION:See the legendary Tom Jones for his ONLY Los Angeles appearance at the YouTube Theater. \nTuesday\, October 4th\, 8p \nTicketmaster \nStubHub
URL:https://deetslive.com/event/tom-jones-at-youtube-theater-los-angeles/
LOCATION:YouTube Theater\, 1011 Stadium Drive\, Inglewood\, CA\, 90305
CATEGORIES:Los Angeles,Music
END:VEVENT
BEGIN:VEVENT
DTSTART;TZID=America/Los_Angeles:20220930T100000
DTEND;TZID=America/Los_Angeles:20220930T100000
DTSTAMP:20260420T061649
CREATED:20220928T200658Z
LAST-MODIFIED:20221104T010826Z
UID:128761-1664532000-1664532000@deetslive.com
SUMMARY:Aerosmith at Park MGM\, Las Vegas Residency - FINAL SHOWS Through Dec 11th
DESCRIPTION:Aerosmith’s wildly successful residency at the Park MGM is coming to a close! 😢 Do not miss the final shows in Las Vegas. Currently\, Aerosmith isn’t touring in 2023\, so this is your final warning: Do Not Miss Aerosmith in Las Vegas!!! Get Tickets NOW!! \nThursday\, Sept. 29th\, 8pm \nSunday\, Oct. 2nd\, 8p\nWednesday\, Oct. 5th\, 8p \nSaturday\, November 19th\, 8p\nWednesday\, November\, 26 8p\nTuesday\, November 29th\, 8p \nFriday\, December 2nd\, 8p\nMonday\, December 5th\, 8p\nThursday\, December 8th\, 8p\nSunday\, December 11th\, 8p \nTicketmaster \nStubHub
URL:https://deetslive.com/event/aerosmith-at-park-mgm-las-vegas-residency-final-shows-through-dec-11th/
LOCATION:Dolby Live at Park MGM\, 3770 S Las Vegas Blvd.\, Las Vegas\, NV\, 89109
CATEGORIES:Las Vegas,Music
ATTACH;FMTTYPE=image/jpeg:https://deetslive.com/wp-content/uploads/2022/09/Screen-Shot-2022-09-28-at-12.45.34-PM.jpg
END:VEVENT
BEGIN:VEVENT
DTSTART;TZID=UTC:20221004T190000
DTEND;TZID=UTC:20221004T190000
DTSTAMP:20260420T061649
CREATED:20220928T230947Z
LAST-MODIFIED:20220928T230947Z
UID:128787-1664910000-1664910000@deetslive.com
SUMMARY:Scorpions at Kia Forum\, Los Angeles
DESCRIPTION:The Scorpions come to the Kia Forum in Los Angeles with opening band\, the first ladies of Rock ‘n Roll\, Thundermother! \nKia Forum\, Los Angeles \nTuesday\, October 4th\, 7pm \nTicketmaster \nStubHub
URL:https://deetslive.com/event/scorpions-at-kia-forum-los-angeles/
LOCATION:Kia Forum\, 3900 W Manchester Blvd.\, Inglewood\, CA\, 90305
CATEGORIES:Los Angeles,Music
END:VEVENT
BEGIN:VEVENT
DTSTART;TZID=UTC:20221003T200000
DTEND;TZID=UTC:20221003T200000
DTSTAMP:20260420T061649
CREATED:20220928T025321Z
LAST-MODIFIED:20220929T032130Z
UID:128749-1664827200-1664827200@deetslive.com
SUMMARY:Stevie Nicks at The Hollywood Bowl\, Los Angeles
DESCRIPTION:Stevie Nicks \nThe Hollywood Bowl\, Los Angeles \nMonday\, October 3rd\, 8pm \nTicketmaster \nStubHub \n 
URL:https://deetslive.com/event/stevie-nicks-at-the-hollywood-bowl-los-angeles/
LOCATION:Hollywood Bowl\, 2301 N Highland Ave\, Los Angeles\, CA\, 90068
CATEGORIES:Los Angeles,Music
ATTACH;FMTTYPE=image/jpeg:https://deetslive.com/wp-content/uploads/2022/09/Screen-Shot-2022-09-27-at-7.51.50-PM.jpg
END:VEVENT
BEGIN:VEVENT
DTSTART;TZID=America/Los_Angeles:20221002T200000
DTEND;TZID=America/Los_Angeles:20221002T200000
DTSTAMP:20260420T061649
CREATED:20220929T234757Z
LAST-MODIFIED:20220929T235005Z
UID:128811-1664740800-1664740800@deetslive.com
SUMMARY:Lizzo at Madison Square Garden\, New York City
DESCRIPTION:Lizzo w/special guest Latto \nMadison Square Garden\, New York City \nSunday\, October 2nd\, 8pm\nMonday\, October 3rd\, 8pm \nTicketmaster \nStubHub
URL:https://deetslive.com/event/lizzo-at-madison-square-garden-new-york-city/
LOCATION:Madison Square Garden\, 4 Pennsylvania Plaza\, New York City\, New York\, 10001\, United States
CATEGORIES:Music,New York/New Jersey
ATTACH;FMTTYPE=image/jpeg:https://deetslive.com/wp-content/uploads/2022/09/Screen-Shot-2022-09-29-at-4.36.02-PM.jpg
END:VEVENT
BEGIN:VEVENT
DTSTART;TZID=UTC:20221002T193000
DTEND;TZID=UTC:20221002T193000
DTSTAMP:20260420T061649
CREATED:20220928T024550Z
LAST-MODIFIED:20220928T221752Z
UID:128746-1664739000-1664739000@deetslive.com
SUMMARY:The Doobie Brothers - 50th Anniversary Tour at YouTube Theater\, Los Angeles
DESCRIPTION:The Doobie Brothers – 50th Anniversary Tour \nYouTube Theater\, Los Angeles \nSunday\, Oct. 2nd\, 7:30pm \nTicketmaster \nStubHub
URL:https://deetslive.com/event/the-doobie-brothers-50th-anniversary-tour-at-youtube-theater-los-angeles/
LOCATION:YouTube Theater\, 1011 Stadium Drive\, Inglewood\, CA\, 90305
CATEGORIES:Los Angeles,Music
ATTACH;FMTTYPE=image/jpeg:https://deetslive.com/wp-content/uploads/2022/09/Screen-Shot-2022-09-28-at-3.17.34-PM.jpg
END:VEVENT
BEGIN:VEVENT
DTSTART;TZID=UTC:20221001T183000
DTEND;TZID=UTC:20221001T183000
DTSTAMP:20260420T061649
CREATED:20220927T232121Z
LAST-MODIFIED:20220927T232340Z
UID:128727-1664649000-1664649000@deetslive.com
SUMMARY:Jack Johnson at the Hollywood Bowl\, Los Angeles
DESCRIPTION:Jack Johnson \nHollywood Bowl\, Los Angeles \nSaturday\, Oct. 1st\, 6:30p \nTicketmaster \nStubHub
URL:https://deetslive.com/event/jack-johnson-at-the-hollywood-bowl-los-angeles/
LOCATION:Hollywood Bowl\, 2301 N Highland Ave\, Los Angeles\, CA\, 90068
CATEGORIES:Los Angeles,Music
END:VEVENT
BEGIN:VEVENT
DTSTART;TZID=America/Los_Angeles:20220930T100000
DTEND;TZID=America/Los_Angeles:20220930T100000
DTSTAMP:20260420T061649
CREATED:20220928T200658Z
LAST-MODIFIED:20221104T010826Z
UID:128761-1664532000-1664532000@deetslive.com
SUMMARY:Aerosmith at Park MGM\, Las Vegas Residency - FINAL SHOWS Through Dec 11th
DESCRIPTION:Aerosmith’s wildly successful residency at the Park MGM is coming to a close! 😢 Do not miss the final shows in Las Vegas. Currently\, Aerosmith isn’t touring in 2023\, so this is your final warning: Do Not Miss Aerosmith in Las Vegas!!! Get Tickets NOW!! \nThursday\, Sept. 29th\, 8pm \nSunday\, Oct. 2nd\, 8p\nWednesday\, Oct. 5th\, 8p \nSaturday\, November 19th\, 8p\nWednesday\, November\, 26 8p\nTuesday\, November 29th\, 8p \nFriday\, December 2nd\, 8p\nMonday\, December 5th\, 8p\nThursday\, December 8th\, 8p\nSunday\, December 11th\, 8p \nTicketmaster \nStubHub
URL:https://deetslive.com/event/aerosmith-at-park-mgm-las-vegas-residency-final-shows-through-dec-11th/
LOCATION:Dolby Live at Park MGM\, 3770 S Las Vegas Blvd.\, Las Vegas\, NV\, 89109
CATEGORIES:Las Vegas,Music
ATTACH;FMTTYPE=image/jpeg:https://deetslive.com/wp-content/uploads/2022/09/Screen-Shot-2022-09-28-at-12.45.34-PM.jpg
END:VEVENT
BEGIN:VEVENT
DTSTART;TZID=UTC:20221001T200000
DTEND;TZID=UTC:20221001T200000
DTSTAMP:20260420T061649
CREATED:20220927T225654Z
LAST-MODIFIED:20220927T225654Z
UID:128718-1664654400-1664654400@deetslive.com
SUMMARY:Salt N Pepa at Microsoft Theatre at LA Live\, Los Angeles
DESCRIPTION:Salt N Pepa \nMicrosoft Theatre \nSat.\, Oct. 1st\, 8p \nTicketmaster
URL:https://deetslive.com/event/salt-n-pepa-at-microsoft-theatre-at-la-live-los-angeles/
LOCATION:Microsoft Theatre\, 777 Chick Hearn Ct.\, Los Angeles\, CA\, 90015
CATEGORIES:Los Angeles,Music
END:VEVENT
BEGIN:VEVENT
DTSTART;TZID=America/Los_Angeles:20220930T193000
DTEND;TZID=America/Los_Angeles:20220930T193000
DTSTAMP:20260420T061649
CREATED:20220929T201727Z
LAST-MODIFIED:20220929T202100Z
UID:128803-1664566200-1664566200@deetslive.com
SUMMARY:The Killers at Madison Square Garden\, New York City
DESCRIPTION:The Killers come to New York City for 2 killer shows!! Opening the shows is longtime friend\, ex-Smiths guitarists\, Johnny Marr\, who regularly joins The Killers during their set for a medley of hits from The Smiths. \nMadison Square Garden. \nFriday\, September 30th\, 7:30pm\nSaturday\, October 1st\, 7:30pm \nTicketmaster \nStubHub
URL:https://deetslive.com/event/the-killers-at-madison-square-garden-new-york-city/
LOCATION:Madison Square Garden\, 4 Pennsylvania Plaza\, New York City\, New York\, 10001\, United States
CATEGORIES:Music,New York/New Jersey
ATTACH;FMTTYPE=image/jpeg:https://deetslive.com/wp-content/uploads/2022/09/Screen-Shot-2022-09-29-at-12.54.53-PM.jpg
END:VEVENT
BEGIN:VEVENT
DTSTART;TZID=UTC:20221001T190000
DTEND;TZID=UTC:20221001T190000
DTSTAMP:20260420T061649
CREATED:20220928T014725Z
LAST-MODIFIED:20220928T014725Z
UID:128743-1664650800-1664650800@deetslive.com
SUMMARY:Alan Jackson at Honda Center\, Anaheim
DESCRIPTION:Alan Jackson \nHonda Center\, Anaheim\, Ca. \nSat.\, Oct. 1st\, 7pm \nStubHub
URL:https://deetslive.com/event/alan-jackson-at-honda-center-anaheim/
LOCATION:Honda Center\, 2695 E Katella Ave\, Anaheim\, CA\, 92806
CATEGORIES:Los Angeles,Music
ATTACH;FMTTYPE=image/jpeg:https://deetslive.com/wp-content/uploads/2022/09/Screen-Shot-2022-09-27-at-6.46.42-PM.jpg
END:VEVENT
BEGIN:VEVENT
DTSTART;TZID=UTC:20221001T190000
DTEND;TZID=UTC:20221001T190000
DTSTAMP:20260420T061649
CREATED:20220928T001431Z
LAST-MODIFIED:20220928T001431Z
UID:128738-1664650800-1664650800@deetslive.com
SUMMARY:Kevin Morby at The Belasco\, Los Angeles
DESCRIPTION:Kevin Morby \nThe Belasco\, Los Angeles \nSaturday\, Oct. 1st\, 7p \nTicketmaster \nStubHub
URL:https://deetslive.com/event/kevin-morby-at-the-belasco-los-angeles/
LOCATION:The Belasco\, 1050 S Hill St\, Los Angeles\, CA\, 90015
CATEGORIES:Los Angeles,Music
END:VEVENT
BEGIN:VEVENT
DTSTART;TZID=UTC:20220930T190000
DTEND;TZID=UTC:20220930T190000
DTSTAMP:20260420T061649
CREATED:20220927T204323Z
LAST-MODIFIED:20220927T225011Z
UID:128714-1664564400-1664564400@deetslive.com
SUMMARY:Bad Bunny at SoFi Stadium\, Los Angeles
DESCRIPTION:Bad Bunny \nSoFi Stadium\, Los Angeles \nFriday\, Sept. 30th\, 7pm\nSaturday\, Oct. 1st\, 7pm \nTicketmaster \nStubHub
URL:https://deetslive.com/event/bad-bunny-at-sofi-stadium-los-angeles/
LOCATION:SoFi Stadium\, 1001 Stadium Drive\, Inglewood\, California\, 90301
CATEGORIES:Los Angeles,Music
END:VEVENT
BEGIN:VEVENT
DTSTART;TZID=UTC:20221001T183000
DTEND;TZID=UTC:20221001T183000
DTSTAMP:20260420T061649
CREATED:20220927T232121Z
LAST-MODIFIED:20220927T232340Z
UID:128727-1664649000-1664649000@deetslive.com
SUMMARY:Jack Johnson at the Hollywood Bowl\, Los Angeles
DESCRIPTION:Jack Johnson \nHollywood Bowl\, Los Angeles \nSaturday\, Oct. 1st\, 6:30p \nTicketmaster \nStubHub
URL:https://deetslive.com/event/jack-johnson-at-the-hollywood-bowl-los-angeles/
LOCATION:Hollywood Bowl\, 2301 N Highland Ave\, Los Angeles\, CA\, 90068
CATEGORIES:Los Angeles,Music
END:VEVENT
BEGIN:VEVENT
DTSTART;TZID=America/Los_Angeles:20220930T193000
DTEND;TZID=America/Los_Angeles:20220930T193000
DTSTAMP:20260420T061649
CREATED:20220929T201727Z
LAST-MODIFIED:20220929T202100Z
UID:128803-1664566200-1664566200@deetslive.com
SUMMARY:The Killers at Madison Square Garden\, New York City
DESCRIPTION:The Killers come to New York City for 2 killer shows!! Opening the shows is longtime friend\, ex-Smiths guitarists\, Johnny Marr\, who regularly joins The Killers during their set for a medley of hits from The Smiths. \nMadison Square Garden. \nFriday\, September 30th\, 7:30pm\nSaturday\, October 1st\, 7:30pm \nTicketmaster \nStubHub
URL:https://deetslive.com/event/the-killers-at-madison-square-garden-new-york-city/
LOCATION:Madison Square Garden\, 4 Pennsylvania Plaza\, New York City\, New York\, 10001\, United States
CATEGORIES:Music,New York/New Jersey
ATTACH;FMTTYPE=image/jpeg:https://deetslive.com/wp-content/uploads/2022/09/Screen-Shot-2022-09-29-at-12.54.53-PM.jpg
END:VEVENT
BEGIN:VEVENT
DTSTART;TZID=UTC:20220930T190000
DTEND;TZID=UTC:20220930T190000
DTSTAMP:20260420T061649
CREATED:20220927T204323Z
LAST-MODIFIED:20220927T225011Z
UID:128714-1664564400-1664564400@deetslive.com
SUMMARY:Bad Bunny at SoFi Stadium\, Los Angeles
DESCRIPTION:Bad Bunny \nSoFi Stadium\, Los Angeles \nFriday\, Sept. 30th\, 7pm\nSaturday\, Oct. 1st\, 7pm \nTicketmaster \nStubHub
URL:https://deetslive.com/event/bad-bunny-at-sofi-stadium-los-angeles/
LOCATION:SoFi Stadium\, 1001 Stadium Drive\, Inglewood\, California\, 90301
CATEGORIES:Los Angeles,Music
END:VEVENT
BEGIN:VEVENT
DTSTART;TZID=America/Los_Angeles:20220930T100000
DTEND;TZID=America/Los_Angeles:20220930T100000
DTSTAMP:20260420T061649
CREATED:20220928T200658Z
LAST-MODIFIED:20221104T010826Z
UID:128761-1664532000-1664532000@deetslive.com
SUMMARY:Aerosmith at Park MGM\, Las Vegas Residency - FINAL SHOWS Through Dec 11th
DESCRIPTION:Aerosmith’s wildly successful residency at the Park MGM is coming to a close! 😢 Do not miss the final shows in Las Vegas. Currently\, Aerosmith isn’t touring in 2023\, so this is your final warning: Do Not Miss Aerosmith in Las Vegas!!! Get Tickets NOW!! \nThursday\, Sept. 29th\, 8pm \nSunday\, Oct. 2nd\, 8p\nWednesday\, Oct. 5th\, 8p \nSaturday\, November 19th\, 8p\nWednesday\, November\, 26 8p\nTuesday\, November 29th\, 8p \nFriday\, December 2nd\, 8p\nMonday\, December 5th\, 8p\nThursday\, December 8th\, 8p\nSunday\, December 11th\, 8p \nTicketmaster \nStubHub
URL:https://deetslive.com/event/aerosmith-at-park-mgm-las-vegas-residency-final-shows-through-dec-11th/
LOCATION:Dolby Live at Park MGM\, 3770 S Las Vegas Blvd.\, Las Vegas\, NV\, 89109
CATEGORIES:Las Vegas,Music
ATTACH;FMTTYPE=image/jpeg:https://deetslive.com/wp-content/uploads/2022/09/Screen-Shot-2022-09-28-at-12.45.34-PM.jpg
END:VEVENT
BEGIN:VEVENT
DTSTART;TZID=America/Los_Angeles:20220930T100000
DTEND;TZID=America/Los_Angeles:20220930T100000
DTSTAMP:20260420T061649
CREATED:20220928T200658Z
LAST-MODIFIED:20221104T010826Z
UID:128761-1664532000-1664532000@deetslive.com
SUMMARY:Aerosmith at Park MGM\, Las Vegas Residency - FINAL SHOWS Through Dec 11th
DESCRIPTION:Aerosmith’s wildly successful residency at the Park MGM is coming to a close! 😢 Do not miss the final shows in Las Vegas. Currently\, Aerosmith isn’t touring in 2023\, so this is your final warning: Do Not Miss Aerosmith in Las Vegas!!! Get Tickets NOW!! \nThursday\, Sept. 29th\, 8pm \nSunday\, Oct. 2nd\, 8p\nWednesday\, Oct. 5th\, 8p \nSaturday\, November 19th\, 8p\nWednesday\, November\, 26 8p\nTuesday\, November 29th\, 8p \nFriday\, December 2nd\, 8p\nMonday\, December 5th\, 8p\nThursday\, December 8th\, 8p\nSunday\, December 11th\, 8p \nTicketmaster \nStubHub
URL:https://deetslive.com/event/aerosmith-at-park-mgm-las-vegas-residency-final-shows-through-dec-11th/
LOCATION:Dolby Live at Park MGM\, 3770 S Las Vegas Blvd.\, Las Vegas\, NV\, 89109
CATEGORIES:Las Vegas,Music
ATTACH;FMTTYPE=image/jpeg:https://deetslive.com/wp-content/uploads/2022/09/Screen-Shot-2022-09-28-at-12.45.34-PM.jpg
END:VEVENT
BEGIN:VEVENT
DTSTART;TZID=UTC:20220928T200000
DTEND;TZID=UTC:20220928T200000
DTSTAMP:20260420T061649
CREATED:20220920T232201Z
LAST-MODIFIED:20220928T222346Z
UID:128562-1664395200-1664395200@deetslive.com
SUMMARY:Demi Lovato at YouTube Theater\, Los Angeles
DESCRIPTION:Demi Lovato \nYouTube Theatre\, Los Angeles \nWed\, 9/8 at 8p. \nTicketmaster \nStubHub
URL:https://deetslive.com/event/demi-lovato-at-youtube-theater-los-angeles/
LOCATION:YouTube Theater\, 1011 Stadium Drive\, Inglewood\, CA\, 90305
CATEGORIES:Los Angeles,Music
ATTACH;FMTTYPE=image/jpeg:https://deetslive.com/wp-content/uploads/2022/09/Screen-Shot-2022-09-28-at-3.23.17-PM.jpg
END:VEVENT
BEGIN:VEVENT
DTSTART;TZID=UTC:20220820T200000
DTEND;TZID=UTC:20220820T200000
DTSTAMP:20260420T061649
CREATED:20220727T000622Z
LAST-MODIFIED:20220911T052949Z
UID:126267-1661025600-1661025600@deetslive.com
SUMMARY:Harry Styles Love On Tour at Madison Square Garden\, New York City
DESCRIPTION:Madison Square Garden is Harry’s House for 15 nights from August 20 – September 21. \nAugust Dates: \nSaturday\, August 20th\, 8pm\nSunday\, August 21st\, 8pm\nMonday\, August\, 22nd\, 8pm \nTicketmaster \nStubHub
URL:https://deetslive.com/event/harry-styles-love-on-tour-at-madison-square-garden-new-york-city/
LOCATION:Madison Square Garden\, 4 Pennsylvania Plaza\, New York City\, New York\, 10001\, United States
CATEGORIES:Music,New York/New Jersey
ATTACH;FMTTYPE=image/jpeg:https://deetslive.com/wp-content/uploads/2022/07/Screen-Shot-2022-07-26-at-4.39.27-PM.jpg
END:VEVENT
BEGIN:VEVENT
DTSTART;TZID=UTC:20220820T200000
DTEND;TZID=UTC:20220820T200000
DTSTAMP:20260420T061649
CREATED:20220727T000622Z
LAST-MODIFIED:20220911T052949Z
UID:126267-1661025600-1661025600@deetslive.com
SUMMARY:Harry Styles Love On Tour at Madison Square Garden\, New York City
DESCRIPTION:Madison Square Garden is Harry’s House for 15 nights from August 20 – September 21. \nAugust Dates: \nSaturday\, August 20th\, 8pm\nSunday\, August 21st\, 8pm\nMonday\, August\, 22nd\, 8pm \nTicketmaster \nStubHub
URL:https://deetslive.com/event/harry-styles-love-on-tour-at-madison-square-garden-new-york-city/
LOCATION:Madison Square Garden\, 4 Pennsylvania Plaza\, New York City\, New York\, 10001\, United States
CATEGORIES:Music,New York/New Jersey
ATTACH;FMTTYPE=image/jpeg:https://deetslive.com/wp-content/uploads/2022/07/Screen-Shot-2022-07-26-at-4.39.27-PM.jpg
END:VEVENT
BEGIN:VEVENT
DTSTART;TZID=UTC:20220911T193000
DTEND;TZID=UTC:20220911T193000
DTSTAMP:20260420T061649
CREATED:20220821T231837Z
LAST-MODIFIED:20220911T045209Z
UID:128272-1662924600-1662924600@deetslive.com
SUMMARY:Pearl Jam at Madison Square Garden\, New York City
DESCRIPTION:Pearl Jam return to New York for the first time since 2016. Their September 11th show in New York was originally scheduled for March in 2020\, but now 2-plus years & one pandemic later\, Pearl Jam returns to MSG for a very special concert on the anniversary of 9/11. \nMadison Square Garden\, New York City \nSunday\, September 11th\, 7:30pm \nStubHub
URL:https://deetslive.com/event/pearl-jam-at-madison-square-garden-new-york-city/
LOCATION:Madison Square Garden\, 4 Pennsylvania Plaza\, New York City\, New York\, 10001\, United States
CATEGORIES:Music,New York/New Jersey
END:VEVENT
BEGIN:VEVENT
DTSTART;TZID=UTC:20220826T210000
DTEND;TZID=UTC:20220826T210000
DTSTAMP:20260420T061649
CREATED:20220820T221949Z
LAST-MODIFIED:20220820T221949Z
UID:128257-1661547600-1661547600@deetslive.com
SUMMARY:Usher: My Way - The Vegas Residency at Dolby Live\, Park MGM\, Las Vegas
DESCRIPTION:Usher returns to Las Vegas for his 2nd residency at Dolby Live in the Park MGM. \nTicketmaster \nFriday\, August\, 26th\, 9pm\nSaturday\, August 27th\, 9pm \nSaturday\, September 3rd\, 9pm\nSunday\, September 4th\, 9pm\nWednesday\, September 7th\, 9pm\nFriday\, September 9th\, 9pm\nSaturday\, September 10th\, 9pm \nFriday\, October 14th\, 9pm\nSaturday\, October\, 19th\,
URL:https://deetslive.com/event/usher-my-way-the-vegas-residency-at-dolby-live-park-mgm-las-vegas/
LOCATION:Dolby Live at Park MGM\, 3770 S Las Vegas Blvd.\, Las Vegas\, NV\, 89109
CATEGORIES:Las Vegas,Music
ATTACH;FMTTYPE=image/jpeg:https://deetslive.com/wp-content/uploads/2022/08/Screen-Shot-2022-08-20-at-2.14.24-PM.jpg
END:VEVENT
BEGIN:VEVENT
DTSTART;TZID=UTC:20220820T200000
DTEND;TZID=UTC:20220820T200000
DTSTAMP:20260420T061649
CREATED:20220727T000622Z
LAST-MODIFIED:20220911T052949Z
UID:126267-1661025600-1661025600@deetslive.com
SUMMARY:Harry Styles Love On Tour at Madison Square Garden\, New York City
DESCRIPTION:Madison Square Garden is Harry’s House for 15 nights from August 20 – September 21. \nAugust Dates: \nSaturday\, August 20th\, 8pm\nSunday\, August 21st\, 8pm\nMonday\, August\, 22nd\, 8pm \nTicketmaster \nStubHub
URL:https://deetslive.com/event/harry-styles-love-on-tour-at-madison-square-garden-new-york-city/
LOCATION:Madison Square Garden\, 4 Pennsylvania Plaza\, New York City\, New York\, 10001\, United States
CATEGORIES:Music,New York/New Jersey
ATTACH;FMTTYPE=image/jpeg:https://deetslive.com/wp-content/uploads/2022/07/Screen-Shot-2022-07-26-at-4.39.27-PM.jpg
END:VEVENT
BEGIN:VEVENT
DTSTART;TZID=UTC:20220826T210000
DTEND;TZID=UTC:20220826T210000
DTSTAMP:20260420T061649
CREATED:20220820T221949Z
LAST-MODIFIED:20220820T221949Z
UID:128257-1661547600-1661547600@deetslive.com
SUMMARY:Usher: My Way - The Vegas Residency at Dolby Live\, Park MGM\, Las Vegas
DESCRIPTION:Usher returns to Las Vegas for his 2nd residency at Dolby Live in the Park MGM. \nTicketmaster \nFriday\, August\, 26th\, 9pm\nSaturday\, August 27th\, 9pm \nSaturday\, September 3rd\, 9pm\nSunday\, September 4th\, 9pm\nWednesday\, September 7th\, 9pm\nFriday\, September 9th\, 9pm\nSaturday\, September 10th\, 9pm \nFriday\, October 14th\, 9pm\nSaturday\, October\, 19th\,
URL:https://deetslive.com/event/usher-my-way-the-vegas-residency-at-dolby-live-park-mgm-las-vegas/
LOCATION:Dolby Live at Park MGM\, 3770 S Las Vegas Blvd.\, Las Vegas\, NV\, 89109
CATEGORIES:Las Vegas,Music
ATTACH;FMTTYPE=image/jpeg:https://deetslive.com/wp-content/uploads/2022/08/Screen-Shot-2022-08-20-at-2.14.24-PM.jpg
END:VEVENT
BEGIN:VEVENT
DTSTART;TZID=UTC:20220820T200000
DTEND;TZID=UTC:20220820T200000
DTSTAMP:20260420T061650
CREATED:20220727T000622Z
LAST-MODIFIED:20220911T052949Z
UID:126267-1661025600-1661025600@deetslive.com
SUMMARY:Harry Styles Love On Tour at Madison Square Garden\, New York City
DESCRIPTION:Madison Square Garden is Harry’s House for 15 nights from August 20 – September 21. \nAugust Dates: \nSaturday\, August 20th\, 8pm\nSunday\, August 21st\, 8pm\nMonday\, August\, 22nd\, 8pm \nTicketmaster \nStubHub
URL:https://deetslive.com/event/harry-styles-love-on-tour-at-madison-square-garden-new-york-city/
LOCATION:Madison Square Garden\, 4 Pennsylvania Plaza\, New York City\, New York\, 10001\, United States
CATEGORIES:Music,New York/New Jersey
ATTACH;FMTTYPE=image/jpeg:https://deetslive.com/wp-content/uploads/2022/07/Screen-Shot-2022-07-26-at-4.39.27-PM.jpg
END:VEVENT
BEGIN:VEVENT
DTSTART;TZID=UTC:20220826T210000
DTEND;TZID=UTC:20220826T210000
DTSTAMP:20260420T061650
CREATED:20220820T221949Z
LAST-MODIFIED:20220820T221949Z
UID:128257-1661547600-1661547600@deetslive.com
SUMMARY:Usher: My Way - The Vegas Residency at Dolby Live\, Park MGM\, Las Vegas
DESCRIPTION:Usher returns to Las Vegas for his 2nd residency at Dolby Live in the Park MGM. \nTicketmaster \nFriday\, August\, 26th\, 9pm\nSaturday\, August 27th\, 9pm \nSaturday\, September 3rd\, 9pm\nSunday\, September 4th\, 9pm\nWednesday\, September 7th\, 9pm\nFriday\, September 9th\, 9pm\nSaturday\, September 10th\, 9pm \nFriday\, October 14th\, 9pm\nSaturday\, October\, 19th\,
URL:https://deetslive.com/event/usher-my-way-the-vegas-residency-at-dolby-live-park-mgm-las-vegas/
LOCATION:Dolby Live at Park MGM\, 3770 S Las Vegas Blvd.\, Las Vegas\, NV\, 89109
CATEGORIES:Las Vegas,Music
ATTACH;FMTTYPE=image/jpeg:https://deetslive.com/wp-content/uploads/2022/08/Screen-Shot-2022-08-20-at-2.14.24-PM.jpg
END:VEVENT
BEGIN:VEVENT
DTSTART;TZID=UTC:20220820T200000
DTEND;TZID=UTC:20220820T200000
DTSTAMP:20260420T061650
CREATED:20220727T000622Z
LAST-MODIFIED:20220911T052949Z
UID:126267-1661025600-1661025600@deetslive.com
SUMMARY:Harry Styles Love On Tour at Madison Square Garden\, New York City
DESCRIPTION:Madison Square Garden is Harry’s House for 15 nights from August 20 – September 21. \nAugust Dates: \nSaturday\, August 20th\, 8pm\nSunday\, August 21st\, 8pm\nMonday\, August\, 22nd\, 8pm \nTicketmaster \nStubHub
URL:https://deetslive.com/event/harry-styles-love-on-tour-at-madison-square-garden-new-york-city/
LOCATION:Madison Square Garden\, 4 Pennsylvania Plaza\, New York City\, New York\, 10001\, United States
CATEGORIES:Music,New York/New Jersey
ATTACH;FMTTYPE=image/jpeg:https://deetslive.com/wp-content/uploads/2022/07/Screen-Shot-2022-07-26-at-4.39.27-PM.jpg
END:VEVENT
BEGIN:VEVENT
DTSTART;TZID=UTC:20220907T193000
DTEND;TZID=UTC:20220907T193000
DTSTAMP:20260420T061650
CREATED:20220822T004652Z
LAST-MODIFIED:20220822T004652Z
UID:128286-1662579000-1662579000@deetslive.com
SUMMARY:Kendrick Lamar - The Big Steppers Tour at Honda Center\, Anaheim
DESCRIPTION:Kendrick Lamar with Baby Keem & Tanna Leona \nHonda Center\, Anaheim \nWednesday\, September 7th\, 7:30pm \nHonda Center\, Anaheim\, Ca \nTicketmaster \nTicketmaster – Premium Level Seating \nStubHub
URL:https://deetslive.com/event/kendrick-lamar-the-big-steppers-tour-at-honda-center-anaheim/
LOCATION:Honda Center\, 2695 E Katella Ave\, Anaheim\, CA\, 92806
CATEGORIES:Los Angeles,Music
END:VEVENT
BEGIN:VEVENT
DTSTART;TZID=UTC:20220826T210000
DTEND;TZID=UTC:20220826T210000
DTSTAMP:20260420T061650
CREATED:20220820T221949Z
LAST-MODIFIED:20220820T221949Z
UID:128257-1661547600-1661547600@deetslive.com
SUMMARY:Usher: My Way - The Vegas Residency at Dolby Live\, Park MGM\, Las Vegas
DESCRIPTION:Usher returns to Las Vegas for his 2nd residency at Dolby Live in the Park MGM. \nTicketmaster \nFriday\, August\, 26th\, 9pm\nSaturday\, August 27th\, 9pm \nSaturday\, September 3rd\, 9pm\nSunday\, September 4th\, 9pm\nWednesday\, September 7th\, 9pm\nFriday\, September 9th\, 9pm\nSaturday\, September 10th\, 9pm \nFriday\, October 14th\, 9pm\nSaturday\, October\, 19th\,
URL:https://deetslive.com/event/usher-my-way-the-vegas-residency-at-dolby-live-park-mgm-las-vegas/
LOCATION:Dolby Live at Park MGM\, 3770 S Las Vegas Blvd.\, Las Vegas\, NV\, 89109
CATEGORIES:Las Vegas,Music
ATTACH;FMTTYPE=image/jpeg:https://deetslive.com/wp-content/uploads/2022/08/Screen-Shot-2022-08-20-at-2.14.24-PM.jpg
END:VEVENT
END:VCALENDAR