BEGIN:VCALENDAR
VERSION:2.0
PRODID:-//Daily Deets - ECPv6.15.20//NONSGML v1.0//EN
CALSCALE:GREGORIAN
METHOD:PUBLISH
X-ORIGINAL-URL:https://deetslive.com
X-WR-CALDESC:Events for Daily Deets
REFRESH-INTERVAL;VALUE=DURATION:PT1H
X-Robots-Tag:noindex
X-PUBLISHED-TTL:PT1H
BEGIN:VTIMEZONE
TZID:UTC
BEGIN:STANDARD
TZOFFSETFROM:+0000
TZOFFSETTO:+0000
TZNAME:UTC
DTSTART:20210101T000000
END:STANDARD
END:VTIMEZONE
BEGIN:VTIMEZONE
TZID:America/Los_Angeles
BEGIN:DAYLIGHT
TZOFFSETFROM:-0800
TZOFFSETTO:-0700
TZNAME:PDT
DTSTART:20210314T100000
END:DAYLIGHT
BEGIN:STANDARD
TZOFFSETFROM:-0700
TZOFFSETTO:-0800
TZNAME:PST
DTSTART:20211107T090000
END:STANDARD
BEGIN:DAYLIGHT
TZOFFSETFROM:-0800
TZOFFSETTO:-0700
TZNAME:PDT
DTSTART:20220313T100000
END:DAYLIGHT
BEGIN:STANDARD
TZOFFSETFROM:-0700
TZOFFSETTO:-0800
TZNAME:PST
DTSTART:20221106T090000
END:STANDARD
BEGIN:DAYLIGHT
TZOFFSETFROM:-0800
TZOFFSETTO:-0700
TZNAME:PDT
DTSTART:20230312T100000
END:DAYLIGHT
BEGIN:STANDARD
TZOFFSETFROM:-0700
TZOFFSETTO:-0800
TZNAME:PST
DTSTART:20231105T090000
END:STANDARD
END:VTIMEZONE
BEGIN:VEVENT
DTSTART;TZID=UTC:20220904T193000
DTEND;TZID=UTC:20220904T193000
DTSTAMP:20260420T104332
CREATED:20220823T222954Z
LAST-MODIFIED:20220823T222954Z
UID:128306-1662319800-1662319800@deetslive.com
SUMMARY:Jackson Browne at The Greek Theatre\, Los Angeles
DESCRIPTION:Jackson Browne \nGreek Theatre\, Los Angeles \nSunday\, September 4th\, 7:30pm \nTicketmaster \n 
URL:https://deetslive.com/event/jackson-browne-at-the-greek-theatre-los-angeles/
LOCATION:Greek Theatre\, 2700 N Vermont Ave\, Los Angeles\, 90027
CATEGORIES:Los Angeles,Music
ATTACH;FMTTYPE=image/jpeg:https://deetslive.com/wp-content/uploads/2022/08/Screen-Shot-2022-08-23-at-3.20.15-PM.jpg
END:VEVENT
BEGIN:VEVENT
DTSTART;TZID=UTC:20220826T210000
DTEND;TZID=UTC:20220826T210000
DTSTAMP:20260420T104332
CREATED:20220820T221949Z
LAST-MODIFIED:20220820T221949Z
UID:128257-1661547600-1661547600@deetslive.com
SUMMARY:Usher: My Way - The Vegas Residency at Dolby Live\, Park MGM\, Las Vegas
DESCRIPTION:Usher returns to Las Vegas for his 2nd residency at Dolby Live in the Park MGM. \nTicketmaster \nFriday\, August\, 26th\, 9pm\nSaturday\, August 27th\, 9pm \nSaturday\, September 3rd\, 9pm\nSunday\, September 4th\, 9pm\nWednesday\, September 7th\, 9pm\nFriday\, September 9th\, 9pm\nSaturday\, September 10th\, 9pm \nFriday\, October 14th\, 9pm\nSaturday\, October\, 19th\,
URL:https://deetslive.com/event/usher-my-way-the-vegas-residency-at-dolby-live-park-mgm-las-vegas/
LOCATION:Dolby Live at Park MGM\, 3770 S Las Vegas Blvd.\, Las Vegas\, NV\, 89109
CATEGORIES:Las Vegas,Music
ATTACH;FMTTYPE=image/jpeg:https://deetslive.com/wp-content/uploads/2022/08/Screen-Shot-2022-08-20-at-2.14.24-PM.jpg
END:VEVENT
BEGIN:VEVENT
DTSTART;TZID=America/Los_Angeles:20221002T200000
DTEND;TZID=America/Los_Angeles:20221002T200000
DTSTAMP:20260420T104332
CREATED:20220929T234757Z
LAST-MODIFIED:20220929T235005Z
UID:128811-1664740800-1664740800@deetslive.com
SUMMARY:Lizzo at Madison Square Garden\, New York City
DESCRIPTION:Lizzo w/special guest Latto \nMadison Square Garden\, New York City \nSunday\, October 2nd\, 8pm\nMonday\, October 3rd\, 8pm \nTicketmaster \nStubHub
URL:https://deetslive.com/event/lizzo-at-madison-square-garden-new-york-city/
LOCATION:Madison Square Garden\, 4 Pennsylvania Plaza\, New York City\, New York\, 10001\, United States
CATEGORIES:Music,New York/New Jersey
ATTACH;FMTTYPE=image/jpeg:https://deetslive.com/wp-content/uploads/2022/09/Screen-Shot-2022-09-29-at-4.36.02-PM.jpg
END:VEVENT
BEGIN:VEVENT
DTSTART;TZID=UTC:20220820T200000
DTEND;TZID=UTC:20220820T200000
DTSTAMP:20260420T104333
CREATED:20220727T000622Z
LAST-MODIFIED:20220911T052949Z
UID:126267-1661025600-1661025600@deetslive.com
SUMMARY:Harry Styles Love On Tour at Madison Square Garden\, New York City
DESCRIPTION:Madison Square Garden is Harry’s House for 15 nights from August 20 – September 21. \nAugust Dates: \nSaturday\, August 20th\, 8pm\nSunday\, August 21st\, 8pm\nMonday\, August\, 22nd\, 8pm \nTicketmaster \nStubHub
URL:https://deetslive.com/event/harry-styles-love-on-tour-at-madison-square-garden-new-york-city/
LOCATION:Madison Square Garden\, 4 Pennsylvania Plaza\, New York City\, New York\, 10001\, United States
CATEGORIES:Music,New York/New Jersey
ATTACH;FMTTYPE=image/jpeg:https://deetslive.com/wp-content/uploads/2022/07/Screen-Shot-2022-07-26-at-4.39.27-PM.jpg
END:VEVENT
BEGIN:VEVENT
DTSTART;TZID=UTC:20220902T183000
DTEND;TZID=UTC:20220902T183000
DTSTAMP:20260420T104333
CREATED:20220831T231132Z
LAST-MODIFIED:20220831T231132Z
UID:128340-1662143400-1662143400@deetslive.com
SUMMARY:The Weeknd at SoFi Stadium\, Los Angeles 🌟 Labor Day Weekend 🤩
DESCRIPTION:Spend Labor Day Weekend with The Weeknd! \nSoFi Stadium\, Los Angeles \nTicketmaster \n 
URL:https://deetslive.com/event/the-weeknd-at-sofi-stadium-los-angeles-%f0%9f%8c%9f-labor-day-weekend-%f0%9f%a4%a9/
LOCATION:SoFi Stadium\, 1001 Stadium Drive\, Inglewood\, California\, 90301
CATEGORIES:Los Angeles,Music
END:VEVENT
BEGIN:VEVENT
DTSTART;TZID=UTC:20220820T200000
DTEND;TZID=UTC:20220820T200000
DTSTAMP:20260420T104333
CREATED:20220727T000622Z
LAST-MODIFIED:20220911T052949Z
UID:126267-1661025600-1661025600@deetslive.com
SUMMARY:Harry Styles Love On Tour at Madison Square Garden\, New York City
DESCRIPTION:Madison Square Garden is Harry’s House for 15 nights from August 20 – September 21. \nAugust Dates: \nSaturday\, August 20th\, 8pm\nSunday\, August 21st\, 8pm\nMonday\, August\, 22nd\, 8pm \nTicketmaster \nStubHub
URL:https://deetslive.com/event/harry-styles-love-on-tour-at-madison-square-garden-new-york-city/
LOCATION:Madison Square Garden\, 4 Pennsylvania Plaza\, New York City\, New York\, 10001\, United States
CATEGORIES:Music,New York/New Jersey
ATTACH;FMTTYPE=image/jpeg:https://deetslive.com/wp-content/uploads/2022/07/Screen-Shot-2022-07-26-at-4.39.27-PM.jpg
END:VEVENT
BEGIN:VEVENT
DTSTART;TZID=UTC:20220902T183000
DTEND;TZID=UTC:20220902T183000
DTSTAMP:20260420T104333
CREATED:20220831T231132Z
LAST-MODIFIED:20220831T231132Z
UID:128340-1662143400-1662143400@deetslive.com
SUMMARY:The Weeknd at SoFi Stadium\, Los Angeles 🌟 Labor Day Weekend 🤩
DESCRIPTION:Spend Labor Day Weekend with The Weeknd! \nSoFi Stadium\, Los Angeles \nTicketmaster \n 
URL:https://deetslive.com/event/the-weeknd-at-sofi-stadium-los-angeles-%f0%9f%8c%9f-labor-day-weekend-%f0%9f%a4%a9/
LOCATION:SoFi Stadium\, 1001 Stadium Drive\, Inglewood\, California\, 90301
CATEGORIES:Los Angeles,Music
END:VEVENT
BEGIN:VEVENT
DTSTART;TZID=UTC:20220820T200000
DTEND;TZID=UTC:20220820T200000
DTSTAMP:20260420T104333
CREATED:20220727T000622Z
LAST-MODIFIED:20220911T052949Z
UID:126267-1661025600-1661025600@deetslive.com
SUMMARY:Harry Styles Love On Tour at Madison Square Garden\, New York City
DESCRIPTION:Madison Square Garden is Harry’s House for 15 nights from August 20 – September 21. \nAugust Dates: \nSaturday\, August 20th\, 8pm\nSunday\, August 21st\, 8pm\nMonday\, August\, 22nd\, 8pm \nTicketmaster \nStubHub
URL:https://deetslive.com/event/harry-styles-love-on-tour-at-madison-square-garden-new-york-city/
LOCATION:Madison Square Garden\, 4 Pennsylvania Plaza\, New York City\, New York\, 10001\, United States
CATEGORIES:Music,New York/New Jersey
ATTACH;FMTTYPE=image/jpeg:https://deetslive.com/wp-content/uploads/2022/07/Screen-Shot-2022-07-26-at-4.39.27-PM.jpg
END:VEVENT
BEGIN:VEVENT
DTSTART;TZID=UTC:20220830T200000
DTEND;TZID=UTC:20220830T200000
DTSTAMP:20260420T104333
CREATED:20220727T235842Z
LAST-MODIFIED:20220727T235842Z
UID:126291-1661889600-1661889600@deetslive.com
SUMMARY:Roger Waters: This Is Not A Drill at Madison Square Garden\, New York City
DESCRIPTION:Roger Waters from Pink Floyd returns to one his most popular venues\, Madison Square Garden. \nTuesday\, August\, 30th\, 8pm\nWednesday\, August 31st\, 8pm \nTicketmaster \nStubHub
URL:https://deetslive.com/event/roger-waters-this-is-not-a-drill-at-madison-square-garden-new-york-city/
LOCATION:Madison Square Garden\, 4 Pennsylvania Plaza\, New York City\, New York\, 10001\, United States
CATEGORIES:Music,New York/New Jersey
END:VEVENT
BEGIN:VEVENT
DTSTART;TZID=UTC:20220830T200000
DTEND;TZID=UTC:20220830T200000
DTSTAMP:20260420T104333
CREATED:20220727T235842Z
LAST-MODIFIED:20220727T235842Z
UID:126291-1661889600-1661889600@deetslive.com
SUMMARY:Roger Waters: This Is Not A Drill at Madison Square Garden\, New York City
DESCRIPTION:Roger Waters from Pink Floyd returns to one his most popular venues\, Madison Square Garden. \nTuesday\, August\, 30th\, 8pm\nWednesday\, August 31st\, 8pm \nTicketmaster \nStubHub
URL:https://deetslive.com/event/roger-waters-this-is-not-a-drill-at-madison-square-garden-new-york-city/
LOCATION:Madison Square Garden\, 4 Pennsylvania Plaza\, New York City\, New York\, 10001\, United States
CATEGORIES:Music,New York/New Jersey
END:VEVENT
BEGIN:VEVENT
DTSTART;TZID=UTC:20220820T200000
DTEND;TZID=UTC:20220820T200000
DTSTAMP:20260420T104333
CREATED:20220727T000622Z
LAST-MODIFIED:20220911T052949Z
UID:126267-1661025600-1661025600@deetslive.com
SUMMARY:Harry Styles Love On Tour at Madison Square Garden\, New York City
DESCRIPTION:Madison Square Garden is Harry’s House for 15 nights from August 20 – September 21. \nAugust Dates: \nSaturday\, August 20th\, 8pm\nSunday\, August 21st\, 8pm\nMonday\, August\, 22nd\, 8pm \nTicketmaster \nStubHub
URL:https://deetslive.com/event/harry-styles-love-on-tour-at-madison-square-garden-new-york-city/
LOCATION:Madison Square Garden\, 4 Pennsylvania Plaza\, New York City\, New York\, 10001\, United States
CATEGORIES:Music,New York/New Jersey
ATTACH;FMTTYPE=image/jpeg:https://deetslive.com/wp-content/uploads/2022/07/Screen-Shot-2022-07-26-at-4.39.27-PM.jpg
END:VEVENT
BEGIN:VEVENT
DTSTART;TZID=UTC:20220828T180000
DTEND;TZID=UTC:20220828T180000
DTSTAMP:20260420T104333
CREATED:20220822T011548Z
LAST-MODIFIED:20220823T002045Z
UID:128290-1661709600-1661709600@deetslive.com
SUMMARY:Lost 80's Live: Flock of Seagulls\, Wang Chung\, English Beat\, Missing Persons\, The Motels & More at The Greek Theatre\, Los Angeles
DESCRIPTION:Get your 80s On with Lost 80’s Live! 20th Anniversary Concert.\nHosted By: Richard Blade of 1st Wave on SiriusXm\nSunday  August 28\, 2022 \nLost 80’s Live Invades The Greek Theatre\nfeaturing \nA Flock of Seagulls\nWang Chung\nThe English Beat\nMissing Persons\nStacey Q\nNaked Eyes\nThe Motels\nAnimotion\nMusical Youth\nDramarama \nTicketmaster
URL:https://deetslive.com/event/lost-80s-live-flock-of-seagulls-wang-chung-english-beat-missing-persons-the-motels-more-at-greek-theatre-los-angeles/
LOCATION:Greek Theatre\, 2700 N Vermont Ave\, Los Angeles\, 90027
CATEGORIES:Los Angeles,Music
END:VEVENT
BEGIN:VEVENT
DTSTART;TZID=UTC:20220826T210000
DTEND;TZID=UTC:20220826T210000
DTSTAMP:20260420T104333
CREATED:20220820T221949Z
LAST-MODIFIED:20220820T221949Z
UID:128257-1661547600-1661547600@deetslive.com
SUMMARY:Usher: My Way - The Vegas Residency at Dolby Live\, Park MGM\, Las Vegas
DESCRIPTION:Usher returns to Las Vegas for his 2nd residency at Dolby Live in the Park MGM. \nTicketmaster \nFriday\, August\, 26th\, 9pm\nSaturday\, August 27th\, 9pm \nSaturday\, September 3rd\, 9pm\nSunday\, September 4th\, 9pm\nWednesday\, September 7th\, 9pm\nFriday\, September 9th\, 9pm\nSaturday\, September 10th\, 9pm \nFriday\, October 14th\, 9pm\nSaturday\, October\, 19th\,
URL:https://deetslive.com/event/usher-my-way-the-vegas-residency-at-dolby-live-park-mgm-las-vegas/
LOCATION:Dolby Live at Park MGM\, 3770 S Las Vegas Blvd.\, Las Vegas\, NV\, 89109
CATEGORIES:Las Vegas,Music
ATTACH;FMTTYPE=image/jpeg:https://deetslive.com/wp-content/uploads/2022/08/Screen-Shot-2022-08-20-at-2.14.24-PM.jpg
END:VEVENT
BEGIN:VEVENT
DTSTART;TZID=UTC:20220826T200000
DTEND;TZID=UTC:20220826T200000
DTSTAMP:20260420T104333
CREATED:20220823T003152Z
LAST-MODIFIED:20220823T003152Z
UID:128297-1661544000-1661544000@deetslive.com
SUMMARY:Diana Ross with Joshua Henry at the Hollywood Bowl\, Los Angeles
DESCRIPTION:Diana Ross with Joshua Henry \nHollywood Bowl\, Los Angeles \nFriday\, August\, 27th\, 8pm\nSaturday\, August 28th\, 8pm \nTicketmaster \nStubHub
URL:https://deetslive.com/event/diana-ross-with-joshua-henry-at-the-hollywood-bowl-los-angeles/
LOCATION:Hollywood Bowl\, 2301 N Highland Ave\, Los Angeles\, CA\, 90068
CATEGORIES:Los Angeles,Music
END:VEVENT
BEGIN:VEVENT
DTSTART;TZID=UTC:20220820T200000
DTEND;TZID=UTC:20220820T200000
DTSTAMP:20260420T104333
CREATED:20220727T000622Z
LAST-MODIFIED:20220911T052949Z
UID:126267-1661025600-1661025600@deetslive.com
SUMMARY:Harry Styles Love On Tour at Madison Square Garden\, New York City
DESCRIPTION:Madison Square Garden is Harry’s House for 15 nights from August 20 – September 21. \nAugust Dates: \nSaturday\, August 20th\, 8pm\nSunday\, August 21st\, 8pm\nMonday\, August\, 22nd\, 8pm \nTicketmaster \nStubHub
URL:https://deetslive.com/event/harry-styles-love-on-tour-at-madison-square-garden-new-york-city/
LOCATION:Madison Square Garden\, 4 Pennsylvania Plaza\, New York City\, New York\, 10001\, United States
CATEGORIES:Music,New York/New Jersey
ATTACH;FMTTYPE=image/jpeg:https://deetslive.com/wp-content/uploads/2022/07/Screen-Shot-2022-07-26-at-4.39.27-PM.jpg
END:VEVENT
BEGIN:VEVENT
DTSTART;TZID=UTC:20220827T190000
DTEND;TZID=UTC:20220827T190000
DTSTAMP:20260420T104333
CREATED:20220828T020000Z
LAST-MODIFIED:20220801T223259Z
UID:126176-1661626800-1661626800@deetslive.com
SUMMARY:Chris Brown & Lil Baby: One Of Them Ones Tour at T-Mobile Arena\, Las Vegas
DESCRIPTION:Chris Brown & Lil Baby: One of Them Ones Tour \nT-Mobile Arena\, Las Vegas\, Nevada \nSaturday\, August 27th\, 7pm \nTicketmaster \nStubHub
URL:https://deetslive.com/event/chris-brown-lil-baby-one-of-them-ones-tour-at-madison-square-garden-new-york-city/
LOCATION:T-Mobile Arena\, 3780 Las Vegas Blvd S\, Las Vegas\, New York\, 89158\, United States
CATEGORIES:Las Vegas,Music
END:VEVENT
BEGIN:VEVENT
DTSTART;TZID=UTC:20220826T210000
DTEND;TZID=UTC:20220826T210000
DTSTAMP:20260420T104333
CREATED:20220820T221949Z
LAST-MODIFIED:20220820T221949Z
UID:128257-1661547600-1661547600@deetslive.com
SUMMARY:Usher: My Way - The Vegas Residency at Dolby Live\, Park MGM\, Las Vegas
DESCRIPTION:Usher returns to Las Vegas for his 2nd residency at Dolby Live in the Park MGM. \nTicketmaster \nFriday\, August\, 26th\, 9pm\nSaturday\, August 27th\, 9pm \nSaturday\, September 3rd\, 9pm\nSunday\, September 4th\, 9pm\nWednesday\, September 7th\, 9pm\nFriday\, September 9th\, 9pm\nSaturday\, September 10th\, 9pm \nFriday\, October 14th\, 9pm\nSaturday\, October\, 19th\,
URL:https://deetslive.com/event/usher-my-way-the-vegas-residency-at-dolby-live-park-mgm-las-vegas/
LOCATION:Dolby Live at Park MGM\, 3770 S Las Vegas Blvd.\, Las Vegas\, NV\, 89109
CATEGORIES:Las Vegas,Music
ATTACH;FMTTYPE=image/jpeg:https://deetslive.com/wp-content/uploads/2022/08/Screen-Shot-2022-08-20-at-2.14.24-PM.jpg
END:VEVENT
BEGIN:VEVENT
DTSTART;TZID=UTC:20220826T200000
DTEND;TZID=UTC:20220826T200000
DTSTAMP:20260420T104333
CREATED:20220823T003152Z
LAST-MODIFIED:20220823T003152Z
UID:128297-1661544000-1661544000@deetslive.com
SUMMARY:Diana Ross with Joshua Henry at the Hollywood Bowl\, Los Angeles
DESCRIPTION:Diana Ross with Joshua Henry \nHollywood Bowl\, Los Angeles \nFriday\, August\, 27th\, 8pm\nSaturday\, August 28th\, 8pm \nTicketmaster \nStubHub
URL:https://deetslive.com/event/diana-ross-with-joshua-henry-at-the-hollywood-bowl-los-angeles/
LOCATION:Hollywood Bowl\, 2301 N Highland Ave\, Los Angeles\, CA\, 90068
CATEGORIES:Los Angeles,Music
END:VEVENT
BEGIN:VEVENT
DTSTART;TZID=UTC:20220826T200000
DTEND;TZID=UTC:20220826T200000
DTSTAMP:20260420T104333
CREATED:20220822T015854Z
LAST-MODIFIED:20220822T015854Z
UID:128293-1661544000-1661544000@deetslive.com
SUMMARY:The Bacon Brothers at The Canyon\, Agoura Hills\, CA.
DESCRIPTION:Kevin Bacon & his older brother\, Michael\, have been making music together for 25 years & performed everywhere from Japan to the Grand Ole Opry to Carnegie Hall. While most are familiar with award winning actor\, Kevin\, his brother Michael is an Emmy winning composer. \nDo not miss this show in the intimate setting at one of the best venues for music in SoCal\, The Canyon in Agoura Hills. \nFriday\, August 26th\, 8pm \nStubHub
URL:https://deetslive.com/event/the-bacon-brothers-at-the-canyon-agoura-hills-ca/
LOCATION:The Canyon\, 28912 Roadside Dr.\, Agoura Hills\, CA\, 91301
CATEGORIES:Los Angeles,Music
END:VEVENT
BEGIN:VEVENT
DTSTART;TZID=UTC:20220820T200000
DTEND;TZID=UTC:20220820T200000
DTSTAMP:20260420T104333
CREATED:20220727T000622Z
LAST-MODIFIED:20220911T052949Z
UID:126267-1661025600-1661025600@deetslive.com
SUMMARY:Harry Styles Love On Tour at Madison Square Garden\, New York City
DESCRIPTION:Madison Square Garden is Harry’s House for 15 nights from August 20 – September 21. \nAugust Dates: \nSaturday\, August 20th\, 8pm\nSunday\, August 21st\, 8pm\nMonday\, August\, 22nd\, 8pm \nTicketmaster \nStubHub
URL:https://deetslive.com/event/harry-styles-love-on-tour-at-madison-square-garden-new-york-city/
LOCATION:Madison Square Garden\, 4 Pennsylvania Plaza\, New York City\, New York\, 10001\, United States
CATEGORIES:Music,New York/New Jersey
ATTACH;FMTTYPE=image/jpeg:https://deetslive.com/wp-content/uploads/2022/07/Screen-Shot-2022-07-26-at-4.39.27-PM.jpg
END:VEVENT
BEGIN:VEVENT
DTSTART;TZID=UTC:20220826T190000
DTEND;TZID=UTC:20220826T190000
DTSTAMP:20260420T104333
CREATED:20220827T020000Z
LAST-MODIFIED:20220802T002409Z
UID:126433-1661540400-1661540400@deetslive.com
SUMMARY:Chris Brown & Lil Baby: One Of Them Ones Tour at Kia Forum\, Los Angeles
DESCRIPTION:Chris Brown & Lil Baby: One of Them Ones Tour \nKia Forum\, Los Angeles\, Ca. \nFriday\, August 26th\, 7pm \nTicketmaster \nStubHub
URL:https://deetslive.com/event/chris-brown-lil-baby-one-of-them-ones-tour-at-kia-forum-los-angeles/
LOCATION:Kia Forum\, 3900 W Manchester Blvd.\, Inglewood\, CA\, 90305
CATEGORIES:Los Angeles,Music
END:VEVENT
BEGIN:VEVENT
DTSTART;TZID=America/Los_Angeles:20220825T190000
DTEND;TZID=America/Los_Angeles:20220825T190000
DTSTAMP:20260420T104333
CREATED:20220727T234658Z
LAST-MODIFIED:20220727T234658Z
UID:126287-1661454000-1661454000@deetslive.com
SUMMARY:Duran Duran at Madison Square Garden\, New York City
DESCRIPTION:DURAN DURAN \nMadison Square Garden’ \nThursday\, August 25th\, 7pm \nTicketmaster \nStubHub
URL:https://deetslive.com/event/duran-duran-at-madison-square-garden-new-york-city/
LOCATION:Madison Square Garden\, 4 Pennsylvania Plaza\, New York City\, New York\, 10001\, United States
CATEGORIES:Music,New York/New Jersey
END:VEVENT
BEGIN:VEVENT
DTSTART;TZID=UTC:20220823T200000
DTEND;TZID=UTC:20220823T200000
DTSTAMP:20260420T104333
CREATED:20220727T225141Z
LAST-MODIFIED:20220727T230604Z
UID:126283-1661284800-1661284800@deetslive.com
SUMMARY:Twenty One Pilots at Madison Square Garden\, New York City
DESCRIPTION:Twenty One Pilots \nMadison Square Garden\, New York City \nTuesday\, August 23rd\, 8pm \nTicketmaster \nStubHub \n 
URL:https://deetslive.com/event/twenty-one-pilots-at-madison-square-garden-new-york-city/
LOCATION:Madison Square Garden\, 4 Pennsylvania Plaza\, New York City\, New York\, 10001\, United States
CATEGORIES:Music,New York/New Jersey
END:VEVENT
BEGIN:VEVENT
DTSTART;TZID=UTC:20220820T200000
DTEND;TZID=UTC:20220820T200000
DTSTAMP:20260420T104333
CREATED:20220727T000622Z
LAST-MODIFIED:20220911T052949Z
UID:126267-1661025600-1661025600@deetslive.com
SUMMARY:Harry Styles Love On Tour at Madison Square Garden\, New York City
DESCRIPTION:Madison Square Garden is Harry’s House for 15 nights from August 20 – September 21. \nAugust Dates: \nSaturday\, August 20th\, 8pm\nSunday\, August 21st\, 8pm\nMonday\, August\, 22nd\, 8pm \nTicketmaster \nStubHub
URL:https://deetslive.com/event/harry-styles-love-on-tour-at-madison-square-garden-new-york-city/
LOCATION:Madison Square Garden\, 4 Pennsylvania Plaza\, New York City\, New York\, 10001\, United States
CATEGORIES:Music,New York/New Jersey
ATTACH;FMTTYPE=image/jpeg:https://deetslive.com/wp-content/uploads/2022/07/Screen-Shot-2022-07-26-at-4.39.27-PM.jpg
END:VEVENT
BEGIN:VEVENT
DTSTART;TZID=UTC:20220820T200000
DTEND;TZID=UTC:20220820T200000
DTSTAMP:20260420T104333
CREATED:20220727T000622Z
LAST-MODIFIED:20220911T052949Z
UID:126267-1661025600-1661025600@deetslive.com
SUMMARY:Harry Styles Love On Tour at Madison Square Garden\, New York City
DESCRIPTION:Madison Square Garden is Harry’s House for 15 nights from August 20 – September 21. \nAugust Dates: \nSaturday\, August 20th\, 8pm\nSunday\, August 21st\, 8pm\nMonday\, August\, 22nd\, 8pm \nTicketmaster \nStubHub
URL:https://deetslive.com/event/harry-styles-love-on-tour-at-madison-square-garden-new-york-city/
LOCATION:Madison Square Garden\, 4 Pennsylvania Plaza\, New York City\, New York\, 10001\, United States
CATEGORIES:Music,New York/New Jersey
ATTACH;FMTTYPE=image/jpeg:https://deetslive.com/wp-content/uploads/2022/07/Screen-Shot-2022-07-26-at-4.39.27-PM.jpg
END:VEVENT
BEGIN:VEVENT
DTSTART;TZID=UTC:20220820T200000
DTEND;TZID=UTC:20220820T200000
DTSTAMP:20260420T104333
CREATED:20220727T000622Z
LAST-MODIFIED:20220911T052949Z
UID:126267-1661025600-1661025600@deetslive.com
SUMMARY:Harry Styles Love On Tour at Madison Square Garden\, New York City
DESCRIPTION:Madison Square Garden is Harry’s House for 15 nights from August 20 – September 21. \nAugust Dates: \nSaturday\, August 20th\, 8pm\nSunday\, August 21st\, 8pm\nMonday\, August\, 22nd\, 8pm \nTicketmaster \nStubHub
URL:https://deetslive.com/event/harry-styles-love-on-tour-at-madison-square-garden-new-york-city/
LOCATION:Madison Square Garden\, 4 Pennsylvania Plaza\, New York City\, New York\, 10001\, United States
CATEGORIES:Music,New York/New Jersey
ATTACH;FMTTYPE=image/jpeg:https://deetslive.com/wp-content/uploads/2022/07/Screen-Shot-2022-07-26-at-4.39.27-PM.jpg
END:VEVENT
BEGIN:VEVENT
DTSTART;TZID=UTC:20220820T183000
DTEND;TZID=UTC:20220820T183000
DTSTAMP:20260420T104333
CREATED:20220821T013000Z
LAST-MODIFIED:20220808T012624Z
UID:126509-1661020200-1661020200@deetslive.com
SUMMARY:The Weeknd at Allegiant Stadium\, Las Vegas
DESCRIPTION:The Weeknd \nAllegiant Stadium\, Las Vegas \nSaturday\, August 20th\, 6:30pm \nTicketmaster \nStubHub \n 
URL:https://deetslive.com/event/the-weeknd-at-allegiant-stadium-las-vegas/
LOCATION:Allegiant Stadium\, 3333 Al Davis Way\, Las Vegas\, Nevada\, 89118
CATEGORIES:Las Vegas,Music
END:VEVENT
BEGIN:VEVENT
DTSTART;TZID=UTC:20220818T200000
DTEND;TZID=UTC:20220818T200000
DTSTAMP:20260420T104333
CREATED:20220723T234203Z
LAST-MODIFIED:20220723T234203Z
UID:126264-1660852800-1660852800@deetslive.com
SUMMARY:An Evening with Michael Bublé at Madison Square Garden\, New York City
DESCRIPTION:Michael Bublé \nMadison Square Garden\, New York City \nThursday\, August 18th\, 8pm \nTicketmaster \nStubHub \n 
URL:https://deetslive.com/event/an-evening-with-michael-buble-at-madison-square-garden-new-york-city/
LOCATION:Madison Square Garden\, 4 Pennsylvania Plaza\, New York City\, New York\, 10001\, United States
CATEGORIES:Music,New York/New Jersey
ATTACH;FMTTYPE=image/jpeg:https://deetslive.com/wp-content/uploads/2022/07/Screen-Shot-2022-07-23-at-4.41.28-PM.jpg
END:VEVENT
BEGIN:VEVENT
DTSTART;TZID=UTC:20220817T183000
DTEND;TZID=UTC:20220817T183000
DTSTAMP:20260420T104333
CREATED:20220807T054322Z
LAST-MODIFIED:20220807T054322Z
UID:126502-1660761000-1660761000@deetslive.com
SUMMARY:Red Hot Chili Peppers with The Strokes at Met Life Stadium\, East Rutherford\, NJ
DESCRIPTION:Red Hot Chili Peppers with The Strokes & Thundercat \nMet Life Stadium\, East Rutherford\, NJ \nWednesday\, August 17th\, 6:30pm \nTicketmaster \nStubHub \n 
URL:https://deetslive.com/event/red-hot-chili-peppers-with-the-strokes-at-met-life-stadium-east-rutherford-nj/
LOCATION:MetLife Stadium\, 1 MetLife Stadium Dr.\, East Rutherford\, NJ\, 07073\, United States
CATEGORIES:Music,New York/New Jersey
END:VEVENT
BEGIN:VEVENT
DTSTART;TZID=UTC:20220816T193000
DTEND;TZID=UTC:20220816T193000
DTSTAMP:20260420T104333
CREATED:20220728T023729Z
LAST-MODIFIED:20220728T023729Z
UID:126310-1660678200-1660678200@deetslive.com
SUMMARY:Wiz Khalifa & Logic - Vinyl Verse Tour at Barclays Center\, Brooklyn\, NY
DESCRIPTION:Wiz Khalifa & Logic \nBarclays Center\, Brooklyn\, NY \nTuesday\, August\, 16th\, 7:30 pm \nTicketmaster \nStubHub
URL:https://deetslive.com/event/wiz-khalifa-logic-vinyl-verse-tour-at-barclays-center-brooklyn-ny/
LOCATION:Barclays Center\, 620 Atlantic Avenue\, Brooklyn\, NY\, 11217\, United States
CATEGORIES:Music,New York/New Jersey
END:VEVENT
END:VCALENDAR