BEGIN:VCALENDAR
VERSION:2.0
PRODID:-//Daily Deets - ECPv6.15.20//NONSGML v1.0//EN
CALSCALE:GREGORIAN
METHOD:PUBLISH
X-ORIGINAL-URL:https://deetslive.com
X-WR-CALDESC:Events for Daily Deets
REFRESH-INTERVAL;VALUE=DURATION:PT1H
X-Robots-Tag:noindex
X-PUBLISHED-TTL:PT1H
BEGIN:VTIMEZONE
TZID:UTC
BEGIN:STANDARD
TZOFFSETFROM:+0000
TZOFFSETTO:+0000
TZNAME:UTC
DTSTART:20210101T000000
END:STANDARD
END:VTIMEZONE
BEGIN:VTIMEZONE
TZID:America/New_York
BEGIN:DAYLIGHT
TZOFFSETFROM:-0500
TZOFFSETTO:-0400
TZNAME:EDT
DTSTART:20200308T070000
END:DAYLIGHT
BEGIN:STANDARD
TZOFFSETFROM:-0400
TZOFFSETTO:-0500
TZNAME:EST
DTSTART:20201101T060000
END:STANDARD
BEGIN:DAYLIGHT
TZOFFSETFROM:-0500
TZOFFSETTO:-0400
TZNAME:EDT
DTSTART:20210314T070000
END:DAYLIGHT
BEGIN:STANDARD
TZOFFSETFROM:-0400
TZOFFSETTO:-0500
TZNAME:EST
DTSTART:20211107T060000
END:STANDARD
BEGIN:DAYLIGHT
TZOFFSETFROM:-0500
TZOFFSETTO:-0400
TZNAME:EDT
DTSTART:20220313T070000
END:DAYLIGHT
BEGIN:STANDARD
TZOFFSETFROM:-0400
TZOFFSETTO:-0500
TZNAME:EST
DTSTART:20221106T060000
END:STANDARD
BEGIN:DAYLIGHT
TZOFFSETFROM:-0500
TZOFFSETTO:-0400
TZNAME:EDT
DTSTART:20230312T070000
END:DAYLIGHT
BEGIN:STANDARD
TZOFFSETFROM:-0400
TZOFFSETTO:-0500
TZNAME:EST
DTSTART:20231105T060000
END:STANDARD
END:VTIMEZONE
BEGIN:VEVENT
DTSTART;TZID=UTC:20220412T190500
DTEND;TZID=UTC:20220412T190500
DTSTAMP:20260420T213403
CREATED:20220413T011456Z
LAST-MODIFIED:20220413T011456Z
UID:125297-1649790300-1649790300@deetslive.com
SUMMARY:NY Yankees vs. Toronto Blue Jays at Yankee Stadium\, Bronx\, NY
DESCRIPTION:The Yankees host the Toronto Blue Jays for a 3 games at Yankee Stadium on April\, 12th 13th & 14th. All games have a 7:05 start time. \nGet Tickets: Ticketmaster      Stubhub
URL:https://deetslive.com/event/ny-yankees-vs-toronto-blue-jays-at-yankee-stadium-bronx-ny/
LOCATION:Yankee Stadium\, 1 E 161 St\, Bronx\, New York\, 10451
CATEGORIES:New York/New Jersey,Sports
ATTACH;FMTTYPE=image/jpeg:https://deetslive.com/wp-content/uploads/2022/04/Screen-Shot-2022-04-12-at-2.34.47-PM.jpg
END:VEVENT
BEGIN:VEVENT
DTSTART;TZID=UTC:20220412T190500
DTEND;TZID=UTC:20220412T190500
DTSTAMP:20260420T213403
CREATED:20220413T011456Z
LAST-MODIFIED:20220413T011456Z
UID:125297-1649790300-1649790300@deetslive.com
SUMMARY:NY Yankees vs. Toronto Blue Jays at Yankee Stadium\, Bronx\, NY
DESCRIPTION:The Yankees host the Toronto Blue Jays for a 3 games at Yankee Stadium on April\, 12th 13th & 14th. All games have a 7:05 start time. \nGet Tickets: Ticketmaster      Stubhub
URL:https://deetslive.com/event/ny-yankees-vs-toronto-blue-jays-at-yankee-stadium-bronx-ny/
LOCATION:Yankee Stadium\, 1 E 161 St\, Bronx\, New York\, 10451
CATEGORIES:New York/New Jersey,Sports
ATTACH;FMTTYPE=image/jpeg:https://deetslive.com/wp-content/uploads/2022/04/Screen-Shot-2022-04-12-at-2.34.47-PM.jpg
END:VEVENT
BEGIN:VEVENT
DTSTART;TZID=America/New_York:20220220T120000
DTEND;TZID=America/New_York:20220220T120000
DTSTAMP:20260420T213403
CREATED:20220220T200000Z
LAST-MODIFIED:20220131T173738Z
UID:124601-1645358400-1645358400@deetslive.com
SUMMARY:Harlem Globetrotters at Barclays Center\, Brooklyn - Afternoon & Evening Show
DESCRIPTION:The Harlem Globetrotters are basketball’s ultimate team! With a history beginning 96 years ago\, the fun & skills are non stop. All ages love the Globetrotters! There are 2 shows on Saturday\, February 20th at Noon & 5pm. \nBuy Tickets: Ticketmaster  ⇔   StubHub \n\n 
URL:https://deetslive.com/event/harlem-globetrotters-at-barclays-center-brooklyn-afternoon-evening-show/
LOCATION:Barclays Center\, 620 Atlantic Avenue\, Brooklyn\, NY\, 11217\, United States
CATEGORIES:Events,New York/New Jersey,Sports
ATTACH;FMTTYPE=image/jpeg:https://deetslive.com/wp-content/uploads/2022/02/Screen-Shot-2022-01-31-at-9.30.11-AM.jpg
END:VEVENT
BEGIN:VEVENT
DTSTART;TZID=America/New_York:20220220T120000
DTEND;TZID=America/New_York:20220220T120000
DTSTAMP:20260420T213403
CREATED:20220220T200000Z
LAST-MODIFIED:20220131T173738Z
UID:124601-1645358400-1645358400@deetslive.com
SUMMARY:Harlem Globetrotters at Barclays Center\, Brooklyn - Afternoon & Evening Show
DESCRIPTION:The Harlem Globetrotters are basketball’s ultimate team! With a history beginning 96 years ago\, the fun & skills are non stop. All ages love the Globetrotters! There are 2 shows on Saturday\, February 20th at Noon & 5pm. \nBuy Tickets: Ticketmaster  ⇔   StubHub \n\n 
URL:https://deetslive.com/event/harlem-globetrotters-at-barclays-center-brooklyn-afternoon-evening-show/
LOCATION:Barclays Center\, 620 Atlantic Avenue\, Brooklyn\, NY\, 11217\, United States
CATEGORIES:Events,New York/New Jersey,Sports
ATTACH;FMTTYPE=image/jpeg:https://deetslive.com/wp-content/uploads/2022/02/Screen-Shot-2022-01-31-at-9.30.11-AM.jpg
END:VEVENT
BEGIN:VEVENT
DTSTART;TZID=America/New_York:20220219T140000
DTEND;TZID=America/New_York:20220219T140000
DTSTAMP:20260420T213403
CREATED:20220219T220000Z
LAST-MODIFIED:20220206T223148Z
UID:124808-1645279200-1645279200@deetslive.com
SUMMARY:The Harlem Globetrotters at UBS Arena\, Long Island\, New York
DESCRIPTION:The Harlem Globetrotters are basketball’s ultimate team! With a history beginning 96 years ago\, the fun & skills are non stop. All ages love the Globetrotters! 2 shows on Saturday\, February 19th at 12pm & 7pm. \nBuy Tickets: Ticketmaster (Ticketmaster has Pre-Paid Parking\, Celebrity Court Passes & also Player Meet & Greet) \nTickets: StubHub
URL:https://deetslive.com/event/124808/
LOCATION:UBS Arena\, 2400 Hempstead Turnpike\, Elmont\, New York\, 11003
CATEGORIES:New York/New Jersey,Sports
ATTACH;FMTTYPE=image/jpeg:https://deetslive.com/wp-content/uploads/2022/02/Screen-Shot-2022-01-31-at-9.30.11-AM.jpg
END:VEVENT
BEGIN:VEVENT
DTSTART;TZID=America/New_York:20220219T140000
DTEND;TZID=America/New_York:20220219T140000
DTSTAMP:20260420T213403
CREATED:20220219T220000Z
LAST-MODIFIED:20220206T223148Z
UID:124808-1645279200-1645279200@deetslive.com
SUMMARY:The Harlem Globetrotters at UBS Arena\, Long Island\, New York
DESCRIPTION:The Harlem Globetrotters are basketball’s ultimate team! With a history beginning 96 years ago\, the fun & skills are non stop. All ages love the Globetrotters! 2 shows on Saturday\, February 19th at 12pm & 7pm. \nBuy Tickets: Ticketmaster (Ticketmaster has Pre-Paid Parking\, Celebrity Court Passes & also Player Meet & Greet) \nTickets: StubHub
URL:https://deetslive.com/event/124808/
LOCATION:UBS Arena\, 2400 Hempstead Turnpike\, Elmont\, New York\, 11003
CATEGORIES:New York/New Jersey,Sports
ATTACH;FMTTYPE=image/jpeg:https://deetslive.com/wp-content/uploads/2022/02/Screen-Shot-2022-01-31-at-9.30.11-AM.jpg
END:VEVENT
BEGIN:VEVENT
DTSTART;TZID=America/New_York:20210921T190500
DTEND;TZID=America/New_York:20210921T190500
DTSTAMP:20260420T213403
CREATED:20210921T034337Z
LAST-MODIFIED:20210921T034337Z
UID:123717-1632251100-1632251100@deetslive.com
SUMMARY:Yankees vs. Texas Rangers at Yankee Stadium\, NY
DESCRIPTION:The Yankees still have a chance to make the playoffs & it all starts with their series against the Rangers. Texas is sweepable & the Yankees have to finish the season with a slightly better winning percentage than they’ve averaged all season. In other words\, start swinging or go fishing. Get Tickets Here \nhttps://www.youtube.com/watch?v=Ho2EufdnWFc
URL:https://deetslive.com/event/yankees-vs-texas-rangers-at-yankee-stadium-ny/
LOCATION:Yankee Stadium\, 1 E 161 St\, Bronx\, New York\, 10451
CATEGORIES:Sports
ATTACH;FMTTYPE=image/jpeg:https://deetslive.com/wp-content/uploads/2021/09/Screen-Shot-2021-09-20-at-8.39.32-PM.jpg
END:VEVENT
BEGIN:VEVENT
DTSTART;TZID=America/New_York:20210921T190500
DTEND;TZID=America/New_York:20210921T190500
DTSTAMP:20260420T213403
CREATED:20210921T034337Z
LAST-MODIFIED:20210921T034337Z
UID:123717-1632251100-1632251100@deetslive.com
SUMMARY:Yankees vs. Texas Rangers at Yankee Stadium\, NY
DESCRIPTION:The Yankees still have a chance to make the playoffs & it all starts with their series against the Rangers. Texas is sweepable & the Yankees have to finish the season with a slightly better winning percentage than they’ve averaged all season. In other words\, start swinging or go fishing. Get Tickets Here \nhttps://www.youtube.com/watch?v=Ho2EufdnWFc
URL:https://deetslive.com/event/yankees-vs-texas-rangers-at-yankee-stadium-ny/
LOCATION:Yankee Stadium\, 1 E 161 St\, Bronx\, New York\, 10451
CATEGORIES:Sports
ATTACH;FMTTYPE=image/jpeg:https://deetslive.com/wp-content/uploads/2021/09/Screen-Shot-2021-09-20-at-8.39.32-PM.jpg
END:VEVENT
BEGIN:VEVENT
DTSTART;TZID=America/New_York:20210921T190500
DTEND;TZID=America/New_York:20210921T190500
DTSTAMP:20260420T213403
CREATED:20210921T034337Z
LAST-MODIFIED:20210921T034337Z
UID:123717-1632251100-1632251100@deetslive.com
SUMMARY:Yankees vs. Texas Rangers at Yankee Stadium\, NY
DESCRIPTION:The Yankees still have a chance to make the playoffs & it all starts with their series against the Rangers. Texas is sweepable & the Yankees have to finish the season with a slightly better winning percentage than they’ve averaged all season. In other words\, start swinging or go fishing. Get Tickets Here \nhttps://www.youtube.com/watch?v=Ho2EufdnWFc
URL:https://deetslive.com/event/yankees-vs-texas-rangers-at-yankee-stadium-ny/
LOCATION:Yankee Stadium\, 1 E 161 St\, Bronx\, New York\, 10451
CATEGORIES:Sports
ATTACH;FMTTYPE=image/jpeg:https://deetslive.com/wp-content/uploads/2021/09/Screen-Shot-2021-09-20-at-8.39.32-PM.jpg
END:VEVENT
BEGIN:VEVENT
DTSTART;TZID=America/New_York:20210913T191000
DTEND;TZID=America/New_York:20210913T191000
DTSTAMP:20260420T213403
CREATED:20210905T053934Z
LAST-MODIFIED:20210905T053934Z
UID:123679-1631560200-1631560200@deetslive.com
SUMMARY:Mets v. St. Louis Cardinals at Citi Field\, NY
DESCRIPTION:The St. Louis Cardinals face the Mets for their final time this season. Get Tickets Here
URL:https://deetslive.com/event/mets-v-st-louis-cardinals-at-citi-field-ny/
LOCATION:Citi Field\, 41 Seaver Way\, Flushing\, New York\, 11368
CATEGORIES:Sports
ATTACH;FMTTYPE=image/jpeg:https://deetslive.com/wp-content/uploads/2021/09/Screen-Shot-2021-09-04-at-7.36.15-PM.jpg
END:VEVENT
BEGIN:VEVENT
DTSTART;TZID=America/New_York:20210913T191000
DTEND;TZID=America/New_York:20210913T191000
DTSTAMP:20260420T213404
CREATED:20210905T053934Z
LAST-MODIFIED:20210905T053934Z
UID:123679-1631560200-1631560200@deetslive.com
SUMMARY:Mets v. St. Louis Cardinals at Citi Field\, NY
DESCRIPTION:The St. Louis Cardinals face the Mets for their final time this season. Get Tickets Here
URL:https://deetslive.com/event/mets-v-st-louis-cardinals-at-citi-field-ny/
LOCATION:Citi Field\, 41 Seaver Way\, Flushing\, New York\, 11368
CATEGORIES:Sports
ATTACH;FMTTYPE=image/jpeg:https://deetslive.com/wp-content/uploads/2021/09/Screen-Shot-2021-09-04-at-7.36.15-PM.jpg
END:VEVENT
BEGIN:VEVENT
DTSTART;TZID=America/New_York:20210913T191000
DTEND;TZID=America/New_York:20210913T191000
DTSTAMP:20260420T213404
CREATED:20210905T053934Z
LAST-MODIFIED:20210905T053934Z
UID:123679-1631560200-1631560200@deetslive.com
SUMMARY:Mets v. St. Louis Cardinals at Citi Field\, NY
DESCRIPTION:The St. Louis Cardinals face the Mets for their final time this season. Get Tickets Here
URL:https://deetslive.com/event/mets-v-st-louis-cardinals-at-citi-field-ny/
LOCATION:Citi Field\, 41 Seaver Way\, Flushing\, New York\, 11368
CATEGORIES:Sports
ATTACH;FMTTYPE=image/jpeg:https://deetslive.com/wp-content/uploads/2021/09/Screen-Shot-2021-09-04-at-7.36.15-PM.jpg
END:VEVENT
BEGIN:VEVENT
DTSTART;TZID=America/New_York:20210906T130500
DTEND;TZID=America/New_York:20210906T130500
DTSTAMP:20260420T213404
CREATED:20210905T041215Z
LAST-MODIFIED:20210905T041250Z
UID:123663-1630933500-1630933500@deetslive.com
SUMMARY:Yankees v. Blue Jays at Yankee Stadium
DESCRIPTION:The Yankees are currently holding a spot for the wildcard in the playoffs\, but anything can happen in the final weeks of the season! The Blue Jays are ready to spoil any chances the Yankees have at clinching a playoff spot over a 4 game series in the Bronx. Get Pinstripe Passes for only $15 bucks! Premium & Regular Tickets plus Parking are all available on the link. Get Tickets Here \n\nThey made him a pitch he couldn’t refuse… pic.twitter.com/KK45goM960 \n— New York Yankees (@Yankees) September 4\, 2021
URL:https://deetslive.com/event/yankees-v-blue-jays-at-yankee-stadium/
LOCATION:Yankee Stadium\, 1 E 161 St\, Bronx\, New York\, 10451
CATEGORIES:Sports
END:VEVENT
BEGIN:VEVENT
DTSTART;TZID=America/New_York:20210906T130500
DTEND;TZID=America/New_York:20210906T130500
DTSTAMP:20260420T213404
CREATED:20210905T041215Z
LAST-MODIFIED:20210905T041250Z
UID:123663-1630933500-1630933500@deetslive.com
SUMMARY:Yankees v. Blue Jays at Yankee Stadium
DESCRIPTION:The Yankees are currently holding a spot for the wildcard in the playoffs\, but anything can happen in the final weeks of the season! The Blue Jays are ready to spoil any chances the Yankees have at clinching a playoff spot over a 4 game series in the Bronx. Get Pinstripe Passes for only $15 bucks! Premium & Regular Tickets plus Parking are all available on the link. Get Tickets Here \n\nThey made him a pitch he couldn’t refuse… pic.twitter.com/KK45goM960 \n— New York Yankees (@Yankees) September 4\, 2021
URL:https://deetslive.com/event/yankees-v-blue-jays-at-yankee-stadium/
LOCATION:Yankee Stadium\, 1 E 161 St\, Bronx\, New York\, 10451
CATEGORIES:Sports
END:VEVENT
BEGIN:VEVENT
DTSTART;TZID=America/New_York:20210906T130500
DTEND;TZID=America/New_York:20210906T130500
DTSTAMP:20260420T213404
CREATED:20210905T041215Z
LAST-MODIFIED:20210905T041250Z
UID:123663-1630933500-1630933500@deetslive.com
SUMMARY:Yankees v. Blue Jays at Yankee Stadium
DESCRIPTION:The Yankees are currently holding a spot for the wildcard in the playoffs\, but anything can happen in the final weeks of the season! The Blue Jays are ready to spoil any chances the Yankees have at clinching a playoff spot over a 4 game series in the Bronx. Get Pinstripe Passes for only $15 bucks! Premium & Regular Tickets plus Parking are all available on the link. Get Tickets Here \n\nThey made him a pitch he couldn’t refuse… pic.twitter.com/KK45goM960 \n— New York Yankees (@Yankees) September 4\, 2021
URL:https://deetslive.com/event/yankees-v-blue-jays-at-yankee-stadium/
LOCATION:Yankee Stadium\, 1 E 161 St\, Bronx\, New York\, 10451
CATEGORIES:Sports
END:VEVENT
BEGIN:VEVENT
DTSTART;TZID=America/New_York:20210906T130500
DTEND;TZID=America/New_York:20210906T130500
DTSTAMP:20260420T213404
CREATED:20210905T041215Z
LAST-MODIFIED:20210905T041250Z
UID:123663-1630933500-1630933500@deetslive.com
SUMMARY:Yankees v. Blue Jays at Yankee Stadium
DESCRIPTION:The Yankees are currently holding a spot for the wildcard in the playoffs\, but anything can happen in the final weeks of the season! The Blue Jays are ready to spoil any chances the Yankees have at clinching a playoff spot over a 4 game series in the Bronx. Get Pinstripe Passes for only $15 bucks! Premium & Regular Tickets plus Parking are all available on the link. Get Tickets Here \n\nThey made him a pitch he couldn’t refuse… pic.twitter.com/KK45goM960 \n— New York Yankees (@Yankees) September 4\, 2021
URL:https://deetslive.com/event/yankees-v-blue-jays-at-yankee-stadium/
LOCATION:Yankee Stadium\, 1 E 161 St\, Bronx\, New York\, 10451
CATEGORIES:Sports
END:VEVENT
BEGIN:VEVENT
DTSTART;TZID=America/New_York:20210903T190500
DTEND;TZID=America/New_York:20210903T190500
DTSTAMP:20260420T213404
CREATED:20210901T180514Z
LAST-MODIFIED:20210901T180514Z
UID:123599-1630695900-1630695900@deetslive.com
SUMMARY:Baltimore Orioles v. Yankees at Yankee Stadium
DESCRIPTION:The Race to October has officially begun! The Yankees have a tough month ahead as their push for the playoffs gets real. First up are the Orioles making their final trip to Yankee Stadium this season. The Orioles won’t make the playoffs & are ready to play spoilers to their longtime foes. Get to Yankee Stadium & root on the Bombers as the season winds down! Premium Seats & Pinstripe Passes available with tickets as low as $15 bucks! Tickets & Parking passes here ?  Get Tickets Here
URL:https://deetslive.com/event/baltimore-orioles-v-yankees-at-yankee-stadium/
LOCATION:Yankee Stadium\, 1 E 161 St\, Bronx\, New York\, 10451
CATEGORIES:Sports
ATTACH;FMTTYPE=image/jpeg:https://deetslive.com/wp-content/uploads/2021/09/Screen-Shot-2021-09-01-at-8.00.35-AM.jpg
END:VEVENT
BEGIN:VEVENT
DTSTART;TZID=America/New_York:20210903T190500
DTEND;TZID=America/New_York:20210903T190500
DTSTAMP:20260420T213404
CREATED:20210901T180514Z
LAST-MODIFIED:20210901T180514Z
UID:123599-1630695900-1630695900@deetslive.com
SUMMARY:Baltimore Orioles v. Yankees at Yankee Stadium
DESCRIPTION:The Race to October has officially begun! The Yankees have a tough month ahead as their push for the playoffs gets real. First up are the Orioles making their final trip to Yankee Stadium this season. The Orioles won’t make the playoffs & are ready to play spoilers to their longtime foes. Get to Yankee Stadium & root on the Bombers as the season winds down! Premium Seats & Pinstripe Passes available with tickets as low as $15 bucks! Tickets & Parking passes here ?  Get Tickets Here
URL:https://deetslive.com/event/baltimore-orioles-v-yankees-at-yankee-stadium/
LOCATION:Yankee Stadium\, 1 E 161 St\, Bronx\, New York\, 10451
CATEGORIES:Sports
ATTACH;FMTTYPE=image/jpeg:https://deetslive.com/wp-content/uploads/2021/09/Screen-Shot-2021-09-01-at-8.00.35-AM.jpg
END:VEVENT
BEGIN:VEVENT
DTSTART;TZID=America/New_York:20210903T190500
DTEND;TZID=America/New_York:20210903T190500
DTSTAMP:20260420T213404
CREATED:20210901T180514Z
LAST-MODIFIED:20210901T180514Z
UID:123599-1630695900-1630695900@deetslive.com
SUMMARY:Baltimore Orioles v. Yankees at Yankee Stadium
DESCRIPTION:The Race to October has officially begun! The Yankees have a tough month ahead as their push for the playoffs gets real. First up are the Orioles making their final trip to Yankee Stadium this season. The Orioles won’t make the playoffs & are ready to play spoilers to their longtime foes. Get to Yankee Stadium & root on the Bombers as the season winds down! Premium Seats & Pinstripe Passes available with tickets as low as $15 bucks! Tickets & Parking passes here ?  Get Tickets Here
URL:https://deetslive.com/event/baltimore-orioles-v-yankees-at-yankee-stadium/
LOCATION:Yankee Stadium\, 1 E 161 St\, Bronx\, New York\, 10451
CATEGORIES:Sports
ATTACH;FMTTYPE=image/jpeg:https://deetslive.com/wp-content/uploads/2021/09/Screen-Shot-2021-09-01-at-8.00.35-AM.jpg
END:VEVENT
BEGIN:VEVENT
DTSTART;TZID=America/New_York:20210824T191000
DTEND;TZID=America/New_York:20210824T191000
DTSTAMP:20260420T213404
CREATED:20210824T233635Z
LAST-MODIFIED:20210824T233635Z
UID:123577-1629832200-1629832200@deetslive.com
SUMMARY:San Francisco Giants vs. Mets at Citi Field
DESCRIPTION:The Giants are the best team in baseball & the first team to win 80 games this season. The Mets on the other hand… ??‍♂️ But there’s still hope!! Remember\, Ya Gotta Believe! And the only way to believe is with tickets to see the game at Citi Field. Get Tickets Here
URL:https://deetslive.com/event/san-francisco-giants-vs-mets-at-citi-field/
LOCATION:Citi Field\, 41 Seaver Way\, Flushing\, New York\, 11368
CATEGORIES:Sports
ATTACH;FMTTYPE=image/jpeg:https://deetslive.com/wp-content/uploads/2021/08/Screen-Shot-2021-08-24-at-1.29.11-PM.jpg
END:VEVENT
BEGIN:VEVENT
DTSTART;TZID=America/New_York:20210824T191000
DTEND;TZID=America/New_York:20210824T191000
DTSTAMP:20260420T213405
CREATED:20210824T233635Z
LAST-MODIFIED:20210824T233635Z
UID:123577-1629832200-1629832200@deetslive.com
SUMMARY:San Francisco Giants vs. Mets at Citi Field
DESCRIPTION:The Giants are the best team in baseball & the first team to win 80 games this season. The Mets on the other hand… ??‍♂️ But there’s still hope!! Remember\, Ya Gotta Believe! And the only way to believe is with tickets to see the game at Citi Field. Get Tickets Here
URL:https://deetslive.com/event/san-francisco-giants-vs-mets-at-citi-field/
LOCATION:Citi Field\, 41 Seaver Way\, Flushing\, New York\, 11368
CATEGORIES:Sports
ATTACH;FMTTYPE=image/jpeg:https://deetslive.com/wp-content/uploads/2021/08/Screen-Shot-2021-08-24-at-1.29.11-PM.jpg
END:VEVENT
BEGIN:VEVENT
DTSTART;TZID=America/New_York:20210824T191000
DTEND;TZID=America/New_York:20210824T191000
DTSTAMP:20260420T213405
CREATED:20210824T233635Z
LAST-MODIFIED:20210824T233635Z
UID:123577-1629832200-1629832200@deetslive.com
SUMMARY:San Francisco Giants vs. Mets at Citi Field
DESCRIPTION:The Giants are the best team in baseball & the first team to win 80 games this season. The Mets on the other hand… ??‍♂️ But there’s still hope!! Remember\, Ya Gotta Believe! And the only way to believe is with tickets to see the game at Citi Field. Get Tickets Here
URL:https://deetslive.com/event/san-francisco-giants-vs-mets-at-citi-field/
LOCATION:Citi Field\, 41 Seaver Way\, Flushing\, New York\, 11368
CATEGORIES:Sports
ATTACH;FMTTYPE=image/jpeg:https://deetslive.com/wp-content/uploads/2021/08/Screen-Shot-2021-08-24-at-1.29.11-PM.jpg
END:VEVENT
BEGIN:VEVENT
DTSTART;TZID=America/New_York:20210817T130500
DTEND;TZID=America/New_York:20210817T130500
DTSTAMP:20260420T213405
CREATED:20210816T235316Z
LAST-MODIFIED:20210816T235316Z
UID:123558-1629205500-1629205500@deetslive.com
SUMMARY:Red Sox at Yankees\, Yankee Stadium
DESCRIPTION:The Red Sox come into Yankee Stadium for 2 games that are must wins for the Yankees. Both teams battling each other for a playoff spot & only a few games separate baseball’s most famous rivalry. Tickets\, Premium Tickets & Pinstripe Pass tix available. Pinstripe Passes are $15 and include a beer/soda/water & provide access to the standing room locations & social gathering locations. A great deal for $15! All tickets\, Premium & Pinstripe are available: Get Tickets Here
URL:https://deetslive.com/event/red-sox-at-yankees-yankee-stadium/
LOCATION:Yankee Stadium\, 1 E 161 St\, Bronx\, New York\, 10451
CATEGORIES:Sports
ATTACH;FMTTYPE=image/jpeg:https://deetslive.com/wp-content/uploads/2021/08/Screen-Shot-2021-08-16-at-4.38.37-PM.jpg
END:VEVENT
BEGIN:VEVENT
DTSTART;TZID=America/New_York:20210817T130500
DTEND;TZID=America/New_York:20210817T130500
DTSTAMP:20260420T213405
CREATED:20210816T235316Z
LAST-MODIFIED:20210816T235316Z
UID:123558-1629205500-1629205500@deetslive.com
SUMMARY:Red Sox at Yankees\, Yankee Stadium
DESCRIPTION:The Red Sox come into Yankee Stadium for 2 games that are must wins for the Yankees. Both teams battling each other for a playoff spot & only a few games separate baseball’s most famous rivalry. Tickets\, Premium Tickets & Pinstripe Pass tix available. Pinstripe Passes are $15 and include a beer/soda/water & provide access to the standing room locations & social gathering locations. A great deal for $15! All tickets\, Premium & Pinstripe are available: Get Tickets Here
URL:https://deetslive.com/event/red-sox-at-yankees-yankee-stadium/
LOCATION:Yankee Stadium\, 1 E 161 St\, Bronx\, New York\, 10451
CATEGORIES:Sports
ATTACH;FMTTYPE=image/jpeg:https://deetslive.com/wp-content/uploads/2021/08/Screen-Shot-2021-08-16-at-4.38.37-PM.jpg
END:VEVENT
BEGIN:VEVENT
DTSTART;TZID=America/New_York:20210815T130000
DTEND;TZID=America/New_York:20210815T130000
DTSTAMP:20260420T213405
CREATED:20210714T040853Z
LAST-MODIFIED:20210807T210417Z
UID:123026-1629032400-1629032400@deetslive.com
SUMMARY:Monster Jam at Prudential Center\, Newark\, NJ - Tickets & Preshow Pit Party Event
DESCRIPTION:Monster Jam is BACK! This is a full capacity event at MetLife Stadium\, bring the kids & get ready for a night of monster trucks\, food & fun. Get tickets here & also get entry to the Monster Jam Pit Pass for the Preshow Pit Party! Two shows on Sunday August 14th\, 1pm & 7pm. Get Tickets Here
URL:https://deetslive.com/event/monster-jam-xfinity-series-at-metlife-stadium/
LOCATION:Prudential Center\, 165 Mulberry St.\, Newark\, New Jersey\, 07102
CATEGORIES:Sports
ATTACH;FMTTYPE=image/jpeg:https://deetslive.com/wp-content/uploads/2021/07/Screen-Shot-2021-07-16-at-8.57.24-AM.jpg
END:VEVENT
BEGIN:VEVENT
DTSTART;TZID=America/New_York:20210813T191000
DTEND;TZID=America/New_York:20210813T191000
DTSTAMP:20260420T213405
CREATED:20210810T232118Z
LAST-MODIFIED:20210810T232118Z
UID:123528-1628881800-1628881800@deetslive.com
SUMMARY:Los Angeles Dodgers at Mets\, Citi Field
DESCRIPTION:The red hot Dodgers are one of the top 3 teams in the league. While the Mets have fallen from the top over July & are now treading in the middle of the NL East. Root on the Mets to start to play better the 2nd half of this season! This is a 3- game weekend\, Friday/Saturday & Sunday afternoon game homestand. Get Tickets Here
URL:https://deetslive.com/event/los-angeles-dodgers-at-mets-citi-field/
LOCATION:Citi Field\, 41 Seaver Way\, Flushing\, New York\, 11368
CATEGORIES:Sports
END:VEVENT
BEGIN:VEVENT
DTSTART;TZID=America/New_York:20210815T130000
DTEND;TZID=America/New_York:20210815T130000
DTSTAMP:20260420T213406
CREATED:20210714T040853Z
LAST-MODIFIED:20210807T210417Z
UID:123026-1629032400-1629032400@deetslive.com
SUMMARY:Monster Jam at Prudential Center\, Newark\, NJ - Tickets & Preshow Pit Party Event
DESCRIPTION:Monster Jam is BACK! This is a full capacity event at MetLife Stadium\, bring the kids & get ready for a night of monster trucks\, food & fun. Get tickets here & also get entry to the Monster Jam Pit Pass for the Preshow Pit Party! Two shows on Sunday August 14th\, 1pm & 7pm. Get Tickets Here
URL:https://deetslive.com/event/monster-jam-xfinity-series-at-metlife-stadium/
LOCATION:Prudential Center\, 165 Mulberry St.\, Newark\, New Jersey\, 07102
CATEGORIES:Sports
ATTACH;FMTTYPE=image/jpeg:https://deetslive.com/wp-content/uploads/2021/07/Screen-Shot-2021-07-16-at-8.57.24-AM.jpg
END:VEVENT
BEGIN:VEVENT
DTSTART;TZID=America/New_York:20210813T191000
DTEND;TZID=America/New_York:20210813T191000
DTSTAMP:20260420T213406
CREATED:20210810T232118Z
LAST-MODIFIED:20210810T232118Z
UID:123528-1628881800-1628881800@deetslive.com
SUMMARY:Los Angeles Dodgers at Mets\, Citi Field
DESCRIPTION:The red hot Dodgers are one of the top 3 teams in the league. While the Mets have fallen from the top over July & are now treading in the middle of the NL East. Root on the Mets to start to play better the 2nd half of this season! This is a 3- game weekend\, Friday/Saturday & Sunday afternoon game homestand. Get Tickets Here
URL:https://deetslive.com/event/los-angeles-dodgers-at-mets-citi-field/
LOCATION:Citi Field\, 41 Seaver Way\, Flushing\, New York\, 11368
CATEGORIES:Sports
END:VEVENT
BEGIN:VEVENT
DTSTART;TZID=America/New_York:20210813T191000
DTEND;TZID=America/New_York:20210813T191000
DTSTAMP:20260420T213406
CREATED:20210810T232118Z
LAST-MODIFIED:20210810T232118Z
UID:123528-1628881800-1628881800@deetslive.com
SUMMARY:Los Angeles Dodgers at Mets\, Citi Field
DESCRIPTION:The red hot Dodgers are one of the top 3 teams in the league. While the Mets have fallen from the top over July & are now treading in the middle of the NL East. Root on the Mets to start to play better the 2nd half of this season! This is a 3- game weekend\, Friday/Saturday & Sunday afternoon game homestand. Get Tickets Here
URL:https://deetslive.com/event/los-angeles-dodgers-at-mets-citi-field/
LOCATION:Citi Field\, 41 Seaver Way\, Flushing\, New York\, 11368
CATEGORIES:Sports
END:VEVENT
BEGIN:VEVENT
DTSTART;TZID=America/New_York:20210810T191000
DTEND;TZID=America/New_York:20210810T191000
DTSTAMP:20260420T213406
CREATED:20210807T205819Z
LAST-MODIFIED:20210807T205819Z
UID:123498-1628622600-1628622600@deetslive.com
SUMMARY:Washington Nationals at Mets\, Citi Field
DESCRIPTION:The Nats are only 2 years removed from their 2019 World Series Championship\, between injuries & trades\, it’s a long road back for the Nationals. Which makes this series a must see for all Mets fans! And for all Nats fans visiting NY this summer. Get Tickets Here
URL:https://deetslive.com/event/washington-nationals-at-mets-citi-field/
LOCATION:Citi Field\, 41 Seaver Way\, Flushing\, New York\, 11368
CATEGORIES:Sports
END:VEVENT
END:VCALENDAR