BEGIN:VCALENDAR
VERSION:2.0
PRODID:-//Daily Deets - ECPv6.15.20//NONSGML v1.0//EN
CALSCALE:GREGORIAN
METHOD:PUBLISH
X-WR-CALNAME:Daily Deets
X-ORIGINAL-URL:https://deetslive.com
X-WR-CALDESC:Events for Daily Deets
REFRESH-INTERVAL;VALUE=DURATION:PT1H
X-Robots-Tag:noindex
X-PUBLISHED-TTL:PT1H
BEGIN:VTIMEZONE
TZID:America/Los_Angeles
BEGIN:DAYLIGHT
TZOFFSETFROM:-0800
TZOFFSETTO:-0700
TZNAME:PDT
DTSTART:20210314T100000
END:DAYLIGHT
BEGIN:STANDARD
TZOFFSETFROM:-0700
TZOFFSETTO:-0800
TZNAME:PST
DTSTART:20211107T090000
END:STANDARD
BEGIN:DAYLIGHT
TZOFFSETFROM:-0800
TZOFFSETTO:-0700
TZNAME:PDT
DTSTART:20220313T100000
END:DAYLIGHT
BEGIN:STANDARD
TZOFFSETFROM:-0700
TZOFFSETTO:-0800
TZNAME:PST
DTSTART:20221106T090000
END:STANDARD
BEGIN:DAYLIGHT
TZOFFSETFROM:-0800
TZOFFSETTO:-0700
TZNAME:PDT
DTSTART:20230312T100000
END:DAYLIGHT
BEGIN:STANDARD
TZOFFSETFROM:-0700
TZOFFSETTO:-0800
TZNAME:PST
DTSTART:20231105T090000
END:STANDARD
END:VTIMEZONE
BEGIN:VTIMEZONE
TZID:America/New_York
BEGIN:DAYLIGHT
TZOFFSETFROM:-0500
TZOFFSETTO:-0400
TZNAME:EDT
DTSTART:20210314T070000
END:DAYLIGHT
BEGIN:STANDARD
TZOFFSETFROM:-0400
TZOFFSETTO:-0500
TZNAME:EST
DTSTART:20211107T060000
END:STANDARD
BEGIN:DAYLIGHT
TZOFFSETFROM:-0500
TZOFFSETTO:-0400
TZNAME:EDT
DTSTART:20220313T070000
END:DAYLIGHT
BEGIN:STANDARD
TZOFFSETFROM:-0400
TZOFFSETTO:-0500
TZNAME:EST
DTSTART:20221106T060000
END:STANDARD
BEGIN:DAYLIGHT
TZOFFSETFROM:-0500
TZOFFSETTO:-0400
TZNAME:EDT
DTSTART:20230312T070000
END:DAYLIGHT
BEGIN:STANDARD
TZOFFSETFROM:-0400
TZOFFSETTO:-0500
TZNAME:EST
DTSTART:20231105T060000
END:STANDARD
END:VTIMEZONE
BEGIN:VTIMEZONE
TZID:UTC
BEGIN:STANDARD
TZOFFSETFROM:+0000
TZOFFSETTO:+0000
TZNAME:UTC
DTSTART:20210101T000000
END:STANDARD
END:VTIMEZONE
BEGIN:VEVENT
DTSTART;TZID=America/Los_Angeles:20221021T193000
DTEND;TZID=America/Los_Angeles:20221021T193000
DTSTAMP:20260420T032750
CREATED:20221013T011455Z
LAST-MODIFIED:20221013T011515Z
UID:129327-1666380600-1666380600@deetslive.com
SUMMARY:NY Knicks vs. Detroit Pistons at Madison Square Garden\, New York City - Home Opener!!
DESCRIPTION:The 2022-23 Season is here! The Knicks have high expectations this season & the long road to the playoffs or even (gasp) The Finals\, begins here at home in Madison Square Garden in New York City. Don’t miss the home opener for 2022-23! \nNY Knicks vs. Detroit Pistons \nMadison Square Garden\, New York City \nFriday\, Oct. 21st\, 7:30pm \nTicketmaster \nStubHub
URL:https://deetslive.com/event/ny-knicks-vs-detroit-pistons-at-madison-square-garden-new-york-city-home-opener/
LOCATION:Madison Square Garden\, 4 Pennsylvania Plaza\, New York City\, New York\, 10001\, United States
CATEGORIES:New York/New Jersey,Sports
END:VEVENT
BEGIN:VEVENT
DTSTART;TZID=America/Los_Angeles:20221020T190000
DTEND;TZID=America/Los_Angeles:20221020T190000
DTSTAMP:20260420T032751
CREATED:20221011T043117Z
LAST-MODIFIED:20221013T042200Z
UID:129295-1666292400-1666292400@deetslive.com
SUMMARY:LA Lakers vs. LA Clippers at Crypto.com Arena\, Los Angeles
DESCRIPTION:It’s ON!! The Clippers season opener is technically an away game when they face their Crypto.com Arena roommates & rivals\, the Lakers. Don’t miss their first matchup of what is sure to be an exciting season for both teams! \nThursday\, Oct. 20th\, 7pm \nCrypro.com Arena\, Los Angeles \nTicketmaster \nStubHub
URL:https://deetslive.com/event/la-lakers-vs-la-clippers-at-crypto-com-arena-los-angeles/
LOCATION:Crypto.com Arena\, 1111 S. Figueroa St.\, Los Angeles\, Ca.\, 90015
CATEGORIES:Los Angeles,Sports
END:VEVENT
BEGIN:VEVENT
DTSTART;TZID=America/Los_Angeles:20221016T130500
DTEND;TZID=America/Los_Angeles:20221016T130500
DTSTAMP:20260420T032751
CREATED:20221013T031431Z
LAST-MODIFIED:20221013T032137Z
UID:129355-1665925500-1665925500@deetslive.com
SUMMARY:Los Angeles Rams vs. Carolina Panthers at SoFi Stadium\, Los Angeles
DESCRIPTION:LA Rams vs. Carolina Panthers \nSoFi Stadium\, Los Angeles \nSunday\, Oct. 16th\, 1:05pm \nTicketmaster \nStubHub
URL:https://deetslive.com/event/los-angeles-rams-vs-carolina-panthers-at-sofi-stadium-los-angeles/
LOCATION:SoFi Stadium\, 1001 Stadium Drive\, Inglewood\, California\, 90301
CATEGORIES:Los Angeles,Sports
END:VEVENT
BEGIN:VEVENT
DTSTART;TZID=America/New_York:20221016T130000
DTEND;TZID=America/New_York:20221016T170000
DTSTAMP:20260420T032751
CREATED:20221013T024330Z
LAST-MODIFIED:20221013T025302Z
UID:129344-1665925200-1665939600@deetslive.com
SUMMARY:New York Giants vs. Baltimore Ravens at MetLife Stadium\, New Jersey
DESCRIPTION:New York is flying from a huge win in London over the Packers and the Ravens are also coming off a win over the Bengals. Baltimore is favored to win the game\, but never count the G-Men out at home. \nNew York Giants vs. Baltimore Ravens \nMetLife Stadium \nSunday\, October\, 16th\, 1pm \nTicketmaster \nStubHub
URL:https://deetslive.com/event/new-york-giants-vs-baltimore-ravens-at-metlife-stadium-new-jersey/
LOCATION:MetLife Stadium\, 1 MetLife Stadium Dr.\, East Rutherford\, NJ\, 07073\, United States
CATEGORIES:New York/New Jersey,Sports
END:VEVENT
BEGIN:VEVENT
DTSTART;TZID=UTC:20220930T191000
DTEND;TZID=UTC:20220930T191000
DTSTAMP:20260420T032751
CREATED:20220904T015634Z
LAST-MODIFIED:20220907T205903Z
UID:128385-1664565000-1664565000@deetslive.com
SUMMARY:Los Angeles Dodgers vs. Colorado Rockies at Dodger Stadium\, Los Angeles
DESCRIPTION:LA Dodgers vs. Colorado Rockies \nDodger Stadium\, LA \n9/30\, Friday\, 7:10pm\n10/1\, Saturday\, 6:10pm\n10/2\, Sunday\, 1:10pm\n10/3\, Monday\, 7:10pm\n10/4\, Tuesday\, 7:10pm \nTicketmaster \nStubHub
URL:https://deetslive.com/event/los-angeles-dodgers-vs-colorado-rockies-at-dodger-stadium-los-angeles/
LOCATION:Dodger Stadium\, 1000 Vin Scully Ave.\, Los Angeles\, CA\, 90012
CATEGORIES:Los Angeles,Sports
END:VEVENT
BEGIN:VEVENT
DTSTART;TZID=UTC:20220930T191000
DTEND;TZID=UTC:20220930T191000
DTSTAMP:20260420T032751
CREATED:20220904T015634Z
LAST-MODIFIED:20220907T205903Z
UID:128385-1664565000-1664565000@deetslive.com
SUMMARY:Los Angeles Dodgers vs. Colorado Rockies at Dodger Stadium\, Los Angeles
DESCRIPTION:LA Dodgers vs. Colorado Rockies \nDodger Stadium\, LA \n9/30\, Friday\, 7:10pm\n10/1\, Saturday\, 6:10pm\n10/2\, Sunday\, 1:10pm\n10/3\, Monday\, 7:10pm\n10/4\, Tuesday\, 7:10pm \nTicketmaster \nStubHub
URL:https://deetslive.com/event/los-angeles-dodgers-vs-colorado-rockies-at-dodger-stadium-los-angeles/
LOCATION:Dodger Stadium\, 1000 Vin Scully Ave.\, Los Angeles\, CA\, 90012
CATEGORIES:Los Angeles,Sports
END:VEVENT
BEGIN:VEVENT
DTSTART;TZID=UTC:20220930T191000
DTEND;TZID=UTC:20220930T191000
DTSTAMP:20260420T032751
CREATED:20220904T015634Z
LAST-MODIFIED:20220907T205903Z
UID:128385-1664565000-1664565000@deetslive.com
SUMMARY:Los Angeles Dodgers vs. Colorado Rockies at Dodger Stadium\, Los Angeles
DESCRIPTION:LA Dodgers vs. Colorado Rockies \nDodger Stadium\, LA \n9/30\, Friday\, 7:10pm\n10/1\, Saturday\, 6:10pm\n10/2\, Sunday\, 1:10pm\n10/3\, Monday\, 7:10pm\n10/4\, Tuesday\, 7:10pm \nTicketmaster \nStubHub
URL:https://deetslive.com/event/los-angeles-dodgers-vs-colorado-rockies-at-dodger-stadium-los-angeles/
LOCATION:Dodger Stadium\, 1000 Vin Scully Ave.\, Los Angeles\, CA\, 90012
CATEGORIES:Los Angeles,Sports
END:VEVENT
BEGIN:VEVENT
DTSTART;TZID=UTC:20221002T130000
DTEND;TZID=UTC:20221002T130000
DTSTAMP:20260420T032751
CREATED:20220929T032045Z
LAST-MODIFIED:20220929T035032Z
UID:128790-1664715600-1664715600@deetslive.com
SUMMARY:New York Giants vs. Chicago Bears at MetLife Stadium\, New Jersey
DESCRIPTION:The Giants (2-1) are coming off a loss to the Cowboys in Dallas & return home to MetLife where they face the (2-1) Chicago Bears. The Giants should win this game at home if they get Saquon Barkley in a groove against a Bears defense that’s one of the worst in the NFL. \n💸 Deets Line: Take the Giants to cover the -3 spread. \nTicketmaster \nStubHub
URL:https://deetslive.com/event/new-york-giants-vs-chicago-bears-at-metlife-stadium-new-jersey/
LOCATION:MetLife Stadium\, 1 MetLife Stadium Dr.\, East Rutherford\, NJ\, 07073\, United States
CATEGORIES:New York/New Jersey,Sports
ATTACH;FMTTYPE=image/jpeg:https://deetslive.com/wp-content/uploads/2022/09/Screen-Shot-2022-09-28-at-8.19.25-PM.jpg
END:VEVENT
BEGIN:VEVENT
DTSTART;TZID=UTC:20220930T191000
DTEND;TZID=UTC:20220930T191000
DTSTAMP:20260420T032751
CREATED:20220904T015634Z
LAST-MODIFIED:20220907T205903Z
UID:128385-1664565000-1664565000@deetslive.com
SUMMARY:Los Angeles Dodgers vs. Colorado Rockies at Dodger Stadium\, Los Angeles
DESCRIPTION:LA Dodgers vs. Colorado Rockies \nDodger Stadium\, LA \n9/30\, Friday\, 7:10pm\n10/1\, Saturday\, 6:10pm\n10/2\, Sunday\, 1:10pm\n10/3\, Monday\, 7:10pm\n10/4\, Tuesday\, 7:10pm \nTicketmaster \nStubHub
URL:https://deetslive.com/event/los-angeles-dodgers-vs-colorado-rockies-at-dodger-stadium-los-angeles/
LOCATION:Dodger Stadium\, 1000 Vin Scully Ave.\, Los Angeles\, CA\, 90012
CATEGORIES:Los Angeles,Sports
END:VEVENT
BEGIN:VEVENT
DTSTART;TZID=UTC:20220930T191000
DTEND;TZID=UTC:20220930T191000
DTSTAMP:20260420T032751
CREATED:20220904T015634Z
LAST-MODIFIED:20220907T205903Z
UID:128385-1664565000-1664565000@deetslive.com
SUMMARY:Los Angeles Dodgers vs. Colorado Rockies at Dodger Stadium\, Los Angeles
DESCRIPTION:LA Dodgers vs. Colorado Rockies \nDodger Stadium\, LA \n9/30\, Friday\, 7:10pm\n10/1\, Saturday\, 6:10pm\n10/2\, Sunday\, 1:10pm\n10/3\, Monday\, 7:10pm\n10/4\, Tuesday\, 7:10pm \nTicketmaster \nStubHub
URL:https://deetslive.com/event/los-angeles-dodgers-vs-colorado-rockies-at-dodger-stadium-los-angeles/
LOCATION:Dodger Stadium\, 1000 Vin Scully Ave.\, Los Angeles\, CA\, 90012
CATEGORIES:Los Angeles,Sports
END:VEVENT
BEGIN:VEVENT
DTSTART;TZID=UTC:20220923T191000
DTEND;TZID=UTC:20220923T191000
DTSTAMP:20260420T032751
CREATED:20220904T013538Z
LAST-MODIFIED:20220904T013538Z
UID:128380-1663960200-1663960200@deetslive.com
SUMMARY:Los Angeles Dodgers vs. St. Louis Cardinals at Dodger Stadium\, Los Angeles
DESCRIPTION:LA Dodgers vs. St. Louis Cardinals \nDodger Stadium\, Los Angeles \n9/23\, Friday\, 7:10pm\n9/24\, Saturday\, 6:10pm\n9/25\, Sunday\, 1:10pm \nTicketmaster \nStubHub
URL:https://deetslive.com/event/los-angeles-dodgers-vs-st-louis-cardinals-at-dodger-stadium-los-angeles/
LOCATION:Dodger Stadium\, 1000 Vin Scully Ave.\, Los Angeles\, CA\, 90012
CATEGORIES:Los Angeles,Sports
END:VEVENT
BEGIN:VEVENT
DTSTART;TZID=UTC:20220923T191000
DTEND;TZID=UTC:20220923T191000
DTSTAMP:20260420T032751
CREATED:20220904T013538Z
LAST-MODIFIED:20220904T013538Z
UID:128380-1663960200-1663960200@deetslive.com
SUMMARY:Los Angeles Dodgers vs. St. Louis Cardinals at Dodger Stadium\, Los Angeles
DESCRIPTION:LA Dodgers vs. St. Louis Cardinals \nDodger Stadium\, Los Angeles \n9/23\, Friday\, 7:10pm\n9/24\, Saturday\, 6:10pm\n9/25\, Sunday\, 1:10pm \nTicketmaster \nStubHub
URL:https://deetslive.com/event/los-angeles-dodgers-vs-st-louis-cardinals-at-dodger-stadium-los-angeles/
LOCATION:Dodger Stadium\, 1000 Vin Scully Ave.\, Los Angeles\, CA\, 90012
CATEGORIES:Los Angeles,Sports
END:VEVENT
BEGIN:VEVENT
DTSTART;TZID=UTC:20220923T191000
DTEND;TZID=UTC:20220923T191000
DTSTAMP:20260420T032751
CREATED:20220904T013538Z
LAST-MODIFIED:20220904T013538Z
UID:128380-1663960200-1663960200@deetslive.com
SUMMARY:Los Angeles Dodgers vs. St. Louis Cardinals at Dodger Stadium\, Los Angeles
DESCRIPTION:LA Dodgers vs. St. Louis Cardinals \nDodger Stadium\, Los Angeles \n9/23\, Friday\, 7:10pm\n9/24\, Saturday\, 6:10pm\n9/25\, Sunday\, 1:10pm \nTicketmaster \nStubHub
URL:https://deetslive.com/event/los-angeles-dodgers-vs-st-louis-cardinals-at-dodger-stadium-los-angeles/
LOCATION:Dodger Stadium\, 1000 Vin Scully Ave.\, Los Angeles\, CA\, 90012
CATEGORIES:Los Angeles,Sports
END:VEVENT
BEGIN:VEVENT
DTSTART;TZID=UTC:20220919T191000
DTEND;TZID=UTC:20220919T191000
DTSTAMP:20260420T032751
CREATED:20220904T005503Z
LAST-MODIFIED:20220904T005518Z
UID:128370-1663614600-1663614600@deetslive.com
SUMMARY:Los Angeles Dodgers vs. Arizona Diamondbacks\, Dodger Stadium\, Los Angeles
DESCRIPTION:Arizona comes to Dodger Stadium for a 4 game stand – including a Double Header on Sep. 7th. \nLA Dodgers vs. Arizona Diamondbacks \nDodger Stadium\, Los Angeles \n9/19\, Monday\, 7:10pm\n9/20\, Tuesday\, Double Header\, Game 1\, 12:10pm – Game 2\, 7:10pm\n9/21\, Wednesday\, 7:10pm \nTicketmaster \nStubHub
URL:https://deetslive.com/event/los-angeles-dodgers-vs-arizona-diamondbacks-dodger-stadium-los-angeles/
LOCATION:Dodger Stadium\, 1000 Vin Scully Ave.\, Los Angeles\, CA\, 90012
CATEGORIES:Los Angeles,Sports
END:VEVENT
BEGIN:VEVENT
DTSTART;TZID=UTC:20220919T191000
DTEND;TZID=UTC:20220919T191000
DTSTAMP:20260420T032751
CREATED:20220904T005503Z
LAST-MODIFIED:20220904T005518Z
UID:128370-1663614600-1663614600@deetslive.com
SUMMARY:Los Angeles Dodgers vs. Arizona Diamondbacks\, Dodger Stadium\, Los Angeles
DESCRIPTION:Arizona comes to Dodger Stadium for a 4 game stand – including a Double Header on Sep. 7th. \nLA Dodgers vs. Arizona Diamondbacks \nDodger Stadium\, Los Angeles \n9/19\, Monday\, 7:10pm\n9/20\, Tuesday\, Double Header\, Game 1\, 12:10pm – Game 2\, 7:10pm\n9/21\, Wednesday\, 7:10pm \nTicketmaster \nStubHub
URL:https://deetslive.com/event/los-angeles-dodgers-vs-arizona-diamondbacks-dodger-stadium-los-angeles/
LOCATION:Dodger Stadium\, 1000 Vin Scully Ave.\, Los Angeles\, CA\, 90012
CATEGORIES:Los Angeles,Sports
END:VEVENT
BEGIN:VEVENT
DTSTART;TZID=UTC:20220919T191000
DTEND;TZID=UTC:20220919T191000
DTSTAMP:20260420T032751
CREATED:20220904T005503Z
LAST-MODIFIED:20220904T005518Z
UID:128370-1663614600-1663614600@deetslive.com
SUMMARY:Los Angeles Dodgers vs. Arizona Diamondbacks\, Dodger Stadium\, Los Angeles
DESCRIPTION:Arizona comes to Dodger Stadium for a 4 game stand – including a Double Header on Sep. 7th. \nLA Dodgers vs. Arizona Diamondbacks \nDodger Stadium\, Los Angeles \n9/19\, Monday\, 7:10pm\n9/20\, Tuesday\, Double Header\, Game 1\, 12:10pm – Game 2\, 7:10pm\n9/21\, Wednesday\, 7:10pm \nTicketmaster \nStubHub
URL:https://deetslive.com/event/los-angeles-dodgers-vs-arizona-diamondbacks-dodger-stadium-los-angeles/
LOCATION:Dodger Stadium\, 1000 Vin Scully Ave.\, Los Angeles\, CA\, 90012
CATEGORIES:Los Angeles,Sports
END:VEVENT
BEGIN:VEVENT
DTSTART;TZID=UTC:20220919T191000
DTEND;TZID=UTC:20220919T191000
DTSTAMP:20260420T032751
CREATED:20220904T005503Z
LAST-MODIFIED:20220904T005518Z
UID:128370-1663614600-1663614600@deetslive.com
SUMMARY:Los Angeles Dodgers vs. Arizona Diamondbacks\, Dodger Stadium\, Los Angeles
DESCRIPTION:Arizona comes to Dodger Stadium for a 4 game stand – including a Double Header on Sep. 7th. \nLA Dodgers vs. Arizona Diamondbacks \nDodger Stadium\, Los Angeles \n9/19\, Monday\, 7:10pm\n9/20\, Tuesday\, Double Header\, Game 1\, 12:10pm – Game 2\, 7:10pm\n9/21\, Wednesday\, 7:10pm \nTicketmaster \nStubHub
URL:https://deetslive.com/event/los-angeles-dodgers-vs-arizona-diamondbacks-dodger-stadium-los-angeles/
LOCATION:Dodger Stadium\, 1000 Vin Scully Ave.\, Los Angeles\, CA\, 90012
CATEGORIES:Los Angeles,Sports
END:VEVENT
BEGIN:VEVENT
DTSTART;TZID=UTC:20220905T191000
DTEND;TZID=UTC:20220905T191000
DTSTAMP:20260420T032751
CREATED:20220903T234651Z
LAST-MODIFIED:20220903T234651Z
UID:128364-1662405000-1662405000@deetslive.com
SUMMARY:Los Angeles Dodgers vs. San Francisco Giants at Dodger Stadium\, LA
DESCRIPTION:LA Dodgers vs. SF Giants \nDodger Stadium\, Los Angeles \n9/5\, Monday\, 7:10pm\n9/6\, Tuesday\, 7:10pm\n9/7\, Wednesday\, 1:10pm \nTicketmaster \nStubHub
URL:https://deetslive.com/event/los-angeles-dodgers-vs-san-francisco-giants-at-dodger-stadium-la/
LOCATION:Dodger Stadium\, 1000 Vin Scully Ave.\, Los Angeles\, CA\, 90012
CATEGORIES:Los Angeles,Sports
END:VEVENT
BEGIN:VEVENT
DTSTART;TZID=UTC:20220905T191000
DTEND;TZID=UTC:20220905T191000
DTSTAMP:20260420T032751
CREATED:20220903T234651Z
LAST-MODIFIED:20220903T234651Z
UID:128364-1662405000-1662405000@deetslive.com
SUMMARY:Los Angeles Dodgers vs. San Francisco Giants at Dodger Stadium\, LA
DESCRIPTION:LA Dodgers vs. SF Giants \nDodger Stadium\, Los Angeles \n9/5\, Monday\, 7:10pm\n9/6\, Tuesday\, 7:10pm\n9/7\, Wednesday\, 1:10pm \nTicketmaster \nStubHub
URL:https://deetslive.com/event/los-angeles-dodgers-vs-san-francisco-giants-at-dodger-stadium-la/
LOCATION:Dodger Stadium\, 1000 Vin Scully Ave.\, Los Angeles\, CA\, 90012
CATEGORIES:Los Angeles,Sports
END:VEVENT
BEGIN:VEVENT
DTSTART;TZID=UTC:20220905T191000
DTEND;TZID=UTC:20220905T191000
DTSTAMP:20260420T032751
CREATED:20220903T234651Z
LAST-MODIFIED:20220903T234651Z
UID:128364-1662405000-1662405000@deetslive.com
SUMMARY:Los Angeles Dodgers vs. San Francisco Giants at Dodger Stadium\, LA
DESCRIPTION:LA Dodgers vs. SF Giants \nDodger Stadium\, Los Angeles \n9/5\, Monday\, 7:10pm\n9/6\, Tuesday\, 7:10pm\n9/7\, Wednesday\, 1:10pm \nTicketmaster \nStubHub
URL:https://deetslive.com/event/los-angeles-dodgers-vs-san-francisco-giants-at-dodger-stadium-la/
LOCATION:Dodger Stadium\, 1000 Vin Scully Ave.\, Los Angeles\, CA\, 90012
CATEGORIES:Los Angeles,Sports
END:VEVENT
BEGIN:VEVENT
DTSTART;TZID=UTC:20220903T181000
DTEND;TZID=UTC:20220903T181000
DTSTAMP:20260420T032751
CREATED:20220903T232933Z
LAST-MODIFIED:20220903T232933Z
UID:128360-1662228600-1662228600@deetslive.com
SUMMARY:Los Angeles Dodgers vs. San Diego Padres at Dodger Stadium\, LA
DESCRIPTION:LA Dodgers vs. SD Padres \nDodger Stadium\, Los Angeles \nSat.\, September 3rd\, 6:10pm\nSun.\, September 4th\, 4:08pm \nTicketmaster \nStubHub
URL:https://deetslive.com/event/los-angeles-dodgers-vs-san-diego-padres-at-dodger-stadium-la/
LOCATION:Dodger Stadium\, 1000 Vin Scully Ave.\, Los Angeles\, CA\, 90012
CATEGORIES:Los Angeles,Sports
END:VEVENT
BEGIN:VEVENT
DTSTART;TZID=UTC:20220903T181000
DTEND;TZID=UTC:20220903T181000
DTSTAMP:20260420T032751
CREATED:20220903T232933Z
LAST-MODIFIED:20220903T232933Z
UID:128360-1662228600-1662228600@deetslive.com
SUMMARY:Los Angeles Dodgers vs. San Diego Padres at Dodger Stadium\, LA
DESCRIPTION:LA Dodgers vs. SD Padres \nDodger Stadium\, Los Angeles \nSat.\, September 3rd\, 6:10pm\nSun.\, September 4th\, 4:08pm \nTicketmaster \nStubHub
URL:https://deetslive.com/event/los-angeles-dodgers-vs-san-diego-padres-at-dodger-stadium-la/
LOCATION:Dodger Stadium\, 1000 Vin Scully Ave.\, Los Angeles\, CA\, 90012
CATEGORIES:Los Angeles,Sports
END:VEVENT
BEGIN:VEVENT
DTSTART;TZID=UTC:20220830T191000
DTEND;TZID=UTC:20220830T191000
DTSTAMP:20260420T032751
CREATED:20220830T201050Z
LAST-MODIFIED:20220830T201050Z
UID:128312-1661886600-1661886600@deetslive.com
SUMMARY:New York Mets vs. Los Angeles Dodgers at Citi Field\, New York
DESCRIPTION:New York Mets vs. Los Angeles Dodgers \nCiti Field\, Flushing\, New York \nTuesday\, August 30th\, 7:10pm\nWednesday\, August 31st\, 7:10pm\nThursday\, September 1st\, 4:10pm \nTicketmaster \nStubHub
URL:https://deetslive.com/event/new-york-mets-vs-los-angeles-dodgers-at-citi-field-new-york/
LOCATION:Citi Field\, 41 Seaver Way\, Flushing\, New York\, 11368
CATEGORIES:New York/New Jersey,Sports
END:VEVENT
BEGIN:VEVENT
DTSTART;TZID=UTC:20220830T191000
DTEND;TZID=UTC:20220830T191000
DTSTAMP:20260420T032751
CREATED:20220830T201050Z
LAST-MODIFIED:20220830T201050Z
UID:128312-1661886600-1661886600@deetslive.com
SUMMARY:New York Mets vs. Los Angeles Dodgers at Citi Field\, New York
DESCRIPTION:New York Mets vs. Los Angeles Dodgers \nCiti Field\, Flushing\, New York \nTuesday\, August 30th\, 7:10pm\nWednesday\, August 31st\, 7:10pm\nThursday\, September 1st\, 4:10pm \nTicketmaster \nStubHub
URL:https://deetslive.com/event/new-york-mets-vs-los-angeles-dodgers-at-citi-field-new-york/
LOCATION:Citi Field\, 41 Seaver Way\, Flushing\, New York\, 11368
CATEGORIES:New York/New Jersey,Sports
END:VEVENT
BEGIN:VEVENT
DTSTART;TZID=UTC:20220829T183800
DTEND;TZID=UTC:20220829T183800
DTSTAMP:20260420T032751
CREATED:20220821T235134Z
LAST-MODIFIED:20220821T235134Z
UID:128281-1661798280-1661798280@deetslive.com
SUMMARY:Los Angeles Angels vs. New York Yankees at Angel Stadium of Anaheim
DESCRIPTION:Los Angeles Angels vs\,. New York Yankees \nAngel Stadium\, Anaheim\, Ca. \nMonday\, August 29th\, 6:38pm\nTuesday\, August 30th\, 6:38pm\nWednesday\, August 31st\, 6:38pm \nTicketmaster \nStubHub
URL:https://deetslive.com/event/los-angeles-angels-vs-new-york-yankees-at-angel-stadium-of-anaheim/
LOCATION:Angel Stadium of Anaheim\, 2000 E. Gene Autry Way\, Anaheim\, Ca.\, 92806
CATEGORIES:Los Angeles,Sports
END:VEVENT
BEGIN:VEVENT
DTSTART;TZID=UTC:20220830T191000
DTEND;TZID=UTC:20220830T191000
DTSTAMP:20260420T032751
CREATED:20220830T201050Z
LAST-MODIFIED:20220830T201050Z
UID:128312-1661886600-1661886600@deetslive.com
SUMMARY:New York Mets vs. Los Angeles Dodgers at Citi Field\, New York
DESCRIPTION:New York Mets vs. Los Angeles Dodgers \nCiti Field\, Flushing\, New York \nTuesday\, August 30th\, 7:10pm\nWednesday\, August 31st\, 7:10pm\nThursday\, September 1st\, 4:10pm \nTicketmaster \nStubHub
URL:https://deetslive.com/event/new-york-mets-vs-los-angeles-dodgers-at-citi-field-new-york/
LOCATION:Citi Field\, 41 Seaver Way\, Flushing\, New York\, 11368
CATEGORIES:New York/New Jersey,Sports
END:VEVENT
BEGIN:VEVENT
DTSTART;TZID=UTC:20220829T183800
DTEND;TZID=UTC:20220829T183800
DTSTAMP:20260420T032751
CREATED:20220821T235134Z
LAST-MODIFIED:20220821T235134Z
UID:128281-1661798280-1661798280@deetslive.com
SUMMARY:Los Angeles Angels vs. New York Yankees at Angel Stadium of Anaheim
DESCRIPTION:Los Angeles Angels vs\,. New York Yankees \nAngel Stadium\, Anaheim\, Ca. \nMonday\, August 29th\, 6:38pm\nTuesday\, August 30th\, 6:38pm\nWednesday\, August 31st\, 6:38pm \nTicketmaster \nStubHub
URL:https://deetslive.com/event/los-angeles-angels-vs-new-york-yankees-at-angel-stadium-of-anaheim/
LOCATION:Angel Stadium of Anaheim\, 2000 E. Gene Autry Way\, Anaheim\, Ca.\, 92806
CATEGORIES:Los Angeles,Sports
END:VEVENT
BEGIN:VEVENT
DTSTART;TZID=UTC:20220829T183800
DTEND;TZID=UTC:20220829T183800
DTSTAMP:20260420T032751
CREATED:20220821T235134Z
LAST-MODIFIED:20220821T235134Z
UID:128281-1661798280-1661798280@deetslive.com
SUMMARY:Los Angeles Angels vs. New York Yankees at Angel Stadium of Anaheim
DESCRIPTION:Los Angeles Angels vs\,. New York Yankees \nAngel Stadium\, Anaheim\, Ca. \nMonday\, August 29th\, 6:38pm\nTuesday\, August 30th\, 6:38pm\nWednesday\, August 31st\, 6:38pm \nTicketmaster \nStubHub
URL:https://deetslive.com/event/los-angeles-angels-vs-new-york-yankees-at-angel-stadium-of-anaheim/
LOCATION:Angel Stadium of Anaheim\, 2000 E. Gene Autry Way\, Anaheim\, Ca.\, 92806
CATEGORIES:Los Angeles,Sports
END:VEVENT
BEGIN:VEVENT
DTSTART;TZID=UTC:20220828T130000
DTEND;TZID=UTC:20220828T130000
DTSTAMP:20260420T032751
CREATED:20220808T050645Z
LAST-MODIFIED:20220808T050645Z
UID:126533-1661691600-1661691600@deetslive.com
SUMMARY:New York Jets vs. New York Giants at MetLife Stadium\, New Jersey (Pre-Season)
DESCRIPTION:NY Jets vs. NY Giants\, The Battle of the Big Apple in New Jersey! \nMetLife Stadium\, East Rutherford\, New Jersey \nSunday\, August 28th\, 1pm \nTicketmaster \nStubHub
URL:https://deetslive.com/event/new-york-jets-vs-new-york-giants-at-metlife-stadium-new-jersey-pre-season/
LOCATION:MetLife Stadium\, 1 MetLife Stadium Dr.\, East Rutherford\, NJ\, 07073\, United States
CATEGORIES:New Jersey,New York/New Jersey,Sports
END:VEVENT
BEGIN:VEVENT
DTSTART;TZID=UTC:20220822T191000
DTEND;TZID=UTC:20220822T191000
DTSTAMP:20260420T032751
CREATED:20220821T233934Z
LAST-MODIFIED:20220821T233934Z
UID:128276-1661195400-1661195400@deetslive.com
SUMMARY:Los Angeles Dodgers vs. Milwaukee Brewers at Dodger Stadium\, Los Angeles
DESCRIPTION:Los Angeles Dodgers vs. Milwaukee Brewers \nDodger Stadium\, Los Angeles \nMonday\, August 22nd\, 7:10pm\nTuesday\, August 23rd\, 7:10pm\nWednesday\, August 24th\, 6pm \nTicketmaster \nStubhub
URL:https://deetslive.com/event/los-angeles-dodgers-vs-milwaukee-brewers-at-dodger-stadium-los-angeles/
LOCATION:Dodger Stadium\, 1000 Vin Scully Ave.\, Los Angeles\, CA\, 90012
CATEGORIES:Los Angeles,Sports
END:VEVENT
END:VCALENDAR