BEGIN:VCALENDAR
VERSION:2.0
PRODID:-//Daily Deets - ECPv6.15.20//NONSGML v1.0//EN
CALSCALE:GREGORIAN
METHOD:PUBLISH
X-WR-CALNAME:Daily Deets
X-ORIGINAL-URL:https://deetslive.com
X-WR-CALDESC:Events for Daily Deets
REFRESH-INTERVAL;VALUE=DURATION:PT1H
X-Robots-Tag:noindex
X-PUBLISHED-TTL:PT1H
BEGIN:VTIMEZONE
TZID:UTC
BEGIN:STANDARD
TZOFFSETFROM:+0000
TZOFFSETTO:+0000
TZNAME:UTC
DTSTART:20210101T000000
END:STANDARD
END:VTIMEZONE
BEGIN:VEVENT
DTSTART;TZID=UTC:20220627T190500
DTEND;TZID=UTC:20220627T190500
DTSTAMP:20260420T122721
CREATED:20220615T033315Z
LAST-MODIFIED:20220615T033315Z
UID:126070-1656356700-1656356700@deetslive.com
SUMMARY:NY Yankees vs. Oakland Athletics at Yankee Stadium\, NY
DESCRIPTION:NY Yankees vs. Oakland A’s \nYankee Stadium\, Bronx\, NY \nMonday\, June 27th\, 7:05pm\nTuesday\, June 28th\, 7:05pm\nWednesday\, June 29th\, 1:05pm \nTicketmaster
URL:https://deetslive.com/event/ny-yankees-vs-oakland-athletics-at-yankee-stadium-ny/
LOCATION:Yankee Stadium\, 1 E 161 St\, Bronx\, New York\, 10451
CATEGORIES:New York/New Jersey,Sports
END:VEVENT
BEGIN:VEVENT
DTSTART;TZID=UTC:20220623T190500
DTEND;TZID=UTC:20220623T190500
DTSTAMP:20260420T122721
CREATED:20220615T031453Z
LAST-MODIFIED:20220615T031453Z
UID:126063-1656011100-1656011100@deetslive.com
SUMMARY:NY Yankees vs. Houston Astros at Yankee Stadium\, NY
DESCRIPTION:NY Yankees vs. Houston Astros \nYankee Stadium\, Bronx\, NY \nThursday\, June 23rd\, 7:05pm\nFriday\, June 24th\, 7:05pm\nSaturday\, June 25th\, 1:05pm\nSunday\, June\, 26th\, 1:35pm \nTicketmaster
URL:https://deetslive.com/event/ny-yankees-vs-houston-astros-at-yankee-stadium-ny/
LOCATION:Yankee Stadium\, 1 E 161 St\, Bronx\, New York\, 10451
CATEGORIES:New York/New Jersey,Sports
END:VEVENT
BEGIN:VEVENT
DTSTART;TZID=UTC:20220623T190500
DTEND;TZID=UTC:20220623T190500
DTSTAMP:20260420T122721
CREATED:20220615T031453Z
LAST-MODIFIED:20220615T031453Z
UID:126063-1656011100-1656011100@deetslive.com
SUMMARY:NY Yankees vs. Houston Astros at Yankee Stadium\, NY
DESCRIPTION:NY Yankees vs. Houston Astros \nYankee Stadium\, Bronx\, NY \nThursday\, June 23rd\, 7:05pm\nFriday\, June 24th\, 7:05pm\nSaturday\, June 25th\, 1:05pm\nSunday\, June\, 26th\, 1:35pm \nTicketmaster
URL:https://deetslive.com/event/ny-yankees-vs-houston-astros-at-yankee-stadium-ny/
LOCATION:Yankee Stadium\, 1 E 161 St\, Bronx\, New York\, 10451
CATEGORIES:New York/New Jersey,Sports
END:VEVENT
BEGIN:VEVENT
DTSTART;TZID=UTC:20220623T190500
DTEND;TZID=UTC:20220623T190500
DTSTAMP:20260420T122721
CREATED:20220615T031453Z
LAST-MODIFIED:20220615T031453Z
UID:126063-1656011100-1656011100@deetslive.com
SUMMARY:NY Yankees vs. Houston Astros at Yankee Stadium\, NY
DESCRIPTION:NY Yankees vs. Houston Astros \nYankee Stadium\, Bronx\, NY \nThursday\, June 23rd\, 7:05pm\nFriday\, June 24th\, 7:05pm\nSaturday\, June 25th\, 1:05pm\nSunday\, June\, 26th\, 1:35pm \nTicketmaster
URL:https://deetslive.com/event/ny-yankees-vs-houston-astros-at-yankee-stadium-ny/
LOCATION:Yankee Stadium\, 1 E 161 St\, Bronx\, New York\, 10451
CATEGORIES:New York/New Jersey,Sports
END:VEVENT
BEGIN:VEVENT
DTSTART;TZID=UTC:20220623T190500
DTEND;TZID=UTC:20220623T190500
DTSTAMP:20260420T122721
CREATED:20220615T031453Z
LAST-MODIFIED:20220615T031453Z
UID:126063-1656011100-1656011100@deetslive.com
SUMMARY:NY Yankees vs. Houston Astros at Yankee Stadium\, NY
DESCRIPTION:NY Yankees vs. Houston Astros \nYankee Stadium\, Bronx\, NY \nThursday\, June 23rd\, 7:05pm\nFriday\, June 24th\, 7:05pm\nSaturday\, June 25th\, 1:05pm\nSunday\, June\, 26th\, 1:35pm \nTicketmaster
URL:https://deetslive.com/event/ny-yankees-vs-houston-astros-at-yankee-stadium-ny/
LOCATION:Yankee Stadium\, 1 E 161 St\, Bronx\, New York\, 10451
CATEGORIES:New York/New Jersey,Sports
END:VEVENT
BEGIN:VEVENT
DTSTART;TZID=UTC:20220617T191000
DTEND;TZID=UTC:20220617T191000
DTSTAMP:20260420T122721
CREATED:20220614T230038Z
LAST-MODIFIED:20220614T230107Z
UID:126038-1655493000-1655493000@deetslive.com
SUMMARY:New York Mets vs. Miami Marlins at Citi Field\, NY
DESCRIPTION:New York Mets vs. Miami Marlins \nCiti Field\, Flushing\, New York \nTicketmaster \nFriday\, June 17th\, 7:10pm\nSaturday\, June 18th\, 4:10pm\nSunday\, June\, 19th\, 1:40pm\nMonday\, June 20th\, 1:10pm
URL:https://deetslive.com/event/126038/
LOCATION:Citi Field\, 41 Seaver Way\, Flushing\, New York\, 11368
CATEGORIES:New York/New Jersey,Sports
ATTACH;FMTTYPE=image/jpeg:https://deetslive.com/wp-content/uploads/2022/06/Screen-Shot-2022-06-14-at-4.00.03-PM.jpg
END:VEVENT
BEGIN:VEVENT
DTSTART;TZID=UTC:20220617T191000
DTEND;TZID=UTC:20220617T191000
DTSTAMP:20260420T122721
CREATED:20220614T230038Z
LAST-MODIFIED:20220614T230107Z
UID:126038-1655493000-1655493000@deetslive.com
SUMMARY:New York Mets vs. Miami Marlins at Citi Field\, NY
DESCRIPTION:New York Mets vs. Miami Marlins \nCiti Field\, Flushing\, New York \nTicketmaster \nFriday\, June 17th\, 7:10pm\nSaturday\, June 18th\, 4:10pm\nSunday\, June\, 19th\, 1:40pm\nMonday\, June 20th\, 1:10pm
URL:https://deetslive.com/event/126038/
LOCATION:Citi Field\, 41 Seaver Way\, Flushing\, New York\, 11368
CATEGORIES:New York/New Jersey,Sports
ATTACH;FMTTYPE=image/jpeg:https://deetslive.com/wp-content/uploads/2022/06/Screen-Shot-2022-06-14-at-4.00.03-PM.jpg
END:VEVENT
BEGIN:VEVENT
DTSTART;TZID=UTC:20220617T191000
DTEND;TZID=UTC:20220617T191000
DTSTAMP:20260420T122721
CREATED:20220614T230038Z
LAST-MODIFIED:20220614T230107Z
UID:126038-1655493000-1655493000@deetslive.com
SUMMARY:New York Mets vs. Miami Marlins at Citi Field\, NY
DESCRIPTION:New York Mets vs. Miami Marlins \nCiti Field\, Flushing\, New York \nTicketmaster \nFriday\, June 17th\, 7:10pm\nSaturday\, June 18th\, 4:10pm\nSunday\, June\, 19th\, 1:40pm\nMonday\, June 20th\, 1:10pm
URL:https://deetslive.com/event/126038/
LOCATION:Citi Field\, 41 Seaver Way\, Flushing\, New York\, 11368
CATEGORIES:New York/New Jersey,Sports
ATTACH;FMTTYPE=image/jpeg:https://deetslive.com/wp-content/uploads/2022/06/Screen-Shot-2022-06-14-at-4.00.03-PM.jpg
END:VEVENT
BEGIN:VEVENT
DTSTART;TZID=UTC:20220617T191000
DTEND;TZID=UTC:20220617T191000
DTSTAMP:20260420T122721
CREATED:20220614T230038Z
LAST-MODIFIED:20220614T230107Z
UID:126038-1655493000-1655493000@deetslive.com
SUMMARY:New York Mets vs. Miami Marlins at Citi Field\, NY
DESCRIPTION:New York Mets vs. Miami Marlins \nCiti Field\, Flushing\, New York \nTicketmaster \nFriday\, June 17th\, 7:10pm\nSaturday\, June 18th\, 4:10pm\nSunday\, June\, 19th\, 1:40pm\nMonday\, June 20th\, 1:10pm
URL:https://deetslive.com/event/126038/
LOCATION:Citi Field\, 41 Seaver Way\, Flushing\, New York\, 11368
CATEGORIES:New York/New Jersey,Sports
ATTACH;FMTTYPE=image/jpeg:https://deetslive.com/wp-content/uploads/2022/06/Screen-Shot-2022-06-14-at-4.00.03-PM.jpg
END:VEVENT
BEGIN:VEVENT
DTSTART;TZID=UTC:20220615T191000
DTEND;TZID=UTC:20220615T191000
DTSTAMP:20260420T122721
CREATED:20220614T221853Z
LAST-MODIFIED:20220614T221853Z
UID:126033-1655320200-1655320200@deetslive.com
SUMMARY:NY Mets vs. Milwaukee Brewers at Citi Field\, NY
DESCRIPTION:New York Mets vs. Milwaukee Brewers \nCiti Field\, Flushing\, New York \nTicketmaster \nTuesday\, June 14th\, 7:10pm\nWednesday\, June 15th\, 7:10pm\nThursday\, June 16th\, 7:10pm
URL:https://deetslive.com/event/ny-mets-vs-milwaukee-brewers-at-citi-field-ny/
LOCATION:Citi Field\, 41 Seaver Way\, Flushing\, New York\, 11368
CATEGORIES:New York/New Jersey,Sports
ATTACH;FMTTYPE=image/jpeg:https://deetslive.com/wp-content/uploads/2022/06/Screen-Shot-2022-06-14-at-3.13.45-PM.jpg
END:VEVENT
BEGIN:VEVENT
DTSTART;TZID=UTC:20220615T191000
DTEND;TZID=UTC:20220615T191000
DTSTAMP:20260420T122721
CREATED:20220614T221853Z
LAST-MODIFIED:20220614T221853Z
UID:126033-1655320200-1655320200@deetslive.com
SUMMARY:NY Mets vs. Milwaukee Brewers at Citi Field\, NY
DESCRIPTION:New York Mets vs. Milwaukee Brewers \nCiti Field\, Flushing\, New York \nTicketmaster \nTuesday\, June 14th\, 7:10pm\nWednesday\, June 15th\, 7:10pm\nThursday\, June 16th\, 7:10pm
URL:https://deetslive.com/event/ny-mets-vs-milwaukee-brewers-at-citi-field-ny/
LOCATION:Citi Field\, 41 Seaver Way\, Flushing\, New York\, 11368
CATEGORIES:New York/New Jersey,Sports
ATTACH;FMTTYPE=image/jpeg:https://deetslive.com/wp-content/uploads/2022/06/Screen-Shot-2022-06-14-at-3.13.45-PM.jpg
END:VEVENT
BEGIN:VEVENT
DTSTART;TZID=UTC:20220614T190500
DTEND;TZID=UTC:20220614T190500
DTSTAMP:20260420T122721
CREATED:20220615T025706Z
LAST-MODIFIED:20220615T025706Z
UID:126058-1655233500-1655233500@deetslive.com
SUMMARY:NY Yankees vs. Tampa Bay Rays at Yankee Stadium\, NY
DESCRIPTION:NY Yankees vs. Tampa Bay Rays \nYankee Stadium\, Bronx\, NY \nTuesday\, June 14th\, 7:05pm\nWednesday\, June 15th\, 7:05pm\nThursday\, June 16th\, 7:05pm \nTicketmaster
URL:https://deetslive.com/event/ny-yankees-vs-tampa-bay-rays-at-yankee-stadium-ny/
LOCATION:Yankee Stadium\, 1 E 161 St\, Bronx\, New York\, 10451
CATEGORIES:New York/New Jersey,Sports
ATTACH;FMTTYPE=image/jpeg:https://deetslive.com/wp-content/uploads/2022/06/Screen-Shot-2022-06-14-at-7.54.44-PM.jpg
END:VEVENT
BEGIN:VEVENT
DTSTART;TZID=UTC:20220615T191000
DTEND;TZID=UTC:20220615T191000
DTSTAMP:20260420T122721
CREATED:20220614T221853Z
LAST-MODIFIED:20220614T221853Z
UID:126033-1655320200-1655320200@deetslive.com
SUMMARY:NY Mets vs. Milwaukee Brewers at Citi Field\, NY
DESCRIPTION:New York Mets vs. Milwaukee Brewers \nCiti Field\, Flushing\, New York \nTicketmaster \nTuesday\, June 14th\, 7:10pm\nWednesday\, June 15th\, 7:10pm\nThursday\, June 16th\, 7:10pm
URL:https://deetslive.com/event/ny-mets-vs-milwaukee-brewers-at-citi-field-ny/
LOCATION:Citi Field\, 41 Seaver Way\, Flushing\, New York\, 11368
CATEGORIES:New York/New Jersey,Sports
ATTACH;FMTTYPE=image/jpeg:https://deetslive.com/wp-content/uploads/2022/06/Screen-Shot-2022-06-14-at-3.13.45-PM.jpg
END:VEVENT
BEGIN:VEVENT
DTSTART;TZID=UTC:20220614T190500
DTEND;TZID=UTC:20220614T190500
DTSTAMP:20260420T122721
CREATED:20220615T025706Z
LAST-MODIFIED:20220615T025706Z
UID:126058-1655233500-1655233500@deetslive.com
SUMMARY:NY Yankees vs. Tampa Bay Rays at Yankee Stadium\, NY
DESCRIPTION:NY Yankees vs. Tampa Bay Rays \nYankee Stadium\, Bronx\, NY \nTuesday\, June 14th\, 7:05pm\nWednesday\, June 15th\, 7:05pm\nThursday\, June 16th\, 7:05pm \nTicketmaster
URL:https://deetslive.com/event/ny-yankees-vs-tampa-bay-rays-at-yankee-stadium-ny/
LOCATION:Yankee Stadium\, 1 E 161 St\, Bronx\, New York\, 10451
CATEGORIES:New York/New Jersey,Sports
ATTACH;FMTTYPE=image/jpeg:https://deetslive.com/wp-content/uploads/2022/06/Screen-Shot-2022-06-14-at-7.54.44-PM.jpg
END:VEVENT
BEGIN:VEVENT
DTSTART;TZID=UTC:20220614T190000
DTEND;TZID=UTC:20220614T190000
DTSTAMP:20260420T122721
CREATED:20220605T203337Z
LAST-MODIFIED:20220605T203337Z
UID:125931-1655233200-1655233200@deetslive.com
SUMMARY:Los Angeles Dodgers vs. Los Angeles Angeles at Dodger Stadium\, LA
DESCRIPTION:The Battle for Los Angeles is ON!!! \nLA Dodgers vs. LA Angels \nDodger Stadium\, Los Angeles \nTicketmaster \nStubHub
URL:https://deetslive.com/event/los-angeles-dodgers-vs-los-angeles-angeles-at-dodger-stadium-la/
LOCATION:Dodger Stadium\, 1000 Vin Scully Ave.\, Los Angeles\, CA\, 90012
CATEGORIES:New York/New Jersey,Sports
ATTACH;FMTTYPE=image/jpeg:https://deetslive.com/wp-content/uploads/2022/06/Screen-Shot-2022-06-05-at-1.22.12-PM.jpg
END:VEVENT
BEGIN:VEVENT
DTSTART;TZID=UTC:20220614T190500
DTEND;TZID=UTC:20220614T190500
DTSTAMP:20260420T122721
CREATED:20220615T025706Z
LAST-MODIFIED:20220615T025706Z
UID:126058-1655233500-1655233500@deetslive.com
SUMMARY:NY Yankees vs. Tampa Bay Rays at Yankee Stadium\, NY
DESCRIPTION:NY Yankees vs. Tampa Bay Rays \nYankee Stadium\, Bronx\, NY \nTuesday\, June 14th\, 7:05pm\nWednesday\, June 15th\, 7:05pm\nThursday\, June 16th\, 7:05pm \nTicketmaster
URL:https://deetslive.com/event/ny-yankees-vs-tampa-bay-rays-at-yankee-stadium-ny/
LOCATION:Yankee Stadium\, 1 E 161 St\, Bronx\, New York\, 10451
CATEGORIES:New York/New Jersey,Sports
ATTACH;FMTTYPE=image/jpeg:https://deetslive.com/wp-content/uploads/2022/06/Screen-Shot-2022-06-14-at-7.54.44-PM.jpg
END:VEVENT
BEGIN:VEVENT
DTSTART;TZID=UTC:20220614T190000
DTEND;TZID=UTC:20220614T190000
DTSTAMP:20260420T122721
CREATED:20220605T203337Z
LAST-MODIFIED:20220605T203337Z
UID:125931-1655233200-1655233200@deetslive.com
SUMMARY:Los Angeles Dodgers vs. Los Angeles Angeles at Dodger Stadium\, LA
DESCRIPTION:The Battle for Los Angeles is ON!!! \nLA Dodgers vs. LA Angels \nDodger Stadium\, Los Angeles \nTicketmaster \nStubHub
URL:https://deetslive.com/event/los-angeles-dodgers-vs-los-angeles-angeles-at-dodger-stadium-la/
LOCATION:Dodger Stadium\, 1000 Vin Scully Ave.\, Los Angeles\, CA\, 90012
CATEGORIES:New York/New Jersey,Sports
ATTACH;FMTTYPE=image/jpeg:https://deetslive.com/wp-content/uploads/2022/06/Screen-Shot-2022-06-05-at-1.22.12-PM.jpg
END:VEVENT
BEGIN:VEVENT
DTSTART;TZID=UTC:20220610T190500
DTEND;TZID=UTC:20220610T190500
DTSTAMP:20260420T122721
CREATED:20220606T172750Z
LAST-MODIFIED:20220606T172750Z
UID:125943-1654887900-1654887900@deetslive.com
SUMMARY:New York Yankees vs. Chicago Cubs at Yankee Stadium\, NY
DESCRIPTION:Interleague Play is BAAAACKK!! \nNY Yankees vs. Chicago Cubs \nYankee Stadium\, NY \nFriday\, June 10th\, 7:05pm\nSaturday\, June 11th\, 7:15pm\nSunday\, June 12th\, 1:35pm \nTicketmaster \n 
URL:https://deetslive.com/event/new-york-yankees-vs-chicago-cubs-at-yankee-stadium-ny/
LOCATION:Yankee Stadium\, 1 E 161 St\, Bronx\, New York\, 10451
CATEGORIES:New York/New Jersey,Sports
ATTACH;FMTTYPE=image/jpeg:https://deetslive.com/wp-content/uploads/2022/06/Screen-Shot-2022-06-06-at-10.02.53-AM.jpg
END:VEVENT
BEGIN:VEVENT
DTSTART;TZID=UTC:20220611T183000
DTEND;TZID=UTC:20220611T183000
DTSTAMP:20260420T122721
CREATED:20220605T195955Z
LAST-MODIFIED:20220605T202400Z
UID:125912-1654972200-1654972200@deetslive.com
SUMMARY:Los Angeles Angels vs. New York Mets at Angel Stadium of Anaheim
DESCRIPTION:LA Angels vs. NY Mets \nAngel Stadium of Anaheim \nFriday\, June 10th\, 6:38pm\nSaturday\, June 11th\, 7:07pm\nSunday\, June 12th\, 1:07pm \nTicketmaster \nStubHub
URL:https://deetslive.com/event/los-angeles-angels-vs-new-york-mets-at-angel-stadium-of-anaheim/
LOCATION:Angel Stadium of Anaheim\, 2000 E. Gene Autry Way\, Anaheim\, Ca.\, 92806
CATEGORIES:Los Angeles,Sports
ATTACH;FMTTYPE=image/jpeg:https://deetslive.com/wp-content/uploads/2022/06/Screen-Shot-2022-06-05-at-12.35.16-PM.jpg
END:VEVENT
BEGIN:VEVENT
DTSTART;TZID=UTC:20220610T050000
DTEND;TZID=UTC:20220611T045959
DTSTAMP:20260420T122721
CREATED:20220605T222124Z
LAST-MODIFIED:20220605T222203Z
UID:125935-1654837200-1654923599@deetslive.com
SUMMARY:The Governors Ball 2022: J. Cole\, Halsey\, Kid Cudi & More at Citi Field\, New York
DESCRIPTION:The Governors Ball \nFriday\, June 10th\, 12pm start\nSaturday\, June 11th\, 12pm start\nSunday. June 13t\, 12pm start \nCiti Field\, Flushing\, NY. \nOver 50 artists on multiple stages!! For a full list of sets & times\, click here. \nTicketmaster \nStubHub
URL:https://deetslive.com/event/the-governors-ball-2022-j-cole-halsey-kid-cudi-more-at-citi-field-new-york/
LOCATION:Citi Field\, 41 Seaver Way\, Flushing\, New York\, 11368
CATEGORIES:New York/New Jersey,Sports
ATTACH;FMTTYPE=image/jpeg:https://deetslive.com/wp-content/uploads/2022/06/Screen-Shot-2022-06-05-at-2.14.06-PM.jpg
END:VEVENT
BEGIN:VEVENT
DTSTART;TZID=UTC:20220610T190500
DTEND;TZID=UTC:20220610T190500
DTSTAMP:20260420T122721
CREATED:20220606T172750Z
LAST-MODIFIED:20220606T172750Z
UID:125943-1654887900-1654887900@deetslive.com
SUMMARY:New York Yankees vs. Chicago Cubs at Yankee Stadium\, NY
DESCRIPTION:Interleague Play is BAAAACKK!! \nNY Yankees vs. Chicago Cubs \nYankee Stadium\, NY \nFriday\, June 10th\, 7:05pm\nSaturday\, June 11th\, 7:15pm\nSunday\, June 12th\, 1:35pm \nTicketmaster \n 
URL:https://deetslive.com/event/new-york-yankees-vs-chicago-cubs-at-yankee-stadium-ny/
LOCATION:Yankee Stadium\, 1 E 161 St\, Bronx\, New York\, 10451
CATEGORIES:New York/New Jersey,Sports
ATTACH;FMTTYPE=image/jpeg:https://deetslive.com/wp-content/uploads/2022/06/Screen-Shot-2022-06-06-at-10.02.53-AM.jpg
END:VEVENT
BEGIN:VEVENT
DTSTART;TZID=UTC:20220611T183000
DTEND;TZID=UTC:20220611T183000
DTSTAMP:20260420T122721
CREATED:20220605T195955Z
LAST-MODIFIED:20220605T202400Z
UID:125912-1654972200-1654972200@deetslive.com
SUMMARY:Los Angeles Angels vs. New York Mets at Angel Stadium of Anaheim
DESCRIPTION:LA Angels vs. NY Mets \nAngel Stadium of Anaheim \nFriday\, June 10th\, 6:38pm\nSaturday\, June 11th\, 7:07pm\nSunday\, June 12th\, 1:07pm \nTicketmaster \nStubHub
URL:https://deetslive.com/event/los-angeles-angels-vs-new-york-mets-at-angel-stadium-of-anaheim/
LOCATION:Angel Stadium of Anaheim\, 2000 E. Gene Autry Way\, Anaheim\, Ca.\, 92806
CATEGORIES:Los Angeles,Sports
ATTACH;FMTTYPE=image/jpeg:https://deetslive.com/wp-content/uploads/2022/06/Screen-Shot-2022-06-05-at-12.35.16-PM.jpg
END:VEVENT
BEGIN:VEVENT
DTSTART;TZID=UTC:20220611T183000
DTEND;TZID=UTC:20220611T183000
DTSTAMP:20260420T122721
CREATED:20220605T195955Z
LAST-MODIFIED:20220605T202400Z
UID:125912-1654972200-1654972200@deetslive.com
SUMMARY:Los Angeles Angels vs. New York Mets at Angel Stadium of Anaheim
DESCRIPTION:LA Angels vs. NY Mets \nAngel Stadium of Anaheim \nFriday\, June 10th\, 6:38pm\nSaturday\, June 11th\, 7:07pm\nSunday\, June 12th\, 1:07pm \nTicketmaster \nStubHub
URL:https://deetslive.com/event/los-angeles-angels-vs-new-york-mets-at-angel-stadium-of-anaheim/
LOCATION:Angel Stadium of Anaheim\, 2000 E. Gene Autry Way\, Anaheim\, Ca.\, 92806
CATEGORIES:Los Angeles,Sports
ATTACH;FMTTYPE=image/jpeg:https://deetslive.com/wp-content/uploads/2022/06/Screen-Shot-2022-06-05-at-12.35.16-PM.jpg
END:VEVENT
BEGIN:VEVENT
DTSTART;TZID=UTC:20220610T050000
DTEND;TZID=UTC:20220611T045959
DTSTAMP:20260420T122721
CREATED:20220605T222124Z
LAST-MODIFIED:20220605T222203Z
UID:125935-1654837200-1654923599@deetslive.com
SUMMARY:The Governors Ball 2022: J. Cole\, Halsey\, Kid Cudi & More at Citi Field\, New York
DESCRIPTION:The Governors Ball \nFriday\, June 10th\, 12pm start\nSaturday\, June 11th\, 12pm start\nSunday. June 13t\, 12pm start \nCiti Field\, Flushing\, NY. \nOver 50 artists on multiple stages!! For a full list of sets & times\, click here. \nTicketmaster \nStubHub
URL:https://deetslive.com/event/the-governors-ball-2022-j-cole-halsey-kid-cudi-more-at-citi-field-new-york/
LOCATION:Citi Field\, 41 Seaver Way\, Flushing\, New York\, 11368
CATEGORIES:New York/New Jersey,Sports
ATTACH;FMTTYPE=image/jpeg:https://deetslive.com/wp-content/uploads/2022/06/Screen-Shot-2022-06-05-at-2.14.06-PM.jpg
END:VEVENT
BEGIN:VEVENT
DTSTART;TZID=UTC:20220610T190500
DTEND;TZID=UTC:20220610T190500
DTSTAMP:20260420T122721
CREATED:20220606T172750Z
LAST-MODIFIED:20220606T172750Z
UID:125943-1654887900-1654887900@deetslive.com
SUMMARY:New York Yankees vs. Chicago Cubs at Yankee Stadium\, NY
DESCRIPTION:Interleague Play is BAAAACKK!! \nNY Yankees vs. Chicago Cubs \nYankee Stadium\, NY \nFriday\, June 10th\, 7:05pm\nSaturday\, June 11th\, 7:15pm\nSunday\, June 12th\, 1:35pm \nTicketmaster \n 
URL:https://deetslive.com/event/new-york-yankees-vs-chicago-cubs-at-yankee-stadium-ny/
LOCATION:Yankee Stadium\, 1 E 161 St\, Bronx\, New York\, 10451
CATEGORIES:New York/New Jersey,Sports
ATTACH;FMTTYPE=image/jpeg:https://deetslive.com/wp-content/uploads/2022/06/Screen-Shot-2022-06-06-at-10.02.53-AM.jpg
END:VEVENT
BEGIN:VEVENT
DTSTART;TZID=UTC:20220610T050000
DTEND;TZID=UTC:20220611T045959
DTSTAMP:20260420T122721
CREATED:20220605T222124Z
LAST-MODIFIED:20220605T222203Z
UID:125935-1654837200-1654923599@deetslive.com
SUMMARY:The Governors Ball 2022: J. Cole\, Halsey\, Kid Cudi & More at Citi Field\, New York
DESCRIPTION:The Governors Ball \nFriday\, June 10th\, 12pm start\nSaturday\, June 11th\, 12pm start\nSunday. June 13t\, 12pm start \nCiti Field\, Flushing\, NY. \nOver 50 artists on multiple stages!! For a full list of sets & times\, click here. \nTicketmaster \nStubHub
URL:https://deetslive.com/event/the-governors-ball-2022-j-cole-halsey-kid-cudi-more-at-citi-field-new-york/
LOCATION:Citi Field\, 41 Seaver Way\, Flushing\, New York\, 11368
CATEGORIES:New York/New Jersey,Sports
ATTACH;FMTTYPE=image/jpeg:https://deetslive.com/wp-content/uploads/2022/06/Screen-Shot-2022-06-05-at-2.14.06-PM.jpg
END:VEVENT
BEGIN:VEVENT
DTSTART;TZID=UTC:20220606T183800
DTEND;TZID=UTC:20220606T183800
DTSTAMP:20260420T122721
CREATED:20220605T202027Z
LAST-MODIFIED:20220607T002535Z
UID:125922-1654540680-1654540680@deetslive.com
SUMMARY:Los Angeles Angels vs. Boston Red Sox at Angel Stadium of Anaheim
DESCRIPTION:LA Angels vs. Boston Red Sox \nAngel Stadium of Anaheim \nMonday\, June 6th\, 6:38pm\nTuesday\, June 7th\, 6:38pm\nWednesday\, June 8th\, 6:38pm\nThursday\, June 9th\, 6:38pm \nTicketmaster \nStubHub
URL:https://deetslive.com/event/los-angeles-angels-vs-boston-red-sox-at-angel-stadium-of-anaheim/
LOCATION:Angel Stadium of Anaheim\, 2000 E. Gene Autry Way\, Anaheim\, Ca.\, 92806
CATEGORIES:Los Angeles,Sports
ATTACH;FMTTYPE=image/jpeg:https://deetslive.com/wp-content/uploads/2022/06/Screen-Shot-2022-06-06-at-5.24.51-PM.jpg
END:VEVENT
BEGIN:VEVENT
DTSTART;TZID=UTC:20220606T183800
DTEND;TZID=UTC:20220606T183800
DTSTAMP:20260420T122721
CREATED:20220605T202027Z
LAST-MODIFIED:20220607T002535Z
UID:125922-1654540680-1654540680@deetslive.com
SUMMARY:Los Angeles Angels vs. Boston Red Sox at Angel Stadium of Anaheim
DESCRIPTION:LA Angels vs. Boston Red Sox \nAngel Stadium of Anaheim \nMonday\, June 6th\, 6:38pm\nTuesday\, June 7th\, 6:38pm\nWednesday\, June 8th\, 6:38pm\nThursday\, June 9th\, 6:38pm \nTicketmaster \nStubHub
URL:https://deetslive.com/event/los-angeles-angels-vs-boston-red-sox-at-angel-stadium-of-anaheim/
LOCATION:Angel Stadium of Anaheim\, 2000 E. Gene Autry Way\, Anaheim\, Ca.\, 92806
CATEGORIES:Los Angeles,Sports
ATTACH;FMTTYPE=image/jpeg:https://deetslive.com/wp-content/uploads/2022/06/Screen-Shot-2022-06-06-at-5.24.51-PM.jpg
END:VEVENT
BEGIN:VEVENT
DTSTART;TZID=UTC:20220606T183800
DTEND;TZID=UTC:20220606T183800
DTSTAMP:20260420T122721
CREATED:20220605T202027Z
LAST-MODIFIED:20220607T002535Z
UID:125922-1654540680-1654540680@deetslive.com
SUMMARY:Los Angeles Angels vs. Boston Red Sox at Angel Stadium of Anaheim
DESCRIPTION:LA Angels vs. Boston Red Sox \nAngel Stadium of Anaheim \nMonday\, June 6th\, 6:38pm\nTuesday\, June 7th\, 6:38pm\nWednesday\, June 8th\, 6:38pm\nThursday\, June 9th\, 6:38pm \nTicketmaster \nStubHub
URL:https://deetslive.com/event/los-angeles-angels-vs-boston-red-sox-at-angel-stadium-of-anaheim/
LOCATION:Angel Stadium of Anaheim\, 2000 E. Gene Autry Way\, Anaheim\, Ca.\, 92806
CATEGORIES:Los Angeles,Sports
ATTACH;FMTTYPE=image/jpeg:https://deetslive.com/wp-content/uploads/2022/06/Screen-Shot-2022-06-06-at-5.24.51-PM.jpg
END:VEVENT
BEGIN:VEVENT
DTSTART;TZID=UTC:20220606T183800
DTEND;TZID=UTC:20220606T183800
DTSTAMP:20260420T122721
CREATED:20220605T202027Z
LAST-MODIFIED:20220607T002535Z
UID:125922-1654540680-1654540680@deetslive.com
SUMMARY:Los Angeles Angels vs. Boston Red Sox at Angel Stadium of Anaheim
DESCRIPTION:LA Angels vs. Boston Red Sox \nAngel Stadium of Anaheim \nMonday\, June 6th\, 6:38pm\nTuesday\, June 7th\, 6:38pm\nWednesday\, June 8th\, 6:38pm\nThursday\, June 9th\, 6:38pm \nTicketmaster \nStubHub
URL:https://deetslive.com/event/los-angeles-angels-vs-boston-red-sox-at-angel-stadium-of-anaheim/
LOCATION:Angel Stadium of Anaheim\, 2000 E. Gene Autry Way\, Anaheim\, Ca.\, 92806
CATEGORIES:Los Angeles,Sports
ATTACH;FMTTYPE=image/jpeg:https://deetslive.com/wp-content/uploads/2022/06/Screen-Shot-2022-06-06-at-5.24.51-PM.jpg
END:VEVENT
END:VCALENDAR