BEGIN:VCALENDAR
VERSION:2.0
PRODID:-//Daily Deets - ECPv6.15.20//NONSGML v1.0//EN
CALSCALE:GREGORIAN
METHOD:PUBLISH
X-WR-CALNAME:Daily Deets
X-ORIGINAL-URL:https://deetslive.com
X-WR-CALDESC:Events for Daily Deets
REFRESH-INTERVAL;VALUE=DURATION:PT1H
X-Robots-Tag:noindex
X-PUBLISHED-TTL:PT1H
BEGIN:VTIMEZONE
TZID:America/Los_Angeles
BEGIN:DAYLIGHT
TZOFFSETFROM:-0800
TZOFFSETTO:-0700
TZNAME:PDT
DTSTART:20210314T100000
END:DAYLIGHT
BEGIN:STANDARD
TZOFFSETFROM:-0700
TZOFFSETTO:-0800
TZNAME:PST
DTSTART:20211107T090000
END:STANDARD
BEGIN:DAYLIGHT
TZOFFSETFROM:-0800
TZOFFSETTO:-0700
TZNAME:PDT
DTSTART:20220313T100000
END:DAYLIGHT
BEGIN:STANDARD
TZOFFSETFROM:-0700
TZOFFSETTO:-0800
TZNAME:PST
DTSTART:20221106T090000
END:STANDARD
BEGIN:DAYLIGHT
TZOFFSETFROM:-0800
TZOFFSETTO:-0700
TZNAME:PDT
DTSTART:20230312T100000
END:DAYLIGHT
BEGIN:STANDARD
TZOFFSETFROM:-0700
TZOFFSETTO:-0800
TZNAME:PST
DTSTART:20231105T090000
END:STANDARD
END:VTIMEZONE
BEGIN:VTIMEZONE
TZID:UTC
BEGIN:STANDARD
TZOFFSETFROM:+0000
TZOFFSETTO:+0000
TZNAME:UTC
DTSTART:20210101T000000
END:STANDARD
END:VTIMEZONE
BEGIN:VTIMEZONE
TZID:America/New_York
BEGIN:DAYLIGHT
TZOFFSETFROM:-0500
TZOFFSETTO:-0400
TZNAME:EDT
DTSTART:20210314T070000
END:DAYLIGHT
BEGIN:STANDARD
TZOFFSETFROM:-0400
TZOFFSETTO:-0500
TZNAME:EST
DTSTART:20211107T060000
END:STANDARD
BEGIN:DAYLIGHT
TZOFFSETFROM:-0500
TZOFFSETTO:-0400
TZNAME:EDT
DTSTART:20220313T070000
END:DAYLIGHT
BEGIN:STANDARD
TZOFFSETFROM:-0400
TZOFFSETTO:-0500
TZNAME:EST
DTSTART:20221106T060000
END:STANDARD
BEGIN:DAYLIGHT
TZOFFSETFROM:-0500
TZOFFSETTO:-0400
TZNAME:EDT
DTSTART:20230312T070000
END:DAYLIGHT
BEGIN:STANDARD
TZOFFSETFROM:-0400
TZOFFSETTO:-0500
TZNAME:EST
DTSTART:20231105T060000
END:STANDARD
END:VTIMEZONE
BEGIN:VEVENT
DTSTART;TZID=America/Los_Angeles:20221024T100000
DTEND;TZID=America/Los_Angeles:20221024T100000
DTSTAMP:20260420T021605
CREATED:20221021T033842Z
LAST-MODIFIED:20221114T203024Z
UID:129399-1666605600-1666605600@deetslive.com
SUMMARY:Harry Styles Love On Tour at Kia Forum\, Los Angeles
DESCRIPTION:Harry’s House hits Los Angeles for 15 shows!!! Harry’s set list varies from show to show\, so see him more than once for Harry! \nSunday\, Oct. 23rd\, 8pm\nMonday\, Oct. 24th\, 8pm\nWednesday\, Oct. 26th\, 8pm\nFriday\, Oct. 28th\, 8pm\nSaturday\, Oct. 29th\, 8pm\nMonday – Halloween!!! – Oct. 31st\, 8pm \nWednesday\, Nov. 2nd\, 8pm\nFriday\, Nov. 4th\, 8pm\nSaturday\, Nov. 5th\, 8pm\nMonday\, Nov. 9th\, 8pm\nFriday\, Nov. 11th\, 8pm\nSaturday\, Nov. 12th\, 8pm\nMonday\, Nov. 14th\, 8pm\nTuesday\, Nov. 15th\, 8pm \nTicketmaster \nStubHub
URL:https://deetslive.com/event/harry-styles-love-on-tour-at-kia-forum-los-angeles/
LOCATION:Kia Forum\, 3900 W Manchester Blvd.\, Inglewood\, CA\, 90305
CATEGORIES:Los Angeles,Music
ATTACH;FMTTYPE=image/jpeg:https://deetslive.com/wp-content/uploads/2022/10/Screen-Shot-2022-10-20-at-8.42.47-PM-1.jpg
END:VEVENT
BEGIN:VEVENT
DTSTART;TZID=America/Los_Angeles:20221023T190000
DTEND;TZID=America/Los_Angeles:20221023T190000
DTSTAMP:20260420T021606
CREATED:20221022T043213Z
LAST-MODIFIED:20221022T043213Z
UID:129422-1666551600-1666551600@deetslive.com
SUMMARY:LA Clippers vs. Phoenix Suns at Crypto.com Arena\, LA - Clippers Home Opener!
DESCRIPTION:LA Clippers vs. Phoenix Suns \nCrypto.com Arena\, Los Angeles \nSunday\, Oct. 23rd\, 7pm \nTicketmaster \nStubHub
URL:https://deetslive.com/event/la-clippers-vs-phoenix-suns-at-crypto-com-arena-la-clippers-home-opener/
LOCATION:Crypto.com Arena\, 1111 S. Figueroa St.\, Los Angeles\, Ca.\, 90015
CATEGORIES:Los Angeles,Sports
ATTACH;FMTTYPE=image/jpeg:https://deetslive.com/wp-content/uploads/2022/10/Screen-Shot-2022-10-12-at-7.27.34-PM.jpg
END:VEVENT
BEGIN:VEVENT
DTSTART;TZID=America/Los_Angeles:20221023T190000
DTEND;TZID=America/Los_Angeles:20221023T190000
DTSTAMP:20260420T021606
CREATED:20221011T211056Z
LAST-MODIFIED:20221013T022810Z
UID:129298-1666551600-1666551600@deetslive.com
SUMMARY:LA Clippers vs. Phoenix Suns at Crypto.com Arena\, Los Angeles
DESCRIPTION:LA Clippers vs. Phoenix Suns \nCrypto.com Arena\, Los Angeles \nSunday\, Oct. 23rd\, 7pm \nTicketmaster \nStubHub \n 
URL:https://deetslive.com/event/la-clippers-vs-phoenix-suns-at-crypto-com-arena-los-angeles/
LOCATION:Crypto.com Arena\, 1111 S. Figueroa St.\, Los Angeles\, Ca.\, 90015
CATEGORIES:Los Angeles,Sports
ATTACH;FMTTYPE=image/jpeg:https://deetslive.com/wp-content/uploads/2022/10/Screen-Shot-2022-10-12-at-7.27.34-PM.jpg
END:VEVENT
BEGIN:VEVENT
DTSTART;TZID=America/Los_Angeles:20221023T130500
DTEND;TZID=America/Los_Angeles:20221023T130500
DTSTAMP:20260420T021606
CREATED:20221013T041106Z
LAST-MODIFIED:20221013T041129Z
UID:129354-1666530300-1666530300@deetslive.com
SUMMARY:Las Vegas Raiders vs. Houston Texans at Allegiant Stadium\, Las Vegas
DESCRIPTION:Las Vegas Raiders vs. Houston Texans \nAllegiant Stadium\, Las Vegas \nSunday. Oct. 23rd\, 1:05pm \nTicketmaster \nStubHub
URL:https://deetslive.com/event/las-vegas-raiders-vs-houston-texans/
LOCATION:Allegiant Stadium\, 3333 Al Davis Way\, Las Vegas\, Nevada\, 89118
CATEGORIES:Las Vegas,Sports
END:VEVENT
BEGIN:VEVENT
DTSTART;TZID=America/Los_Angeles:20221014T210000
DTEND;TZID=America/Los_Angeles:20221014T210000
DTSTAMP:20260420T021606
CREATED:20221013T184755Z
LAST-MODIFIED:20221013T185129Z
UID:129370-1665781200-1665781200@deetslive.com
SUMMARY:Usher: My Way - The Vegas Residency at Dolby Live\, Park MGM\, Las Vegas
DESCRIPTION:Usher \nOctober:\nAll Shows\, 9pm \nFriday\, 14th\nSaturday\, 15th\nWednesday\, 19th\nFriday\, 21st\nSaturday\, 22nd\nWednesday\, 26th\nFriday\, 28th\nSaturday\, 29th \nTicketmaster
URL:https://deetslive.com/event/usher-my-way-the-vegas-residency-at-dolby-live-park-mgm-las-vegas-2/
LOCATION:Dolby Live at Park MGM\, 3770 S Las Vegas Blvd.\, Las Vegas\, NV\, 89109
CATEGORIES:Las Vegas,Music
ATTACH;FMTTYPE=image/jpeg:https://deetslive.com/wp-content/uploads/2022/10/Screen-Shot-2022-10-13-at-11.41.08-AM.jpg
END:VEVENT
BEGIN:VEVENT
DTSTART;TZID=America/Los_Angeles:20221020T030000
DTEND;TZID=America/Los_Angeles:20221020T030000
DTSTAMP:20260420T021606
CREATED:20221013T195704Z
LAST-MODIFIED:20221013T195827Z
UID:129378-1666234800-1666234800@deetslive.com
SUMMARY:The B-52's Farewell Tour at The Venetian\, Las Vegas
DESCRIPTION:The B-52’s Farewell Tour \nThe Venetian\, Las Vegas \nWednesday\, Oct. 19th\, 8pm\nFriday\, Oct. 21st\, 8pm\nSaturday\, Oct. 22nd\, 8pm \nTicketmaster \nStubHub
URL:https://deetslive.com/event/the-b-52s-farewell-tour-at-the-venetian-las-vegas/
LOCATION:The Venetian Theatre at the Venetian Las Vegas\, 3355 S Las Vegas Blvd\, Las Vegas\, NV\, 89109
CATEGORIES:Las Vegas
ATTACH;FMTTYPE=image/jpeg:https://deetslive.com/wp-content/uploads/2022/10/Screen-Shot-2022-10-10-at-5.59.33-PM.jpg
END:VEVENT
BEGIN:VEVENT
DTSTART;TZID=America/Los_Angeles:20221014T210000
DTEND;TZID=America/Los_Angeles:20221014T210000
DTSTAMP:20260420T021606
CREATED:20221013T184755Z
LAST-MODIFIED:20221013T185129Z
UID:129370-1665781200-1665781200@deetslive.com
SUMMARY:Usher: My Way - The Vegas Residency at Dolby Live\, Park MGM\, Las Vegas
DESCRIPTION:Usher \nOctober:\nAll Shows\, 9pm \nFriday\, 14th\nSaturday\, 15th\nWednesday\, 19th\nFriday\, 21st\nSaturday\, 22nd\nWednesday\, 26th\nFriday\, 28th\nSaturday\, 29th \nTicketmaster
URL:https://deetslive.com/event/usher-my-way-the-vegas-residency-at-dolby-live-park-mgm-las-vegas-2/
LOCATION:Dolby Live at Park MGM\, 3770 S Las Vegas Blvd.\, Las Vegas\, NV\, 89109
CATEGORIES:Las Vegas,Music
ATTACH;FMTTYPE=image/jpeg:https://deetslive.com/wp-content/uploads/2022/10/Screen-Shot-2022-10-13-at-11.41.08-AM.jpg
END:VEVENT
BEGIN:VEVENT
DTSTART;TZID=America/Los_Angeles:20221020T030000
DTEND;TZID=America/Los_Angeles:20221020T030000
DTSTAMP:20260420T021606
CREATED:20221013T195704Z
LAST-MODIFIED:20221013T195827Z
UID:129378-1666234800-1666234800@deetslive.com
SUMMARY:The B-52's Farewell Tour at The Venetian\, Las Vegas
DESCRIPTION:The B-52’s Farewell Tour \nThe Venetian\, Las Vegas \nWednesday\, Oct. 19th\, 8pm\nFriday\, Oct. 21st\, 8pm\nSaturday\, Oct. 22nd\, 8pm \nTicketmaster \nStubHub
URL:https://deetslive.com/event/the-b-52s-farewell-tour-at-the-venetian-las-vegas/
LOCATION:The Venetian Theatre at the Venetian Las Vegas\, 3355 S Las Vegas Blvd\, Las Vegas\, NV\, 89109
CATEGORIES:Las Vegas
ATTACH;FMTTYPE=image/jpeg:https://deetslive.com/wp-content/uploads/2022/10/Screen-Shot-2022-10-10-at-5.59.33-PM.jpg
END:VEVENT
BEGIN:VEVENT
DTSTART;TZID=America/Los_Angeles:20221021T193000
DTEND;TZID=America/Los_Angeles:20221021T193000
DTSTAMP:20260420T021606
CREATED:20221013T011455Z
LAST-MODIFIED:20221013T011515Z
UID:129327-1666380600-1666380600@deetslive.com
SUMMARY:NY Knicks vs. Detroit Pistons at Madison Square Garden\, New York City - Home Opener!!
DESCRIPTION:The 2022-23 Season is here! The Knicks have high expectations this season & the long road to the playoffs or even (gasp) The Finals\, begins here at home in Madison Square Garden in New York City. Don’t miss the home opener for 2022-23! \nNY Knicks vs. Detroit Pistons \nMadison Square Garden\, New York City \nFriday\, Oct. 21st\, 7:30pm \nTicketmaster \nStubHub
URL:https://deetslive.com/event/ny-knicks-vs-detroit-pistons-at-madison-square-garden-new-york-city-home-opener/
LOCATION:Madison Square Garden\, 4 Pennsylvania Plaza\, New York City\, New York\, 10001\, United States
CATEGORIES:New York/New Jersey,Sports
END:VEVENT
BEGIN:VEVENT
DTSTART;TZID=America/Los_Angeles:20221020T190000
DTEND;TZID=America/Los_Angeles:20221020T190000
DTSTAMP:20260420T021607
CREATED:20221011T043117Z
LAST-MODIFIED:20221013T042200Z
UID:129295-1666292400-1666292400@deetslive.com
SUMMARY:LA Lakers vs. LA Clippers at Crypto.com Arena\, Los Angeles
DESCRIPTION:It’s ON!! The Clippers season opener is technically an away game when they face their Crypto.com Arena roommates & rivals\, the Lakers. Don’t miss their first matchup of what is sure to be an exciting season for both teams! \nThursday\, Oct. 20th\, 7pm \nCrypro.com Arena\, Los Angeles \nTicketmaster \nStubHub
URL:https://deetslive.com/event/la-lakers-vs-la-clippers-at-crypto-com-arena-los-angeles/
LOCATION:Crypto.com Arena\, 1111 S. Figueroa St.\, Los Angeles\, Ca.\, 90015
CATEGORIES:Los Angeles,Sports
END:VEVENT
BEGIN:VEVENT
DTSTART;TZID=America/Los_Angeles:20221020T030000
DTEND;TZID=America/Los_Angeles:20221020T030000
DTSTAMP:20260420T021607
CREATED:20221013T195704Z
LAST-MODIFIED:20221013T195827Z
UID:129378-1666234800-1666234800@deetslive.com
SUMMARY:The B-52's Farewell Tour at The Venetian\, Las Vegas
DESCRIPTION:The B-52’s Farewell Tour \nThe Venetian\, Las Vegas \nWednesday\, Oct. 19th\, 8pm\nFriday\, Oct. 21st\, 8pm\nSaturday\, Oct. 22nd\, 8pm \nTicketmaster \nStubHub
URL:https://deetslive.com/event/the-b-52s-farewell-tour-at-the-venetian-las-vegas/
LOCATION:The Venetian Theatre at the Venetian Las Vegas\, 3355 S Las Vegas Blvd\, Las Vegas\, NV\, 89109
CATEGORIES:Las Vegas
ATTACH;FMTTYPE=image/jpeg:https://deetslive.com/wp-content/uploads/2022/10/Screen-Shot-2022-10-10-at-5.59.33-PM.jpg
END:VEVENT
BEGIN:VEVENT
DTSTART;TZID=America/Los_Angeles:20221014T210000
DTEND;TZID=America/Los_Angeles:20221014T210000
DTSTAMP:20260420T021607
CREATED:20221013T184755Z
LAST-MODIFIED:20221013T185129Z
UID:129370-1665781200-1665781200@deetslive.com
SUMMARY:Usher: My Way - The Vegas Residency at Dolby Live\, Park MGM\, Las Vegas
DESCRIPTION:Usher \nOctober:\nAll Shows\, 9pm \nFriday\, 14th\nSaturday\, 15th\nWednesday\, 19th\nFriday\, 21st\nSaturday\, 22nd\nWednesday\, 26th\nFriday\, 28th\nSaturday\, 29th \nTicketmaster
URL:https://deetslive.com/event/usher-my-way-the-vegas-residency-at-dolby-live-park-mgm-las-vegas-2/
LOCATION:Dolby Live at Park MGM\, 3770 S Las Vegas Blvd.\, Las Vegas\, NV\, 89109
CATEGORIES:Las Vegas,Music
ATTACH;FMTTYPE=image/jpeg:https://deetslive.com/wp-content/uploads/2022/10/Screen-Shot-2022-10-13-at-11.41.08-AM.jpg
END:VEVENT
BEGIN:VEVENT
DTSTART;TZID=UTC:20221018T200000
DTEND;TZID=UTC:20221018T200000
DTSTAMP:20260420T021607
CREATED:20220920T230827Z
LAST-MODIFIED:20220928T222444Z
UID:128555-1666123200-1666123200@deetslive.com
SUMMARY:Demi Lovato at The Beacon Theatre\, New York City
DESCRIPTION:Demi Lovato’s Holy Fvck Tour \nBeacon Theatre\, New York City \nTicketmaster \nStubHub
URL:https://deetslive.com/event/demi-lovato-at-the-beacon-theatre-nyc/
LOCATION:Beacon Theatre\, 2124 Broadway\, New York City\, NY\, 10023
CATEGORIES:Music,New York/New Jersey
ATTACH;FMTTYPE=image/jpeg:https://deetslive.com/wp-content/uploads/2022/09/Screen-Shot-2022-09-28-at-3.23.17-PM.jpg
END:VEVENT
BEGIN:VEVENT
DTSTART;TZID=America/New_York:20221019T193000
DTEND;TZID=America/New_York:20221019T193000
DTSTAMP:20260420T021607
CREATED:20221011T031708Z
LAST-MODIFIED:20221011T031836Z
UID:129289-1666207800-1666207800@deetslive.com
SUMMARY:Smashing Pumpkins + Jane's Addiction: Spirits On Fire Tour at Madison Square Garden\, New York City
DESCRIPTION:Smashing Pumpkins + Jane’s Addiction \nMadison Square Garden\, New York City \nWednesday\, Oct. 19th\, 7:30pm \nTicketmaster \nStubHub
URL:https://deetslive.com/event/smashing-pumpkins-janes-addiction-spirits-on-fire-tour-at-madison-square-garden-new-york-city/
LOCATION:Madison Square Garden\, 4 Pennsylvania Plaza\, New York City\, New York\, 10001\, United States
CATEGORIES:Music,New York/New Jersey
ATTACH;FMTTYPE=image/jpeg:https://deetslive.com/wp-content/uploads/2022/10/Screen-Shot-2022-10-10-at-8.07.38-PM.jpg
END:VEVENT
BEGIN:VEVENT
DTSTART;TZID=UTC:20221018T200000
DTEND;TZID=UTC:20221018T200000
DTSTAMP:20260420T021607
CREATED:20220920T230827Z
LAST-MODIFIED:20220928T222444Z
UID:128555-1666123200-1666123200@deetslive.com
SUMMARY:Demi Lovato at The Beacon Theatre\, New York City
DESCRIPTION:Demi Lovato’s Holy Fvck Tour \nBeacon Theatre\, New York City \nTicketmaster \nStubHub
URL:https://deetslive.com/event/demi-lovato-at-the-beacon-theatre-nyc/
LOCATION:Beacon Theatre\, 2124 Broadway\, New York City\, NY\, 10023
CATEGORIES:Music,New York/New Jersey
ATTACH;FMTTYPE=image/jpeg:https://deetslive.com/wp-content/uploads/2022/09/Screen-Shot-2022-09-28-at-3.23.17-PM.jpg
END:VEVENT
BEGIN:VEVENT
DTSTART;TZID=America/Los_Angeles:20221016T130500
DTEND;TZID=America/Los_Angeles:20221016T130500
DTSTAMP:20260420T021607
CREATED:20221013T031431Z
LAST-MODIFIED:20221013T032137Z
UID:129355-1665925500-1665925500@deetslive.com
SUMMARY:Los Angeles Rams vs. Carolina Panthers at SoFi Stadium\, Los Angeles
DESCRIPTION:LA Rams vs. Carolina Panthers \nSoFi Stadium\, Los Angeles \nSunday\, Oct. 16th\, 1:05pm \nTicketmaster \nStubHub
URL:https://deetslive.com/event/los-angeles-rams-vs-carolina-panthers-at-sofi-stadium-los-angeles/
LOCATION:SoFi Stadium\, 1001 Stadium Drive\, Inglewood\, California\, 90301
CATEGORIES:Los Angeles,Sports
END:VEVENT
BEGIN:VEVENT
DTSTART;TZID=America/New_York:20221016T130000
DTEND;TZID=America/New_York:20221016T170000
DTSTAMP:20260420T021607
CREATED:20221013T024330Z
LAST-MODIFIED:20221013T025302Z
UID:129344-1665925200-1665939600@deetslive.com
SUMMARY:New York Giants vs. Baltimore Ravens at MetLife Stadium\, New Jersey
DESCRIPTION:New York is flying from a huge win in London over the Packers and the Ravens are also coming off a win over the Bengals. Baltimore is favored to win the game\, but never count the G-Men out at home. \nNew York Giants vs. Baltimore Ravens \nMetLife Stadium \nSunday\, October\, 16th\, 1pm \nTicketmaster \nStubHub
URL:https://deetslive.com/event/new-york-giants-vs-baltimore-ravens-at-metlife-stadium-new-jersey/
LOCATION:MetLife Stadium\, 1 MetLife Stadium Dr.\, East Rutherford\, NJ\, 07073\, United States
CATEGORIES:New York/New Jersey,Sports
END:VEVENT
BEGIN:VEVENT
DTSTART;TZID=America/Los_Angeles:20221014T210000
DTEND;TZID=America/Los_Angeles:20221014T210000
DTSTAMP:20260420T021607
CREATED:20221013T184755Z
LAST-MODIFIED:20221013T185129Z
UID:129370-1665781200-1665781200@deetslive.com
SUMMARY:Usher: My Way - The Vegas Residency at Dolby Live\, Park MGM\, Las Vegas
DESCRIPTION:Usher \nOctober:\nAll Shows\, 9pm \nFriday\, 14th\nSaturday\, 15th\nWednesday\, 19th\nFriday\, 21st\nSaturday\, 22nd\nWednesday\, 26th\nFriday\, 28th\nSaturday\, 29th \nTicketmaster
URL:https://deetslive.com/event/usher-my-way-the-vegas-residency-at-dolby-live-park-mgm-las-vegas-2/
LOCATION:Dolby Live at Park MGM\, 3770 S Las Vegas Blvd.\, Las Vegas\, NV\, 89109
CATEGORIES:Las Vegas,Music
ATTACH;FMTTYPE=image/jpeg:https://deetslive.com/wp-content/uploads/2022/10/Screen-Shot-2022-10-13-at-11.41.08-AM.jpg
END:VEVENT
BEGIN:VEVENT
DTSTART;TZID=America/Los_Angeles:20221015T200000
DTEND;TZID=America/Los_Angeles:20221015T200000
DTSTAMP:20260420T021607
CREATED:20221013T000736Z
LAST-MODIFIED:20221013T000824Z
UID:129318-1665864000-1665864000@deetslive.com
SUMMARY:George Lopez at Toyota Arena\, Ontario\, Ca.
DESCRIPTION:George Lopez \nToyota Arena\, Ontario\, Ca. \nSaturday\, Oct. 15th\, 8pm \nTicketmaster
URL:https://deetslive.com/event/george-lopez-at-toyota-arena-ontario-ca/
LOCATION:Toyota Arena\, 4000 Ontario Center\, Ontario\, CA\, 91764
CATEGORIES:Comedy,Los Angeles
ATTACH;FMTTYPE=image/jpeg:https://deetslive.com/wp-content/uploads/2022/10/Screen-Shot-2022-10-12-at-5.04.32-PM.jpg
END:VEVENT
BEGIN:VEVENT
DTSTART;TZID=America/Los_Angeles:20221014T210000
DTEND;TZID=America/Los_Angeles:20221014T210000
DTSTAMP:20260420T021607
CREATED:20221013T184755Z
LAST-MODIFIED:20221013T185129Z
UID:129370-1665781200-1665781200@deetslive.com
SUMMARY:Usher: My Way - The Vegas Residency at Dolby Live\, Park MGM\, Las Vegas
DESCRIPTION:Usher \nOctober:\nAll Shows\, 9pm \nFriday\, 14th\nSaturday\, 15th\nWednesday\, 19th\nFriday\, 21st\nSaturday\, 22nd\nWednesday\, 26th\nFriday\, 28th\nSaturday\, 29th \nTicketmaster
URL:https://deetslive.com/event/usher-my-way-the-vegas-residency-at-dolby-live-park-mgm-las-vegas-2/
LOCATION:Dolby Live at Park MGM\, 3770 S Las Vegas Blvd.\, Las Vegas\, NV\, 89109
CATEGORIES:Las Vegas,Music
ATTACH;FMTTYPE=image/jpeg:https://deetslive.com/wp-content/uploads/2022/10/Screen-Shot-2022-10-13-at-11.41.08-AM.jpg
END:VEVENT
BEGIN:VEVENT
DTSTART;TZID=America/Los_Angeles:20221014T200000
DTEND;TZID=America/Los_Angeles:20221014T200000
DTSTAMP:20260420T021607
CREATED:20221013T203008Z
LAST-MODIFIED:20221013T203038Z
UID:129385-1665777600-1665777600@deetslive.com
SUMMARY:Katy Perry at Resorts World\, Las Vegas
DESCRIPTION:Katy Perry \nResorts World\, Las Vegas \nOctober: \nFriday 14th\, 8pm\nSaturday\, 15th\, 8pm\nWednesday\, 19th\, 8pm\nFriday\, 21st\, 8pm\nSaturday\, 22nd\, 8pm \nTicketmaster \nStubHub
URL:https://deetslive.com/event/katy-perry-at-resorts-world-las-vegas/
LOCATION:The Theatre at Resorts World\, 3000 S Las Vegas Blvd\, Las Vegas\, NV\, 89109\, United States
CATEGORIES:Las Vegas,Music
ATTACH;FMTTYPE=image/jpeg:https://deetslive.com/wp-content/uploads/2022/10/Screen-Shot-2022-10-13-at-1.13.45-PM.jpg
END:VEVENT
BEGIN:VEVENT
DTSTART;TZID=America/Los_Angeles:20221014T200000
DTEND;TZID=America/Los_Angeles:20221014T200000
DTSTAMP:20260420T021608
CREATED:20221013T203008Z
LAST-MODIFIED:20221013T203038Z
UID:129385-1665777600-1665777600@deetslive.com
SUMMARY:Katy Perry at Resorts World\, Las Vegas
DESCRIPTION:Katy Perry \nResorts World\, Las Vegas \nOctober: \nFriday 14th\, 8pm\nSaturday\, 15th\, 8pm\nWednesday\, 19th\, 8pm\nFriday\, 21st\, 8pm\nSaturday\, 22nd\, 8pm \nTicketmaster \nStubHub
URL:https://deetslive.com/event/katy-perry-at-resorts-world-las-vegas/
LOCATION:The Theatre at Resorts World\, 3000 S Las Vegas Blvd\, Las Vegas\, NV\, 89109\, United States
CATEGORIES:Las Vegas,Music
ATTACH;FMTTYPE=image/jpeg:https://deetslive.com/wp-content/uploads/2022/10/Screen-Shot-2022-10-13-at-1.13.45-PM.jpg
END:VEVENT
BEGIN:VEVENT
DTSTART;TZID=America/Los_Angeles:20221014T200000
DTEND;TZID=America/Los_Angeles:20221014T200000
DTSTAMP:20260420T021608
CREATED:20221012T211615Z
LAST-MODIFIED:20221012T234703Z
UID:129305-1665777600-1665777600@deetslive.com
SUMMARY:Jason Bonham at The Greek Theatre\, Los Angeles
DESCRIPTION:Jason Bonham \nGreek Theatre\, Los Angeles \nFriday\, Oct. 14th\, 8pm \nTicketmaster \nStubHub \n\n  \n 
URL:https://deetslive.com/event/jason-bonham-at-the-greek-theatre-los-angeles/
LOCATION:Greek Theatre\, 2700 N Vermont Ave\, Los Angeles\, 90027
CATEGORIES:Los Angeles,Music
ATTACH;FMTTYPE=image/jpeg:https://deetslive.com/wp-content/uploads/2022/10/Screen-Shot-2022-10-12-at-2.15.39-PM.jpg
END:VEVENT
BEGIN:VEVENT
DTSTART;TZID=America/Los_Angeles:20221014T193000
DTEND;TZID=America/Los_Angeles:20221014T193000
DTSTAMP:20260420T021608
CREATED:20221012T212629Z
LAST-MODIFIED:20221012T213959Z
UID:129309-1665775800-1665775800@deetslive.com
SUMMARY:Florence + The Machine at The Hollywood Bowl\, Los Angeles
DESCRIPTION:Florence + The Machine \nHollywood Bowl\, Los Angeles \nFriday\, Oct. 14th\, 2022 \nTicketmaster (Parking Also Available)
URL:https://deetslive.com/event/florence-the-machine-at-the-hollywood-bowl-los-angeles/
LOCATION:Hollywood Bowl\, 2301 N Highland Ave\, Los Angeles\, CA\, 90068
CATEGORIES:Los Angeles,Music
ATTACH;FMTTYPE=image/jpeg:https://deetslive.com/wp-content/uploads/2022/10/Screen-Shot-2022-10-12-at-2.25.12-PM.jpg
END:VEVENT
BEGIN:VEVENT
DTSTART;TZID=America/New_York:20221014T183000
DTEND;TZID=America/New_York:20221014T183000
DTSTAMP:20260420T021608
CREATED:20221011T030923Z
LAST-MODIFIED:20221011T031109Z
UID:129284-1665772200-1665772200@deetslive.com
SUMMARY:Smashing Pumpkins + Jane's Addiction: Spirits On Fire Tour at UBS Arena\, Elmont\, NY
DESCRIPTION:Smashing Pumpkins & Jane’s Addiction \nUBS Arena\, Elmont\, NY \nFriday\, Oct. 14th\, 6:30pm \nTicketmaster \nStubHub
URL:https://deetslive.com/event/smashing-pumpkins-janes-addiction-spirits-on-fire-tour-at-ubs-arena-elmont-ny/
LOCATION:UBS Arena\, 2400 Hempstead Turnpike\, Elmont\, New York\, 11003
CATEGORIES:Music,New York/New Jersey
ATTACH;FMTTYPE=image/jpeg:https://deetslive.com/wp-content/uploads/2022/10/Screen-Shot-2022-10-10-at-8.07.38-PM.jpg
END:VEVENT
BEGIN:VEVENT
DTSTART;TZID=America/New_York:20221013T233000
DTEND;TZID=America/New_York:20221013T233000
DTSTAMP:20260420T021608
CREATED:20221011T015111Z
LAST-MODIFIED:20221013T194659Z
UID:129278-1665703800-1665703800@deetslive.com
SUMMARY:The B-52's Farewell Tour at Beacon Theatre\, New York
DESCRIPTION:The B-52’s Farewell Tour! \nwith K.C. & The Sunshine Band & The Rezillos \nBeacon Theatre\, New York City \nThursday\, Oct. 13th\, 7:30pm \nFriday\, Oct. 14th\, 7:30pm \nTicketmaster \nStubHub \n 
URL:https://deetslive.com/event/the-b-52s-at-beacon-theatre-new-york/
LOCATION:Beacon Theatre\, 2124 Broadway\, New York City\, NY\, 10023
CATEGORIES:New York/New Jersey
ATTACH;FMTTYPE=image/jpeg:https://deetslive.com/wp-content/uploads/2022/10/Screen-Shot-2022-10-10-at-5.59.33-PM.jpg
END:VEVENT
BEGIN:VEVENT
DTSTART;TZID=America/New_York:20221013T233000
DTEND;TZID=America/New_York:20221013T233000
DTSTAMP:20260420T021608
CREATED:20221011T015111Z
LAST-MODIFIED:20221013T194659Z
UID:129278-1665703800-1665703800@deetslive.com
SUMMARY:The B-52's Farewell Tour at Beacon Theatre\, New York
DESCRIPTION:The B-52’s Farewell Tour! \nwith K.C. & The Sunshine Band & The Rezillos \nBeacon Theatre\, New York City \nThursday\, Oct. 13th\, 7:30pm \nFriday\, Oct. 14th\, 7:30pm \nTicketmaster \nStubHub \n 
URL:https://deetslive.com/event/the-b-52s-at-beacon-theatre-new-york/
LOCATION:Beacon Theatre\, 2124 Broadway\, New York City\, NY\, 10023
CATEGORIES:New York/New Jersey
ATTACH;FMTTYPE=image/jpeg:https://deetslive.com/wp-content/uploads/2022/10/Screen-Shot-2022-10-10-at-5.59.33-PM.jpg
END:VEVENT
BEGIN:VEVENT
DTSTART;TZID=America/New_York:20221012T200000
DTEND;TZID=America/New_York:20221012T200000
DTSTAMP:20260420T021608
CREATED:20221011T033102Z
LAST-MODIFIED:20221011T033102Z
UID:129291-1665604800-1665604800@deetslive.com
SUMMARY:Post Malone at Madison Square Garden\, New York City
DESCRIPTION:Post Malone \nMadison Square Garden\, New York City \nWednesday\, Oct. 12\, 8pm\nThursday\, Oct. 13th\, 8pm \nTicketmaster \nStubHub
URL:https://deetslive.com/event/post-malone-at-madison-square-garden-new-york-city/
LOCATION:Madison Square Garden\, 4 Pennsylvania Plaza\, New York City\, New York\, 10001\, United States
CATEGORIES:Music,New York/New Jersey
ATTACH;FMTTYPE=image/jpeg:https://deetslive.com/wp-content/uploads/2022/10/Screen-Shot-2022-10-10-at-8.25.45-PM.jpg
END:VEVENT
BEGIN:VEVENT
DTSTART;TZID=America/New_York:20221012T200000
DTEND;TZID=America/New_York:20221012T200000
DTSTAMP:20260420T021608
CREATED:20221011T033102Z
LAST-MODIFIED:20221011T033102Z
UID:129291-1665604800-1665604800@deetslive.com
SUMMARY:Post Malone at Madison Square Garden\, New York City
DESCRIPTION:Post Malone \nMadison Square Garden\, New York City \nWednesday\, Oct. 12\, 8pm\nThursday\, Oct. 13th\, 8pm \nTicketmaster \nStubHub
URL:https://deetslive.com/event/post-malone-at-madison-square-garden-new-york-city/
LOCATION:Madison Square Garden\, 4 Pennsylvania Plaza\, New York City\, New York\, 10001\, United States
CATEGORIES:Music,New York/New Jersey
ATTACH;FMTTYPE=image/jpeg:https://deetslive.com/wp-content/uploads/2022/10/Screen-Shot-2022-10-10-at-8.25.45-PM.jpg
END:VEVENT
BEGIN:VEVENT
DTSTART;TZID=America/New_York:20221009T200000
DTEND;TZID=America/New_York:20221009T200000
DTSTAMP:20260420T021608
CREATED:20220207T030000Z
LAST-MODIFIED:20220930T051819Z
UID:124536-1665345600-1665345600@deetslive.com
SUMMARY:Billy Joel at Madison Square Garden\, New York City
DESCRIPTION:Billy Joel’s monthly residency at New York’s Madison Square Garden is closing out 2022. \nTicketmaster       \nStubHub
URL:https://deetslive.com/event/billy-joel-at-madison-square-garden-nyc/
LOCATION:Madison Square Garden\, 4 Pennsylvania Plaza\, New York City\, New York\, 10001\, United States
CATEGORIES:Music,New York/New Jersey
ATTACH;FMTTYPE=image/jpeg:https://deetslive.com/wp-content/uploads/2022/02/Screen-Shot-2022-06-06-at-5.30.29-PM.jpg
END:VEVENT
END:VCALENDAR